BEGIN:VCALENDAR
VERSION:2.0
PRODID:IEEE vTools.Events//EN
CALSCALE:GREGORIAN
BEGIN:VTIMEZONE
TZID:Asia/Kolkata
BEGIN:STANDARD
DTSTART:19451014T230000
TZOFFSETFROM:+0630
TZOFFSETTO:+0530
TZNAME:IST
END:STANDARD
END:VTIMEZONE
BEGIN:VEVENT
DTSTAMP:20260217T182130Z
UID:B6F1EB28-3958-4B50-86AA-3EDEEB639B5D
DTSTART;TZID=Asia/Kolkata:20260724T090000
DTEND;TZID=Asia/Kolkata:20260726T190000
DESCRIPTION:Dear Students\, Researchers\, and Professors\,\n\nWarm greeting
 s from Maulana Azad National Institute of Technology (MANIT)\, Bhopal\, In
 dia.\n\nThe Department of Electrical Engineering\, MANIT Bhopal\, is pleas
 ed to announce the 2nd IEEE International Conference on Renewable Energy a
 nd Sustainable E-Mobility (RESEM-2026)\, to be held during 24–26 July 20
 26 at MANIT Bhopal\, Madhya Pradesh\, India.\n\nRESEM-2026 is technically 
 sponsored by IEEE MP Subsection and the IEEE PELS–IES Joint Chapter\, wi
 th technical co-sponsorship from IEEE Power &amp; Energy Society (PES) and IEE
 E Industry Applications Society (IAS).\n\nThe conference aims to provide a
  premier international platform for researchers\, academicians\, industry 
 professionals\, and students to present and exchange their latest research
  findings\, innovations\, and practical experiences in the areas of renewa
 ble energy systems\, power electronics\, electric mobility\, smart grids\,
  and sustainable energy technologies. The conference program will include 
 keynote lectures\, technical paper presentations\, and focused technical s
 essions.\n\nPublication\nAll submitted papers will undergo a rigorous peer
 -review process by at least two independent reviewers. Accepted and presen
 ted papers will be submitted for publication in the IEEE Xplore Digital Li
 brary and are expected to be indexed in Scopus\, Google Scholar\, and othe
 r major indexing databases\, subject to IEEE quality standards.\n\nImporta
 nt Dates\n• Paper Submission Opens: 10 December 2025\n• Full-Length Pa
 per Submission Deadline: 27 February 2026\n• Acceptance Notification Beg
 ins: 01 February 2026\n• Early Bird Registration Deadline: 23 May 2026\n
 • Regular Registration Deadline: 23 June 2026\n• Camera-Ready Paper Su
 bmission: 30 June 2026\n• Conference Dates: 24–26 July 2026\n\nConfere
 nce Tracks (including but not limited to):\n• E-Mobility and Electric Tr
 ansportation\n• EV Charging Infrastructure and Battery Technologies\n•
  Control of Inverter-Based Resources\n• Renewable and Hybrid Energy Syst
 ems\n• Power Electronics and Electrical Drives\n• Power System Stabili
 ty\, Dynamics\, and Control\n• Distributed Generation and Microgrids\n
 • Power Electronics Applications in Power Systems\n• Soft Computing in
  Electrical Engineering\n• Smart Grid Technologies\n• Robust Control a
 nd Instrumentation\n• AI and Machine Learning Applications in Electrical
  Systems\n\nAgenda: \nThe conference aims to provide a premier internation
 al platform for researchers\, academicians\, industry professionals\, and 
 students to present and exchange their latest research findings\, innovati
 ons\, and practical experiences in the areas of renewable energy systems\,
  power electronics\, electric mobility\, smart grids\, and sustainable ene
 rgy technologies. The conference program will include keynote lectures\, t
 echnical paper presentations\, and focused technical sessions.\n\nBldg: De
 partment of Electrical Engineering\, Maulana Azad National Institute of Te
 chnology\, Bhopal\, Madhya Pradesh\, India\, 462003
LOCATION:Bldg: Department of Electrical Engineering\, Maulana Azad National
  Institute of Technology\, Bhopal\, Madhya Pradesh\, India\, 462003
ORGANIZER:resemieee@gmail.com
SEQUENCE:53
SUMMARY:2nd IEEE International Conference on Renewable Energy and Sustainab
 le E-Mobility (RESEM-2026)
URL;VALUE=URI:https://events.vtools.ieee.org/m/533176
X-ALT-DESC:Description: &lt;br /&gt;&lt;div&gt;Dear Students\, Researchers\, and Profes
 sors\,&lt;/div&gt;\n&lt;div dir=&quot;auto&quot;&gt;&amp;nbsp\;&lt;/div&gt;\n&lt;div dir=&quot;auto&quot;&gt;Warm greeting
 s from Maulana Azad National Institute of Technology (MANIT)\, Bhopal\, In
 dia.&lt;/div&gt;\n&lt;div dir=&quot;auto&quot;&gt;&amp;nbsp\;&lt;/div&gt;\n&lt;div dir=&quot;auto&quot;&gt;The Department 
 of Electrical Engineering\, MANIT Bhopal\, is pleased to announce the 2nd 
 IEEE International Conference on Renewable Energy and Sustainable E-Mobili
 ty (RESEM-2026)\, to be held during &lt;strong&gt;24&amp;ndash\;26 July 2026&lt;/strong
 &gt; at MANIT Bhopal\, Madhya Pradesh\, India.&lt;/div&gt;\n&lt;div dir=&quot;auto&quot;&gt;&amp;nbsp\;
 &lt;/div&gt;\n&lt;div dir=&quot;auto&quot;&gt;RESEM-2026 is technically sponsored by IEEE MP Sub
 section and the IEEE PELS&amp;ndash\;IES Joint Chapter\, with technical co-spo
 nsorship from IEEE Power &amp;amp\; Energy Society (PES) and IEEE Industry App
 lications Society (IAS).&lt;/div&gt;\n&lt;div dir=&quot;auto&quot;&gt;&amp;nbsp\;&lt;/div&gt;\n&lt;div dir=&quot;a
 uto&quot;&gt;The conference aims to provide a premier international platform for r
 esearchers\, academicians\, industry professionals\, and students to prese
 nt and exchange their latest research findings\, innovations\, and practic
 al experiences in the areas of renewable energy systems\, power&amp;nbsp\;&lt;spa
 n class=&quot;il&quot;&gt;electronics&lt;/span&gt;\, electric mobility\, smart grids\, and su
 stainable energy technologies. The conference program will include keynote
  lectures\, technical paper presentations\, and focused technical sessions
 .&lt;/div&gt;\n&lt;div dir=&quot;auto&quot;&gt;&amp;nbsp\;&lt;/div&gt;\n&lt;div dir=&quot;auto&quot;&gt;Publication&lt;/div&gt;\
 n&lt;div dir=&quot;auto&quot;&gt;All submitted papers will undergo a rigorous peer-review 
 process by at least two independent reviewers. Accepted and presented pape
 rs will be submitted for publication in the IEEE Xplore Digital Library an
 d are expected to be indexed in Scopus\, Google Scholar\, and other major 
 indexing databases\, subject to IEEE quality standards.&lt;/div&gt;\n&lt;div dir=&quot;a
 uto&quot;&gt;&amp;nbsp\;&lt;/div&gt;\n&lt;div dir=&quot;auto&quot;&gt;&lt;strong&gt;Important Dates&lt;/strong&gt;&lt;/div&gt;
 \n&lt;div dir=&quot;auto&quot;&gt;&amp;bull\; Paper Submission Opens: 10 December 2025&lt;/div&gt;\n
 &lt;div dir=&quot;auto&quot;&gt;&amp;bull\; Full-Length Paper Submission Deadline: 27 February
  2026&lt;/div&gt;\n&lt;div dir=&quot;auto&quot;&gt;&amp;bull\; Acceptance Notification Begins: 01 Fe
 bruary 2026&lt;/div&gt;\n&lt;div dir=&quot;auto&quot;&gt;&amp;bull\; Early Bird Registration Deadlin
 e: 23 May 2026&lt;/div&gt;\n&lt;div dir=&quot;auto&quot;&gt;&amp;bull\; Regular Registration Deadlin
 e: 23 June 2026&lt;/div&gt;\n&lt;div dir=&quot;auto&quot;&gt;&amp;bull\; Camera-Ready Paper Submissi
 on: 30 June 2026&lt;/div&gt;\n&lt;div dir=&quot;auto&quot;&gt;&amp;bull\; Conference Dates: 24&amp;ndash
 \;26 July 2026&lt;/div&gt;\n&lt;div dir=&quot;auto&quot;&gt;&amp;nbsp\;&lt;/div&gt;\n&lt;div dir=&quot;auto&quot;&gt;Confe
 rence Tracks (including but not limited to):&lt;/div&gt;\n&lt;div dir=&quot;auto&quot;&gt;&amp;bull\
 ; E-Mobility and Electric Transportation&lt;/div&gt;\n&lt;div dir=&quot;auto&quot;&gt;&amp;bull\; EV
  Charging Infrastructure and Battery Technologies&lt;/div&gt;\n&lt;div dir=&quot;auto&quot;&gt;&amp;
 bull\; Control of Inverter-Based Resources&lt;/div&gt;\n&lt;div dir=&quot;auto&quot;&gt;&amp;bull\; 
 Renewable and Hybrid Energy Systems&lt;/div&gt;\n&lt;div dir=&quot;auto&quot;&gt;&amp;bull\; Power&amp;n
 bsp\;&lt;span class=&quot;il&quot;&gt;Electronics&lt;/span&gt;&amp;nbsp\;and Electrical Drives&lt;/div&gt;
 \n&lt;div dir=&quot;auto&quot;&gt;&amp;bull\; Power System Stability\, Dynamics\, and Control&lt;
 /div&gt;\n&lt;div dir=&quot;auto&quot;&gt;&amp;bull\; Distributed Generation and Microgrids&lt;/div&gt;
 \n&lt;div dir=&quot;auto&quot;&gt;&amp;bull\; Power&amp;nbsp\;&lt;span class=&quot;il&quot;&gt;Electronics&lt;/span&gt;&amp;
 nbsp\;Applications in Power Systems&lt;/div&gt;\n&lt;div dir=&quot;auto&quot;&gt;&amp;bull\; Soft Co
 mputing in Electrical Engineering&lt;/div&gt;\n&lt;div dir=&quot;auto&quot;&gt;&amp;bull\; Smart Gri
 d Technologies&lt;/div&gt;\n&lt;div dir=&quot;auto&quot;&gt;&amp;bull\; Robust Control and Instrumen
 tation&lt;/div&gt;\n&lt;div dir=&quot;auto&quot;&gt;&amp;bull\; AI and Machine Learning Applications
  in Electrical Systems&lt;/div&gt;\n&lt;div dir=&quot;auto&quot;&gt;&amp;nbsp\;&lt;/div&gt;&lt;br /&gt;&lt;br /&gt;Age
 nda: &lt;br /&gt;&lt;p&gt;The conference aims to provide a premier international platf
 orm for &lt;strong&gt;&lt;span style=&quot;mso-bidi-font-weight: bold\;&quot;&gt;researchers\, a
 cademicians\, industry professionals\, and students&lt;/span&gt;&lt;/strong&gt; to pre
 sent and exchange their latest research findings\, innovations\, and pract
 ical experiences in the areas of &lt;strong&gt;&lt;span style=&quot;mso-bidi-font-weight
 : bold\;&quot;&gt;renewable energy systems\, power electronics\, electric mobility
 \, smart grids\, and sustainable energy technologies&lt;/span&gt;&lt;/strong&gt;. The 
 conference program will include &lt;strong&gt;&lt;span style=&quot;mso-bidi-font-weight:
  bold\;&quot;&gt;keynote lectures\, technical paper presentations\, and focused te
 chnical sessions&lt;/span&gt;&lt;/strong&gt;.&lt;/p&gt;
END:VEVENT
END:VCALENDAR

