BEGIN:VCALENDAR
VERSION:2.0
PRODID:IEEE vTools.Events//EN
CALSCALE:GREGORIAN
BEGIN:VTIMEZONE
TZID:Asia/Kolkata
BEGIN:STANDARD
DTSTART:19451014T230000
TZOFFSETFROM:+0630
TZOFFSETTO:+0530
TZNAME:IST
END:STANDARD
END:VTIMEZONE
BEGIN:VEVENT
DTSTAMP:20260117T175326Z
UID:A9414FB4-C89D-4E85-91C4-25EF0C29DA18
DTSTART;TZID=Asia/Kolkata:20260227T080500
DTEND;TZID=Asia/Kolkata:20260227T150500
DESCRIPTION:The SYS45 Guest Lecture is an academic initiative designed to e
 nhance students’ understanding of system-based concepts and their real-w
 orld applications through expert insights. The session features an experie
 nced speaker who shares knowledge on emerging trends\, practical challenge
 s\, and advancements related to system design\, integration\, and analysis
 . This guest lecture provides an opportunity for students and faculty to e
 ngage in interactive learning\, gain industry-oriented perspectives\, and 
 bridge the gap between theoretical concepts and practical implementation i
 n the SYS45 domain.\n\nBldg: RJ BLOCK SEMINAR HALL\, R.M.K. ENGINEERING CO
 LLEGE\, KAVARAIPETTAI\, KAVARAIPETTAI\, Tamil Nadu\, India\, 601206
LOCATION:Bldg: RJ BLOCK SEMINAR HALL\, R.M.K. ENGINEERING COLLEGE\, KAVARAI
 PETTAI\, KAVARAIPETTAI\, Tamil Nadu\, India\, 601206
ORGANIZER:tdsubha2010@gmail.com
SEQUENCE:9
SUMMARY:SYS45- GUEST LECTURE
URL;VALUE=URI:https://events.vtools.ieee.org/m/533330
X-ALT-DESC:Description: &lt;br /&gt;&lt;p&gt;The &lt;strong data-start=&quot;77&quot; data-end=&quot;100&quot;
  data-is-only-node=&quot;&quot;&gt;SYS45 Guest Lecture&lt;/strong&gt; is an academic initiati
 ve designed to enhance students&amp;rsquo\; understanding of system-based conc
 epts and their real-world applications through expert insights. The sessio
 n features an experienced speaker who shares knowledge on emerging trends\
 , practical challenges\, and advancements related to system design\, integ
 ration\, and analysis. This guest lecture provides an opportunity for stud
 ents and faculty to engage in interactive learning\, gain industry-oriente
 d perspectives\, and bridge the gap between theoretical concepts and pract
 ical implementation in the SYS45 domain.&lt;/p&gt;
END:VEVENT
END:VCALENDAR

