BEGIN:VCALENDAR
VERSION:2.0
PRODID:IEEE vTools.Events//EN
CALSCALE:GREGORIAN
BEGIN:VTIMEZONE
TZID:Asia/Kolkata
BEGIN:STANDARD
DTSTART:19451014T230000
TZOFFSETFROM:+0630
TZOFFSETTO:+0530
TZNAME:IST
END:STANDARD
END:VTIMEZONE
BEGIN:VEVENT
DTSTAMP:20260117T181826Z
UID:88191CDE-CB30-4217-98FD-8F60D782308D
DTSTART;TZID=Asia/Kolkata:20260304T080500
DTEND;TZID=Asia/Kolkata:20260304T150500
DESCRIPTION:The VT06 Hands-On Workshop is designed to provide practical exp
 osure and skill-based learning in the VT domain through guided activities 
 and demonstrations. The workshop focuses on applying theoretical concepts 
 to real-world scenarios\, enabling participants to gain hands-on experienc
 e\, improve technical proficiency\, and understand practical challenges. T
 his interactive session encourages active participation\, problem-solving\
 , and experiential learning\, making it an effective platform for strength
 ening core concepts and technical confidence.\n\nBldg: RJ BLOCK SEMINAR HA
 LL\, R.M.K. ENGINEERING COLLEGE\, KAVARAIPETTAI\, KAVARAIPETTAI\, Tamil Na
 du\, India\, 601206
LOCATION:Bldg: RJ BLOCK SEMINAR HALL\, R.M.K. ENGINEERING COLLEGE\, KAVARAI
 PETTAI\, KAVARAIPETTAI\, Tamil Nadu\, India\, 601206
ORGANIZER:tdsubha2010@gmail.com
SEQUENCE:8
SUMMARY:VT06- HANDS-ON-WORKSHOP
URL;VALUE=URI:https://events.vtools.ieee.org/m/533337
X-ALT-DESC:Description: &lt;br /&gt;&lt;p&gt;The &lt;strong data-start=&quot;454&quot; data-end=&quot;480
 &quot;&gt;VT06 Hands-On Workshop&lt;/strong&gt; is designed to provide practical exposur
 e and skill-based learning in the VT domain through guided activities and 
 demonstrations. The workshop focuses on applying theoretical concepts to r
 eal-world scenarios\, enabling participants to gain hands-on experience\, 
 improve technical proficiency\, and understand practical challenges. This 
 interactive session encourages active participation\, problem-solving\, an
 d experiential learning\, making it an effective platform for strengthenin
 g core concepts and technical confidence.&lt;/p&gt;
END:VEVENT
END:VCALENDAR

