BEGIN:VCALENDAR
VERSION:2.0
PRODID:IEEE vTools.Events//EN
CALSCALE:GREGORIAN
BEGIN:VTIMEZONE
TZID:America/Los_Angeles
BEGIN:DAYLIGHT
DTSTART:20260308T030000
TZOFFSETFROM:-0800
TZOFFSETTO:-0700
RRULE:FREQ=YEARLY;BYDAY=2SU;BYMONTH=3
TZNAME:PDT
END:DAYLIGHT
BEGIN:STANDARD
DTSTART:20251102T010000
TZOFFSETFROM:-0700
TZOFFSETTO:-0800
RRULE:FREQ=YEARLY;BYDAY=1SU;BYMONTH=11
TZNAME:PST
END:STANDARD
END:VTIMEZONE
BEGIN:VEVENT
DTSTAMP:20260119T033552Z
UID:FEC2BAC1-D29B-498A-9B44-1E6F49121013
DTSTART;TZID=America/Los_Angeles:20260118T180000
DTEND;TZID=America/Los_Angeles:20260118T190000
DESCRIPTION:This meeting\, we have prepared responsibilities for each offic
 er to do for our next steps. This time\, we are preparing a PCB workshop t
 o be held on January 28th\, 2026. We have also requested funding for snack
 s and treats for a progress report event to be held on February 4th\, 2026
 .\n\nWe have also declared we will host the two following events: Arduino 
 workshop (2/11)\, Servo &amp; Motor Workshop (2/25).\n\nWe have assigned who w
 ill lead which workshop\, as well.\n\nWe have also gathered a final list o
 f parts to order for the project groups. Majority of the groups have all o
 f their parts - free of charge.\n\nVirtual: https://events.vtools.ieee.org
 /m/533478
LOCATION:Virtual: https://events.vtools.ieee.org/m/533478
ORGANIZER:aquinren@uw.edu
SEQUENCE:0
SUMMARY:IEEE UWT Student Branch - Winter 2026 Officer Meeting (#2) - Worksh
 op Preparation + Order Parts!
URL;VALUE=URI:https://events.vtools.ieee.org/m/533478
X-ALT-DESC:Description: &lt;br /&gt;&lt;p&gt;This meeting\, we have prepared responsibi
 lities for each officer to do for our next steps. This time\, we are prepa
 ring a PCB workshop to be held on January 28th\, 2026. We have also reques
 ted funding for snacks and treats for a progress report event to be held o
 n February 4th\, 2026.&amp;nbsp\;&lt;/p&gt;\n&lt;p&gt;We have also declared we will host t
 he two following events: Arduino workshop (2/11)\, Servo &amp;amp\; Motor Work
 shop (2/25).&amp;nbsp\;&lt;/p&gt;\n&lt;p&gt;We have assigned who will lead which workshop\
 , as well.&amp;nbsp\;&lt;/p&gt;\n&lt;p&gt;We have also gathered a final list of parts to o
 rder for the project groups. Majority of the groups have all of their part
 s - free of charge.&amp;nbsp\;&lt;/p&gt;
END:VEVENT
END:VCALENDAR

