BEGIN:VCALENDAR
VERSION:2.0
PRODID:IEEE vTools.Events//EN
CALSCALE:GREGORIAN
BEGIN:VTIMEZONE
TZID:Pacific/Honolulu
BEGIN:STANDARD
DTSTART:19470608T023000
TZOFFSETFROM:-1130
TZOFFSETTO:-1000
TZNAME:HST
END:STANDARD
END:VTIMEZONE
BEGIN:VEVENT
DTSTAMP:20260419T085929Z
UID:3742580F-DF54-4FD4-B57A-741988639F6B
DTSTART;TZID=Pacific/Honolulu:20260514T173000
DTEND;TZID=Pacific/Honolulu:20260514T193000
DESCRIPTION:Driving Range\n\nHonolulu\, Hawaii\, United States
LOCATION:Honolulu\, Hawaii\, United States
ORGANIZER:kmlauritz@gmail.com 
SEQUENCE:8
SUMMARY:HOLD - YP Driving Range Social
URL;VALUE=URI:https://events.vtools.ieee.org/m/533509
X-ALT-DESC:Description: &lt;br /&gt;&lt;p&gt;Driving Range&lt;/p&gt;
END:VEVENT
END:VCALENDAR

