BEGIN:VCALENDAR
VERSION:2.0
PRODID:IEEE vTools.Events//EN
CALSCALE:GREGORIAN
BEGIN:VTIMEZONE
TZID:America/Los_Angeles
BEGIN:DAYLIGHT
DTSTART:20260308T030000
TZOFFSETFROM:-0800
TZOFFSETTO:-0700
RRULE:FREQ=YEARLY;BYDAY=2SU;BYMONTH=3
TZNAME:PDT
END:DAYLIGHT
BEGIN:STANDARD
DTSTART:20251102T010000
TZOFFSETFROM:-0700
TZOFFSETTO:-0800
RRULE:FREQ=YEARLY;BYDAY=1SU;BYMONTH=11
TZNAME:PST
END:STANDARD
END:VTIMEZONE
BEGIN:VEVENT
DTSTAMP:20260218T023440Z
UID:CBFD938F-8124-4447-9075-9DF83F3A2B12
DTSTART;TZID=America/Los_Angeles:20260125T110000
DTEND;TZID=America/Los_Angeles:20260125T120000
DESCRIPTION:IEEE Club Pancake Breakfast for club members and the engineerin
 g department.\n\nCo-sponsored by: Kolby Kriegelstein\n\n19 Rosy Lane\, Wal
 la Walla\, Washington\, United States\, 99362
LOCATION:19 Rosy Lane\, Walla Walla\, Washington\, United States\, 99362
ORGANIZER:nguyjo@outlook.com
SEQUENCE:9
SUMMARY:Pancake Breakfast - Winter Quarter
URL;VALUE=URI:https://events.vtools.ieee.org/m/533599
X-ALT-DESC:Description: &lt;br /&gt;&lt;p&gt;IEEE Club Pancake Breakfast for club membe
 rs and the engineering department.&lt;/p&gt;
END:VEVENT
END:VCALENDAR

