BEGIN:VCALENDAR
VERSION:2.0
PRODID:IEEE vTools.Events//EN
CALSCALE:GREGORIAN
BEGIN:VTIMEZONE
TZID:Pacific/Honolulu
BEGIN:STANDARD
DTSTART:19470608T023000
TZOFFSETFROM:-1130
TZOFFSETTO:-1000
TZNAME:HST
END:STANDARD
END:VTIMEZONE
BEGIN:VEVENT
DTSTAMP:20260202T051759Z
UID:67BB4981-8321-4CFD-803E-90AFC4BA96C1
DTSTART;TZID=Pacific/Honolulu:20260127T173000
DTEND;TZID=Pacific/Honolulu:20260127T183000
DESCRIPTION:January 2026 ExCom meeting. This will be hosted virtually via W
 ebex.\n\nThis will be a brief meeting as we start the year. We will introd
 uce some of our new Executive Committee members and discuss the broad agen
 da for the year. If you have Chapter/Affinity Group updates or other annou
 ncements and discussion points you would like to add to the agenda\, pleas
 e send them to the Section Chair Justin Erece &lt;justin.erece@ieee.org&gt; 2 da
 ys in advance.\n\nVirtual: https://events.vtools.ieee.org/m/533819
LOCATION:Virtual: https://events.vtools.ieee.org/m/533819
ORGANIZER:justin.erece@ieee.org
SEQUENCE:12
SUMMARY:IEEE Hawaii January ExCom
URL;VALUE=URI:https://events.vtools.ieee.org/m/533819
X-ALT-DESC:Description: &lt;br /&gt;&lt;p&gt;January 2026 ExCom meeting. This will be h
 osted virtually via Webex.&lt;/p&gt;\n&lt;p&gt;This will be a brief meeting as we star
 t the year. We will introduce&amp;nbsp\;some of our new Executive Committee me
 mbers and discuss the broad agenda for the year. If you have Chapter/Affin
 ity Group updates or other announcements and discussion points you would l
 ike to add to the agenda\, please send them to the Section Chair Justin Er
 ece &amp;lt\;justin.erece@ieee.org&amp;gt\; 2 days in advance.&lt;/p&gt;
END:VEVENT
END:VCALENDAR

