BEGIN:VCALENDAR
VERSION:2.0
PRODID:IEEE vTools.Events//EN
CALSCALE:GREGORIAN
BEGIN:VTIMEZONE
TZID:Pacific/Honolulu
BEGIN:STANDARD
DTSTART:19470608T023000
TZOFFSETFROM:-1130
TZOFFSETTO:-1000
TZNAME:HST
END:STANDARD
END:VTIMEZONE
BEGIN:VEVENT
DTSTAMP:20260304T093822Z
UID:1E01065A-C6C0-481D-8F99-34379957B0D8
DTSTART;TZID=Pacific/Honolulu:20260129T170000
DTEND;TZID=Pacific/Honolulu:20260129T200000
DESCRIPTION:Join us at the ATM Learning Commons for a pizza party where you
  can grab a slice\, enjoy FIJI Water\, and share your suggestions for futu
 re events.\n\n1 Aloha Tower Dr\, Honolulu\, Hawaii\, United States\, 96813
LOCATION:1 Aloha Tower Dr\, Honolulu\, Hawaii\, United States\, 96813
ORGANIZER:kassnaia@gmail.com
SEQUENCE:54
SUMMARY:Welcome Social
URL;VALUE=URI:https://events.vtools.ieee.org/m/533822
X-ALT-DESC:Description: &lt;br /&gt;&lt;p&gt;Join us at the ATM Learning Commons for a 
 pizza party where you can grab a slice\, enjoy FIJI Water\, and share your
  suggestions for future events.&lt;/p&gt;
END:VEVENT
END:VCALENDAR

