BEGIN:VCALENDAR
VERSION:2.0
PRODID:IEEE vTools.Events//EN
CALSCALE:GREGORIAN
BEGIN:VTIMEZONE
TZID:Asia/Kolkata
BEGIN:STANDARD
DTSTART:19451014T230000
TZOFFSETFROM:+0630
TZOFFSETTO:+0530
TZNAME:IST
END:STANDARD
END:VTIMEZONE
BEGIN:VEVENT
DTSTAMP:20260121T164140Z
UID:DF5A5046-9708-4FCE-90C9-A32E7C1ABE92
DTSTART;TZID=Asia/Kolkata:20260123T140000
DTEND;TZID=Asia/Kolkata:20260123T150000
DESCRIPTION:· Multiphysics Modeling and Design o[]f RF Devices and Systems
  Based on Nanostructured Materials\n\nSpeaker(s): Prof Davide Mencarelli\,
  \n\nAgenda: \nTo equip the IEEE members and students with the importance 
 RF Devices and Systems based on low dimensional materials through modellin
 g\n\nVirtual: https://events.vtools.ieee.org/m/533899
LOCATION:Virtual: https://events.vtools.ieee.org/m/533899
ORGANIZER:thirmal_ch@vnrvjiet.in
SEQUENCE:26
SUMMARY:Advanced Modeling and Design of RF Devices and Systems based on low
  dimensional materials
URL;VALUE=URI:https://events.vtools.ieee.org/m/533899
X-ALT-DESC:Description: &lt;br /&gt;&lt;p class=&quot;MsoPlainText&quot; style=&quot;margin-left: .
 25in\; text-indent: -.25in\; mso-list: l0 level1 lfo1\; tab-stops: list .2
 5in left 135.0pt\;&quot;&gt;&lt;!-- [if !supportLists]--&gt;&lt;span lang=&quot;X-NONE&quot; style=&quot;f
 ont-family: Symbol\; mso-fareast-font-family: Symbol\; mso-bidi-font-famil
 y: Symbol\;&quot;&gt;&lt;span style=&quot;mso-list: Ignore\;&quot;&gt;&amp;middot\;&lt;span style=&quot;font: 
 7.0pt &#39;Times New Roman&#39;\;&quot;&gt;&amp;nbsp\;&amp;nbsp\;&amp;nbsp\;&amp;nbsp\;&amp;nbsp\;&amp;nbsp\;&amp;nbsp
 \; &lt;/span&gt;&lt;/span&gt;&lt;/span&gt;&lt;!--[endif]--&gt;&lt;span style=&quot;font-family: &#39;Arial&#39;\,s
 ans-serif\; mso-bidi-font-family: &#39;Times New Roman&#39;\; color: #1f49d9\; mso
 -ansi-language: EN-US\;&quot;&gt;Multiphysics Modeling and Design o&lt;img src=&quot;https
 ://events.vtools.ieee.org/vtools_ui/media/display/cc532bf9-302d-4550-a759-
 c5cba63a26c5&quot; alt=&quot;&quot;&gt;f RF Devices and Systems Based on Nanostructured Mate
 rials&lt;/span&gt;&lt;/p&gt;&lt;br /&gt;&lt;br /&gt;Agenda: &lt;br /&gt;&lt;p&gt;To equip the IEEE members and
  students with the importance RF Devices and Systems based on low dimensio
 nal materials through modelling&lt;/p&gt;
END:VEVENT
END:VCALENDAR

