BEGIN:VCALENDAR
VERSION:2.0
PRODID:IEEE vTools.Events//EN
CALSCALE:GREGORIAN
BEGIN:VTIMEZONE
TZID:America/Chicago
BEGIN:DAYLIGHT
DTSTART:20260308T030000
TZOFFSETFROM:-0600
TZOFFSETTO:-0500
RRULE:FREQ=YEARLY;BYDAY=2SU;BYMONTH=3
TZNAME:CDT
END:DAYLIGHT
BEGIN:STANDARD
DTSTART:20251102T010000
TZOFFSETFROM:-0500
TZOFFSETTO:-0600
RRULE:FREQ=YEARLY;BYDAY=1SU;BYMONTH=11
TZNAME:CST
END:STANDARD
END:VTIMEZONE
BEGIN:VEVENT
DTSTAMP:20260302T194114Z
UID:AF38592B-10A9-4E65-A21F-FE30457D59E0
DTSTART;TZID=America/Chicago:20260226T120000
DTEND;TZID=America/Chicago:20260226T140000
DESCRIPTION:Social meeting mixed in with what is happening in the IEEE New 
 Orleans Section and proposed future meetings\n\nCo-sponsored by: Richard M
 iller\, Chair North Lake Life Member Affinity group\n\nAgenda: \nIEEE Nort
 h Lake Life Member meeting February 26\, 2026\, starting at 12:00pm Noon\n
 \nLocation:\n\n702 Water St.\, Madisonville\, LA 70447 USA.\n\nThe restaur
 ant has a limit of 25 (twenty-five) people guests per group.\n\n12:00PM So
 cial meeting and lunch ordering\n\n12:30PM Luncheon social\n\n1:00PM Meeti
 ng opens with introduction of attendees\n\n1:10PM Old Business: Proposed T
 echnical Meeting\n\nNew business: Richard W. Miller\n\nIf available Franci
 s Gros\n\nWill update us on what is happening in IEEE HQ\n\n2:00PM  Motion
  to adjourn\n\nNext meeting will be March 26\, 2026\, at the same location
  and time.\n\nTom\n\nMorton&#39;s Seafood Restaurant &amp; Bar\, 702 Water Street\
 , Madisonville\, Louisiana\, United States\, 70115
LOCATION:Morton&#39;s Seafood Restaurant &amp; Bar\, 702 Water Street\, Madisonvill
 e\, Louisiana\, United States\, 70115
ORGANIZER:tslack@bellsouth.net
SEQUENCE:10
SUMMARY:North Lake Life Member Monthly Meeting February 26\, 2026\, startin
 g at 12 noon
URL;VALUE=URI:https://events.vtools.ieee.org/m/533902
X-ALT-DESC:Description: &lt;br /&gt;&lt;p&gt;Social meeting mixed in with what is happe
 ning in the IEEE New Orleans Section and proposed future meetings&lt;/p&gt;&lt;br /
 &gt;&lt;br /&gt;Agenda: &lt;br /&gt;&lt;p class=&quot;MsoNormal&quot; style=&quot;margin-bottom: 0in\; line
 -height: normal\; background: white\;&quot;&gt;&lt;span style=&quot;font-size: 16.0pt\; fo
 nt-family: &#39;Bookman Old Style&#39;\,serif\; mso-fareast-font-family: &#39;Times Ne
 w Roman&#39;\; mso-bidi-font-family: &#39;Times New Roman&#39;\; color: black\;&quot;&gt;IEEE 
 North Lake Life Member meeting February 26\, 2026\, starting at 12:00pm No
 on&amp;nbsp\;&lt;/span&gt;&lt;/p&gt;\n&lt;p class=&quot;MsoNormal&quot; style=&quot;margin-bottom: 0in\; lin
 e-height: normal\; background: white\;&quot;&gt;&lt;span style=&quot;font-size: 16.0pt\; f
 ont-family: &#39;Bookman Old Style&#39;\,serif\; mso-fareast-font-family: &#39;Times N
 ew Roman&#39;\; mso-bidi-font-family: &#39;Times New Roman&#39;\; color: black\;&quot;&gt;&amp;nbs
 p\;&lt;/span&gt;&lt;/p&gt;\n&lt;p class=&quot;MsoNormal&quot; style=&quot;margin-bottom: 0in\; line-heig
 ht: normal\; background: white\;&quot;&gt;&lt;span style=&quot;font-size: 16.0pt\; font-fa
 mily: &#39;Bookman Old Style&#39;\,serif\; mso-fareast-font-family: &#39;Times New Rom
 an&#39;\; mso-bidi-font-family: &#39;Times New Roman&#39;\; color: black\;&quot;&gt;Location:&lt;
 /span&gt;&lt;/p&gt;\n&lt;p class=&quot;MsoNormal&quot; style=&quot;margin-bottom: 0in\; line-height: 
 normal\; background: white\;&quot;&gt;&lt;span style=&quot;font-size: 16.0pt\; font-family
 : &#39;Bookman Old Style&#39;\,serif\; mso-fareast-font-family: &#39;Times New Roman&#39;\
 ; mso-bidi-font-family: &#39;Times New Roman&#39;\; color: black\;&quot;&gt;702 Water St.\
 , Madisonville\, LA 70447 USA.&lt;/span&gt;&lt;/p&gt;\n&lt;p class=&quot;MsoNormal&quot; style=&quot;mar
 gin-bottom: 0in\; line-height: normal\; background: white\;&quot;&gt;&lt;span style=&quot;
 font-size: 16.0pt\; font-family: &#39;Bookman Old Style&#39;\,serif\; mso-fareast-
 font-family: &#39;Times New Roman&#39;\; mso-bidi-font-family: &#39;Times New Roman&#39;\;
  color: black\;&quot;&gt;The restaurant has a limit of 25 (twenty-five) people gue
 sts per group.&lt;/span&gt;&lt;/p&gt;\n&lt;p class=&quot;MsoNormal&quot; style=&quot;margin-bottom: 0in\
 ; line-height: normal\; background: white\;&quot;&gt;&lt;span style=&quot;font-size: 16.0p
 t\; font-family: &#39;Bookman Old Style&#39;\,serif\; mso-fareast-font-family: &#39;Ti
 mes New Roman&#39;\; mso-bidi-font-family: &#39;Times New Roman&#39;\; color: black\;&quot;
 &gt;&amp;nbsp\;&lt;/span&gt;&lt;/p&gt;\n&lt;p class=&quot;MsoNormal&quot; style=&quot;margin-bottom: 0in\; line
 -height: normal\; background: white\;&quot;&gt;&lt;span style=&quot;font-size: 16.0pt\; fo
 nt-family: &#39;Bookman Old Style&#39;\,serif\; mso-fareast-font-family: &#39;Times Ne
 w Roman&#39;\; mso-bidi-font-family: &#39;Times New Roman&#39;\; color: black\;&quot;&gt;12:00
 PM&lt;span style=&quot;mso-tab-count: 2\;&quot;&gt;&amp;nbsp\;&amp;nbsp\;&amp;nbsp\;&amp;nbsp\;&amp;nbsp\;&amp;nbs
 p\;&amp;nbsp\; &lt;/span&gt;Social meeting and lunch ordering&amp;nbsp\;&lt;/span&gt;&lt;/p&gt;\n&lt;p 
 class=&quot;MsoNormal&quot; style=&quot;margin-bottom: 0in\; line-height: normal\; backgr
 ound: white\;&quot;&gt;&lt;span style=&quot;font-size: 16.0pt\; font-family: &#39;Bookman Old 
 Style&#39;\,serif\; mso-fareast-font-family: &#39;Times New Roman&#39;\; mso-bidi-font
 -family: &#39;Times New Roman&#39;\; color: black\;&quot;&gt;12:30PM&lt;span style=&quot;mso-tab-c
 ount: 2\;&quot;&gt;&amp;nbsp\;&amp;nbsp\;&amp;nbsp\;&amp;nbsp\;&amp;nbsp\;&amp;nbsp\;&amp;nbsp\; &lt;/span&gt;Lunche
 on social&lt;/span&gt;&lt;/p&gt;\n&lt;p class=&quot;MsoNormal&quot; style=&quot;margin-bottom: 0in\; lin
 e-height: normal\; background: white\;&quot;&gt;&lt;span style=&quot;font-size: 16.0pt\; f
 ont-family: &#39;Bookman Old Style&#39;\,serif\; mso-fareast-font-family: &#39;Times N
 ew Roman&#39;\; mso-bidi-font-family: &#39;Times New Roman&#39;\; color: black\;&quot;&gt;1:00
 PM&lt;span style=&quot;mso-tab-count: 2\;&quot;&gt;&amp;nbsp\;&amp;nbsp\;&amp;nbsp\;&amp;nbsp\;&amp;nbsp\;&amp;nbs
 p\;&amp;nbsp\;&amp;nbsp\; &lt;/span&gt;Meeting opens with introduction of attendees&lt;/spa
 n&gt;&lt;/p&gt;\n&lt;p class=&quot;MsoNormal&quot; style=&quot;margin-bottom: 0in\; line-height: norm
 al\; background: white\;&quot;&gt;&lt;span style=&quot;font-size: 16.0pt\; font-family: &#39;B
 ookman Old Style&#39;\,serif\; mso-fareast-font-family: &#39;Times New Roman&#39;\; ms
 o-bidi-font-family: &#39;Times New Roman&#39;\; color: black\;&quot;&gt;1:10PM&lt;span style=
 &quot;mso-tab-count: 2\;&quot;&gt;&amp;nbsp\;&amp;nbsp\;&amp;nbsp\;&amp;nbsp\;&amp;nbsp\;&amp;nbsp\;&amp;nbsp\;&amp;nbs
 p\; &lt;/span&gt;Old Business: Proposed Technical Meeting&lt;/span&gt;&lt;/p&gt;\n&lt;p class=&quot;
 MsoNormal&quot; style=&quot;text-indent: .5in\; line-height: normal\; background: wh
 ite\; margin: 0in 0in 0in 1.0in\;&quot;&gt;&lt;span style=&quot;font-size: 16.0pt\; font-f
 amily: &#39;Bookman Old Style&#39;\,serif\; mso-fareast-font-family: &#39;Times New Ro
 man&#39;\; mso-bidi-font-family: &#39;Times New Roman&#39;\; color: black\;&quot;&gt;New busin
 ess: Richard W. Miller&lt;/span&gt;&lt;/p&gt;\n&lt;p class=&quot;MsoNormal&quot; style=&quot;text-indent
 : .5in\; line-height: normal\; background: white\; margin: 0in 0in 0in 1.0
 in\;&quot;&gt;&lt;span style=&quot;font-size: 16.0pt\; font-family: &#39;Bookman Old Style&#39;\,s
 erif\; mso-fareast-font-family: &#39;Times New Roman&#39;\; mso-bidi-font-family: 
 &#39;Times New Roman&#39;\; color: black\;&quot;&gt;If available Francis Gros&lt;/span&gt;&lt;/p&gt;\n
 &lt;p class=&quot;MsoNormal&quot; style=&quot;text-indent: .5in\; line-height: normal\; back
 ground: white\; margin: 0in 0in 0in 1.0in\;&quot;&gt;&lt;span style=&quot;font-size: 16.0p
 t\; font-family: &#39;Bookman Old Style&#39;\,serif\; mso-fareast-font-family: &#39;Ti
 mes New Roman&#39;\; mso-bidi-font-family: &#39;Times New Roman&#39;\; color: black\;&quot;
 &gt;Will update us on what is happening in&amp;nbsp\;&amp;nbsp\;&amp;nbsp\;IEEE HQ&lt;/span&gt;
 &lt;/p&gt;\n&lt;p class=&quot;MsoNormal&quot; style=&quot;margin-bottom: 0in\; line-height: normal
 \; background: white\;&quot;&gt;&lt;span style=&quot;font-size: 16.0pt\; font-family: &#39;Boo
 kman Old Style&#39;\,serif\; mso-fareast-font-family: &#39;Times New Roman&#39;\; mso-
 bidi-font-family: &#39;Times New Roman&#39;\; color: black\;&quot;&gt;2:00PM&amp;nbsp\;&amp;nbsp\;
 &amp;nbsp\;&amp;nbsp\;&amp;nbsp\;&amp;nbsp\; &lt;span style=&quot;mso-tab-count: 1\;&quot;&gt;&amp;nbsp\; &lt;/sp
 an&gt;Motion to adjourn&lt;/span&gt;&lt;/p&gt;\n&lt;p class=&quot;MsoNormal&quot; style=&quot;margin-bottom
 : 0in\; line-height: normal\; background: white\;&quot;&gt;&lt;span style=&quot;font-size:
  16.0pt\; font-family: &#39;Bookman Old Style&#39;\,serif\; mso-fareast-font-famil
 y: &#39;Times New Roman&#39;\; mso-bidi-font-family: &#39;Times New Roman&#39;\; color: bl
 ack\;&quot;&gt;&amp;nbsp\;&lt;/span&gt;&lt;/p&gt;\n&lt;p class=&quot;MsoNormal&quot; style=&quot;margin-bottom: 0in\
 ; line-height: normal\; background: white\;&quot;&gt;&lt;span style=&quot;font-size: 16.0p
 t\; font-family: &#39;Bookman Old Style&#39;\,serif\; mso-fareast-font-family: &#39;Ti
 mes New Roman&#39;\; mso-bidi-font-family: &#39;Times New Roman&#39;\; color: black\;&quot;
 &gt;Next meeting will be March 26\, 2026\, at the same location and time.&lt;/sp
 an&gt;&lt;/p&gt;\n&lt;p class=&quot;MsoNormal&quot; style=&quot;margin-bottom: 0in\; line-height: nor
 mal\; background: white\;&quot;&gt;&lt;span style=&quot;font-size: 16.0pt\; font-family: &#39;
 Bookman Old Style&#39;\,serif\; mso-fareast-font-family: &#39;Times New Roman&#39;\; m
 so-bidi-font-family: &#39;Times New Roman&#39;\; color: black\;&quot;&gt;&amp;nbsp\;&lt;/span&gt;&lt;/p
 &gt;\n&lt;p class=&quot;MsoNormal&quot; style=&quot;margin-bottom: 0in\; line-height: normal\; 
 background: white\;&quot;&gt;&lt;span style=&quot;font-size: 16.0pt\; font-family: &#39;Bookma
 n Old Style&#39;\,serif\; mso-fareast-font-family: &#39;Times New Roman&#39;\; mso-bid
 i-font-family: &#39;Times New Roman&#39;\; color: black\;&quot;&gt;Tom&lt;/span&gt;&lt;/p&gt;
END:VEVENT
END:VCALENDAR

