BEGIN:VCALENDAR
VERSION:2.0
PRODID:IEEE vTools.Events//EN
CALSCALE:GREGORIAN
BEGIN:VTIMEZONE
TZID:America/New_York
BEGIN:DAYLIGHT
DTSTART:20260308T030000
TZOFFSETFROM:-0500
TZOFFSETTO:-0400
RRULE:FREQ=YEARLY;BYDAY=2SU;BYMONTH=3
TZNAME:EDT
END:DAYLIGHT
BEGIN:STANDARD
DTSTART:20251102T010000
TZOFFSETFROM:-0400
TZOFFSETTO:-0500
RRULE:FREQ=YEARLY;BYDAY=1SU;BYMONTH=11
TZNAME:EST
END:STANDARD
END:VTIMEZONE
BEGIN:VEVENT
DTSTAMP:20260124T043823Z
UID:92412DBB-2DBF-401A-9520-BBD144B8F257
DTSTART;TZID=America/New_York:20260218T110000
DTEND;TZID=America/New_York:20260218T120000
DESCRIPTION:Abstract:\n\nThe convergence of Artificial Intelligence (AI) an
 d 5G private networks is redefining the landscape of industrial automation
 . As enterprises look for secure\, resilient\, and high-performance infras
 tructure\, AI-enabled 5G private networks emerge as a foundational technol
 ogy empowering real-time decision-making\, predictive maintenance\, and in
 telligent orchestration at the edge. This session explores how industries 
 such as oil &amp; gas\, manufacturing\, and utilities are leveraging AI and 5G
  to drive operational efficiency\, safety\, and scalability. We will discu
 ss deployment architectures\, transformative use cases\, and lessons from 
 early adopters\, with a focus on the U.S. market’s rapid progress enable
 d by CBRS spectrum and hyperscale ecosystems. Attendees will gain insights
  into how AI and 5G together form the dual engines of Industry 4.0 unlocki
 ng new levels of agility\, intelligence\, and control. Join us to understa
 nd why private networks are no longer a luxury but an industrial necessity
 .\n\nTopics covered:\n\n• What is 5G private network and why 5G?\n\n• 
 Industry 4.0 Transformation Vision for Industry\n\n• Why Industries Need
  AI + 5G Now\n\n• Transformative AI + 5G Use Cases Across Industries\n\n
 • U.S. Market Trends: 5G Private Network Adoption\n\n• Conclusion &amp; Q&amp;
 A\n\n*This webinar will be recorded\n\nSpeaker Bio\nJunaid Ahmed is a Tele
 com AI Strategist with over 16 years of experience in core network design\
 , industrial connectivity\, and digital transformation. He leads strategic
  initiatives focused on AI-powered 5G private networks\, autonomous networ
 k evolution\, and intelligent service orchestration. Junaid has driven lar
 ge-scale projects across oil &amp; gas\, manufacturing\, and utilities bridgin
 g technology and business to enable Industry 4.0. He is a frequent speaker
  at global telecom forums and contributes to advancing AI integration in t
 elecom infrastructure\, with a mission to build agile\, secure\, and futur
 e-ready industrial networks.\n\nCo-sponsored by: IEEE Future Networks INGR
  Committee\n\nVirtual: https://events.vtools.ieee.org/m/534038
LOCATION:Virtual: https://events.vtools.ieee.org/m/534038
ORGANIZER:c.polk@comsoc.org
SEQUENCE:9
SUMMARY:IEEE Webinar - AI-Enabled 5G Private Networks: Accelerating Industr
 ial Automation and Intelligence
URL;VALUE=URI:https://events.vtools.ieee.org/m/534038
X-ALT-DESC:Description: &lt;br /&gt;&lt;p class=&quot;MsoNormal&quot; style=&quot;margin-top: 12.0p
 t\;&quot;&gt;&lt;img src=&quot;https://events.vtools.ieee.org/vtools_ui/media/display/d1ab
 1685-65c1-46c3-a067-25ca3f909eb8&quot;&gt;&lt;/p&gt;\n&lt;p class=&quot;MsoNormal&quot; style=&quot;margin
 -top: 6.0pt\;&quot;&gt;&lt;strong&gt;&lt;span style=&quot;font-size: 16.0pt\; font-family: Coppe
 rplate\;&quot;&gt;&lt;u&gt;Abstract&lt;/u&gt;:&lt;/span&gt;&lt;/strong&gt;&amp;nbsp\;&lt;/p&gt;\n&lt;p class=&quot;MsoNormal
 &quot;&gt;&lt;span style=&quot;font-size: 16.0pt\; line-height: 115%\; font-family: &#39;Calib
 ri&#39;\,sans-serif\;&quot;&gt;The convergence of Artificial Intelligence (AI) and 5G 
 private networks is redefining the landscape of industrial automation. As 
 enterprises look for secure\, resilient\, and high-performance infrastruct
 ure\, AI-enabled 5G private networks emerge as a foundational technology e
 mpowering real-time decision-making\, predictive maintenance\, and intelli
 gent orchestration at the edge. This session explores how industries such 
 as oil &amp;amp\; gas\, manufacturing\, and utilities are leveraging AI and 5G
  to drive operational efficiency\, safety\, and scalability. We will discu
 ss deployment architectures\, transformative use cases\, and lessons from 
 early adopters\, with a focus on the U.S. market&amp;rsquo\;s rapid progress e
 nabled by CBRS spectrum and hyperscale ecosystems. Attendees will gain ins
 ights into how AI and 5G together form the dual engines of Industry 4.0 un
 locking new levels of agility\, intelligence\, and control. Join us to und
 erstand why private networks are no longer a luxury but an industrial nece
 ssity.&lt;/span&gt;&lt;/p&gt;\n&lt;p class=&quot;MsoNormal&quot;&gt;&lt;span style=&quot;font-size: 16.0pt\; l
 ine-height: 115%\; font-family: &#39;Calibri&#39;\,sans-serif\;&quot;&gt;&amp;nbsp\;&lt;/span&gt;&lt;st
 rong&gt;&lt;span style=&quot;font-size: 16.0pt\; line-height: 115%\; font-family: &#39;Ca
 libri&#39;\,sans-serif\;&quot;&gt;Topics covered:&lt;/span&gt;&lt;/strong&gt;&lt;/p&gt;\n&lt;p class=&quot;MsoNo
 rmal&quot; style=&quot;margin-left: .5in\; text-indent: -.25in\; mso-list: l0 level1
  lfo1\; tab-stops: .5in\;&quot;&gt;&lt;!-- [if !supportLists]--&gt;&lt;span style=&quot;font-siz
 e: 16.0pt\; line-height: 115%\; font-family: &#39;Arial&#39;\,sans-serif\; mso-far
 east-font-family: Arial\;&quot;&gt;&lt;span style=&quot;mso-list: Ignore\;&quot;&gt;&amp;bull\;&lt;span s
 tyle=&quot;font: 7.0pt &#39;Times New Roman&#39;\;&quot;&gt;&amp;nbsp\;&amp;nbsp\;&amp;nbsp\;&amp;nbsp\;&amp;nbsp\;
 &amp;nbsp\; &lt;/span&gt;&lt;/span&gt;&lt;/span&gt;&lt;!--[endif]--&gt;&lt;span style=&quot;font-size: 16.0pt\
 ; line-height: 115%\; font-family: &#39;Calibri&#39;\,sans-serif\;&quot;&gt;What is 5G pri
 vate network and why 5G?&lt;/span&gt;&lt;/p&gt;\n&lt;p class=&quot;MsoNormal&quot; style=&quot;margin-le
 ft: .5in\; text-indent: -.25in\; mso-list: l0 level1 lfo1\; tab-stops: .5i
 n\;&quot;&gt;&lt;!-- [if !supportLists]--&gt;&lt;span style=&quot;font-size: 16.0pt\; line-heigh
 t: 115%\; font-family: &#39;Arial&#39;\,sans-serif\; mso-fareast-font-family: Aria
 l\;&quot;&gt;&lt;span style=&quot;mso-list: Ignore\;&quot;&gt;&amp;bull\;&lt;span style=&quot;font: 7.0pt &#39;Tim
 es New Roman&#39;\;&quot;&gt;&amp;nbsp\;&amp;nbsp\;&amp;nbsp\;&amp;nbsp\;&amp;nbsp\;&amp;nbsp\; &lt;/span&gt;&lt;/span&gt;
 &lt;/span&gt;&lt;!--[endif]--&gt;&lt;span style=&quot;font-size: 16.0pt\; line-height: 115%\; 
 font-family: &#39;Calibri&#39;\,sans-serif\;&quot;&gt;Industry 4.0 Transformation Vision f
 or Industry&lt;/span&gt;&lt;/p&gt;\n&lt;p class=&quot;MsoNormal&quot; style=&quot;margin-left: .5in\; te
 xt-indent: -.25in\; mso-list: l0 level1 lfo1\; tab-stops: .5in\;&quot;&gt;&lt;!-- [if
  !supportLists]--&gt;&lt;span style=&quot;font-size: 16.0pt\; line-height: 115%\; fon
 t-family: &#39;Arial&#39;\,sans-serif\; mso-fareast-font-family: Arial\;&quot;&gt;&lt;span st
 yle=&quot;mso-list: Ignore\;&quot;&gt;&amp;bull\;&lt;span style=&quot;font: 7.0pt &#39;Times New Roman&#39;
 \;&quot;&gt;&amp;nbsp\;&amp;nbsp\;&amp;nbsp\;&amp;nbsp\;&amp;nbsp\;&amp;nbsp\; &lt;/span&gt;&lt;/span&gt;&lt;/span&gt;&lt;!--[e
 ndif]--&gt;&lt;span style=&quot;font-size: 16.0pt\; line-height: 115%\; font-family: 
 &#39;Calibri&#39;\,sans-serif\;&quot;&gt;Why Industries Need AI + 5G Now&lt;/span&gt;&lt;/p&gt;\n&lt;p cl
 ass=&quot;MsoNormal&quot; style=&quot;margin-left: .5in\; text-indent: -.25in\; mso-list:
  l0 level1 lfo1\; tab-stops: .5in\;&quot;&gt;&lt;!-- [if !supportLists]--&gt;&lt;span style
 =&quot;font-size: 16.0pt\; line-height: 115%\; font-family: &#39;Arial&#39;\,sans-serif
 \; mso-fareast-font-family: Arial\;&quot;&gt;&lt;span style=&quot;mso-list: Ignore\;&quot;&gt;&amp;bul
 l\;&lt;span style=&quot;font: 7.0pt &#39;Times New Roman&#39;\;&quot;&gt;&amp;nbsp\;&amp;nbsp\;&amp;nbsp\;&amp;nbs
 p\;&amp;nbsp\;&amp;nbsp\; &lt;/span&gt;&lt;/span&gt;&lt;/span&gt;&lt;!--[endif]--&gt;&lt;span style=&quot;font-siz
 e: 16.0pt\; line-height: 115%\; font-family: &#39;Calibri&#39;\,sans-serif\;&quot;&gt;Tran
 sformative AI + 5G Use Cases Across Industries&lt;/span&gt;&lt;/p&gt;\n&lt;p class=&quot;MsoNo
 rmal&quot; style=&quot;margin-left: .5in\; text-indent: -.25in\; mso-list: l0 level1
  lfo1\; tab-stops: .5in\;&quot;&gt;&lt;!-- [if !supportLists]--&gt;&lt;span style=&quot;font-siz
 e: 16.0pt\; line-height: 115%\; font-family: &#39;Arial&#39;\,sans-serif\; mso-far
 east-font-family: Arial\;&quot;&gt;&lt;span style=&quot;mso-list: Ignore\;&quot;&gt;&amp;bull\;&lt;span s
 tyle=&quot;font: 7.0pt &#39;Times New Roman&#39;\;&quot;&gt;&amp;nbsp\;&amp;nbsp\;&amp;nbsp\;&amp;nbsp\;&amp;nbsp\;
 &amp;nbsp\; &lt;/span&gt;&lt;/span&gt;&lt;/span&gt;&lt;!--[endif]--&gt;&lt;span style=&quot;font-size: 16.0pt\
 ; line-height: 115%\; font-family: &#39;Calibri&#39;\,sans-serif\;&quot;&gt;U.S. Market Tr
 ends: 5G Private Network Adoption&lt;/span&gt;&lt;/p&gt;\n&lt;p class=&quot;MsoNormal&quot; style=&quot;
 margin-left: .5in\; text-indent: -.25in\; mso-list: l0 level1 lfo1\; tab-s
 tops: .5in\;&quot;&gt;&lt;!-- [if !supportLists]--&gt;&lt;span style=&quot;font-size: 16.0pt\; l
 ine-height: 115%\; font-family: &#39;Arial&#39;\,sans-serif\; mso-fareast-font-fam
 ily: Arial\;&quot;&gt;&lt;span style=&quot;mso-list: Ignore\;&quot;&gt;&amp;bull\;&lt;span style=&quot;font: 7
 .0pt &#39;Times New Roman&#39;\;&quot;&gt;&amp;nbsp\;&amp;nbsp\;&amp;nbsp\;&amp;nbsp\;&amp;nbsp\;&amp;nbsp\; &lt;/spa
 n&gt;&lt;/span&gt;&lt;/span&gt;&lt;!--[endif]--&gt;&lt;span style=&quot;font-size: 16.0pt\; line-height
 : 115%\; font-family: &#39;Calibri&#39;\,sans-serif\;&quot;&gt;Conclusion &amp;amp\; Q&amp;amp\;A&lt;
 /span&gt;&lt;/p&gt;\n&lt;p class=&quot;MsoNormal&quot; style=&quot;margin-top: 6.0pt\;&quot;&gt;*This webinar
  will be recorded&lt;/p&gt;\n&lt;p class=&quot;MsoNormal&quot; style=&quot;margin-top: 6.0pt\;&quot;&gt;&amp;n
 bsp\;&lt;/p&gt;\n&lt;p class=&quot;MsoNormal&quot;&gt;&lt;strong&gt;&lt;span style=&quot;font-size: 16.0pt\; l
 ine-height: 115%\; font-family: &#39;Calibri&#39;\,sans-serif\;&quot;&gt;Speaker Bio&lt;/span
 &gt;&lt;/strong&gt;&lt;span style=&quot;font-size: 16.0pt\; line-height: 115%\; font-family
 : &#39;Calibri&#39;\,sans-serif\;&quot;&gt;&lt;br&gt;&lt;strong&gt;Junaid Ahmed&lt;/strong&gt; is a Telecom 
 AI Strategist with over 16 years of experience in core network design\, in
 dustrial connectivity\, and digital transformation. He leads strategic ini
 tiatives focused on AI-powered 5G private networks\, autonomous network ev
 olution\, and intelligent service orchestration. Junaid has driven large-s
 cale projects across oil &amp;amp\; gas\, manufacturing\, and utilities bridgi
 ng technology and business to enable Industry 4.0. He is a frequent speake
 r at global telecom forums and contributes to advancing AI integration in 
 telecom infrastructure\, with a mission to build agile\, secure\, and futu
 re-ready industrial networks.&lt;/span&gt;&lt;/p&gt;\n&lt;p class=&quot;MsoNormal&quot; style=&quot;marg
 in-top: 6.0pt\;&quot;&gt;&amp;nbsp\;&lt;/p&gt;
END:VEVENT
END:VCALENDAR

