BEGIN:VCALENDAR
VERSION:2.0
PRODID:IEEE vTools.Events//EN
CALSCALE:GREGORIAN
BEGIN:VTIMEZONE
TZID:America/Mexico_City
BEGIN:STANDARD
DTSTART:20221030T010000
TZOFFSETFROM:-0500
TZOFFSETTO:-0600
TZNAME:CST
END:STANDARD
END:VTIMEZONE
BEGIN:VEVENT
DTSTAMP:20260203T143127Z
UID:652F5BE6-34B5-4C60-9D00-807D9C92B14D
DTSTART;TZID=America/Mexico_City:20260129T190000
DTEND;TZID=America/Mexico_City:20260129T203000
DESCRIPTION:Water is one of the most strategic resources for social\, econo
 mic\, and environmental development. However\, its management currently fa
 ces major challenges related to availability\, quality\, consumption\, and
  the impacts of climate change. This space aims to reflect on the main pro
 cesses involved in water use and the strategies needed to move toward a tr
 uly sustainable model.\n\n[]\n\nCo-sponsored by: Aguas con la ciencia \n\n
 Room: ----\, Bldg: UNICO\, Gral. Ignacio Zaragoza 36\, Zona Centro\, Aguas
 calientes\, Aguascalientes\, Mexico\, 20000\, Virtual: https://events.vtoo
 ls.ieee.org/m/534045
LOCATION:Room: ----\, Bldg: UNICO\, Gral. Ignacio Zaragoza 36\, Zona Centro
 \, Aguascalientes\, Aguascalientes\, Mexico\, 20000\, Virtual: https://eve
 nts.vtools.ieee.org/m/534045
ORGANIZER:ieee.sec.ags@gmail.com
SEQUENCE:22
SUMMARY:THE WATER CHALLENGE: PROCESSES AND SUSTAINABILITY
URL;VALUE=URI:https://events.vtools.ieee.org/m/534045
X-ALT-DESC:Description: &lt;br /&gt;&lt;p class=&quot;p1&quot;&gt;&lt;em&gt;Water is one of the most st
 rategic resources for social\, economic\, and environmental development. H
 owever\, its management currently faces major challenges related to availa
 bility\, quality\, consumption\, and the impacts of climate change. This s
 pace aims to reflect on the main processes involved in water use and the s
 trategies needed to move toward a truly sustainable model.&lt;/em&gt;&lt;/p&gt;\n&lt;p cl
 ass=&quot;p1&quot;&gt;&lt;em&gt;&lt;img src=&quot;https://events.vtools.ieee.org/vtools_ui/media/disp
 lay/23e0a659-742a-415a-8b2a-4dcac090a61d&quot; alt=&quot;&quot; width=&quot;400&quot; height=&quot;600&quot;&gt;
 &lt;/em&gt;&lt;/p&gt;
END:VEVENT
END:VCALENDAR

