BEGIN:VCALENDAR
VERSION:2.0
PRODID:IEEE vTools.Events//EN
CALSCALE:GREGORIAN
BEGIN:VTIMEZONE
TZID:Asia/Kolkata
BEGIN:STANDARD
DTSTART:19451014T230000
TZOFFSETFROM:+0630
TZOFFSETTO:+0530
TZNAME:IST
END:STANDARD
END:VTIMEZONE
BEGIN:VEVENT
DTSTAMP:20260123T113719Z
UID:6460D5F9-4A26-4797-BA1C-62CD6D0B440D
DTSTART;TZID=Asia/Kolkata:20260113T111000
DTEND;TZID=Asia/Kolkata:20260113T114000
DESCRIPTION:Event Report: Street Play on Electrical Safety Awareness\n\nCre
 ative Outreach: &quot;Bijli&quot; – An Electrical Safety Awareness Campaign\n​Or
 ganized By: IEEE PES Student Branch Chapter at the Department of Electrica
 l Engineering JSPM’s Rajarshi Shahu College of Engineering\n\nDate: 13th
  January 2026\n​Venue: Department of Electrical Engineering C-Building\n
 ​Target Audience: Students\, Faculty\, and Non-Teaching Staff\n\nObjecti
 ve:\n\nElectrical safety is an essential aspect of daily life\, especially
  in academic institutions where electrical equipment is widely used. Howev
 er\, unsafe practices such as improper wiring\, overloading sockets\, and 
 careless handling of electrical appliances are often ignored. To address t
 his issue\, the IEEE Student Branch of JSPM’s RSCOE organized a creative
  outreach program combining a street play and a safety awareness rally\, a
 iming to promote practical electrical safety awareness among the campus co
 mmunity.\n\nThe main objectives of the event were:\n\n-\nTo spread awarene
 ss about basic electrical safety rules in an engaging and understandable m
 anner.\n\n-\nTo connect theoretical electrical concepts with real-life app
 lications.\n\n-\nTo educate students and staff about common electrical haz
 ards in hostels\, classrooms\, and homes.\n\n-\nTo encourage safe practice
 s and reduce negligence related to electrical usage.\n\nStreet Play on Ele
 ctrical Safety Awareness (Nukkad Natak)\n\nThe event featured a street pla
 y titled “Bijli”\, designed to communicate electrical safety concepts 
 through entertainment. Electricity was personified as a dramatic character
 \, making technical ideas such as voltage\, resistance\, and electrical sh
 ock easier to understand for a non-technical audience.\n\nThe storyline re
 volved around the interaction between “Bijli” and a careless student c
 haracter\, highlighting how negligence can lead to dangerous situations. T
 hrough humor\, local language\, music\, and choreography\, the play demons
 trated key safety aspects such as the importance of earthing\, dangers of 
 touching live wires\, risks of water conductivity\, and the consequences o
 f bypassing protective devices.\n\nThe engaging performance attracted a la
 rge audience and successfully maintained attention while delivering import
 ant safety messages.\n\nSafety Awareness Rally\nTo further strengthen the 
 message delivered through the street play\, a Safety Awareness Rally was o
 rganized across the campus. IEEE student volunteers participated enthusias
 tically\, carrying placards and chanting slogans related to electrical saf
 ety.\n\nThe rally focused on the following key areas:\n\nOne Socket\, One 
 Load Rule to prevent overloading and short circuits.\nImportance of proper
  earthing and safe plug usage.\nAwareness about MCB and ELCB as essential 
 protective devices.\nAvoiding the use of damaged or exposed electrical cab
 les.\nBasic emergency response actions during electrical shock incidents.\
 nThe rally helped extend the reach of the awareness campaign and ensured t
 hat safety messages were visible to a broader audience.\n\nAgenda: \nImpac
 t and Outcome\nThe “Bijli” Electrical Safety Awareness Campaign receiv
 ed a positive response from students and staff. The creative approach effe
 ctively transformed technical safety rules into memorable lessons. Partici
 pants gained better understanding of everyday electrical hazards and the i
 mportance of following safety protocols. The event successfully contribute
 d to fostering a culture of safety consciousness within the campus.\n\nCon
 clusion\nBy combining a street play with a safety awareness rally\, the IE
 EE PES Student Branch Chapter of JSPM’s RSCOE demonstrated an innovative
  method of technical outreach. The event aligned with IEEE’s objective o
 f using technology and knowledge for societal benefit and reinforced the m
 essage that electrical safety is everyone’s responsibility.\n\nRoom: Fro
 nt of C-Building\, Electrical Engg.\, Bldg: C-Building\, JSPM&#39;S RAJARSHI S
 HAHU COLLEGE OF ENGINEERING\, Tathawade \, Ashok Nagar Tathawade\, Pune\, 
 Maharashtra\, India\, 411033
LOCATION:Room: Front of C-Building\, Electrical Engg.\, Bldg: C-Building\, 
 JSPM&#39;S RAJARSHI SHAHU COLLEGE OF ENGINEERING\, Tathawade \, Ashok Nagar Ta
 thawade\, Pune\, Maharashtra\, India\, 411033
ORGANIZER:manjusha.kanawade@ieee.org
SEQUENCE:175
SUMMARY:Street Play on Electrical Safety Awareness
URL;VALUE=URI:https://events.vtools.ieee.org/m/534053
X-ALT-DESC:Description: &lt;br /&gt;&lt;p&gt;&lt;strong&gt;Event Report: Street Play on Elect
 rical Safety Awareness&lt;/strong&gt;&lt;/p&gt;\n&lt;p&gt;Creative Outreach: &quot;Bijli&quot; &amp;ndash\
 ; An Electrical Safety Awareness Campaign&lt;br&gt;​Organized By: IEEE PES Stu
 dent Branch Chapter at the Department of Electrical Engineering JSPM&amp;rsquo
 \;s Rajarshi Shahu College of Engineering&amp;nbsp\;&lt;/p&gt;\n&lt;p&gt;Date: 13th Januar
 y 2026&lt;br&gt;​Venue: Department of Electrical Engineering C-Building&amp;nbsp\;
 &lt;br&gt;​Target Audience: Students\, Faculty\, and Non-Teaching Staff&lt;/p&gt;\n&lt;
 p&gt;Objective:&amp;nbsp\;&lt;/p&gt;\n&lt;p data-start=&quot;765&quot; data-end=&quot;1284&quot;&gt;Electrical sa
 fety is an essential aspect of daily life\, especially in academic institu
 tions where electrical equipment is widely used. However\, unsafe practice
 s such as improper wiring\, overloading sockets\, and careless handling of
  electrical appliances are often ignored. To address this issue\, the IEEE
  Student Branch of JSPM&amp;rsquo\;s RSCOE organized a creative outreach progr
 am combining a &lt;strong data-start=&quot;1151&quot; data-end=&quot;1166&quot;&gt;street play&lt;/stro
 ng&gt; and a &lt;strong data-start=&quot;1173&quot; data-end=&quot;1199&quot;&gt;safety awareness rally
 &lt;/strong&gt;\, aiming to promote practical electrical safety awareness among 
 the campus community.&lt;/p&gt;\n&lt;p data-start=&quot;1321&quot; data-end=&quot;1359&quot;&gt;The main o
 bjectives of the event were:&lt;/p&gt;\n&lt;ul data-start=&quot;1360&quot; data-end=&quot;1721&quot;&gt;\n
 &lt;li data-start=&quot;1360&quot; data-end=&quot;1463&quot;&gt;\n&lt;p data-start=&quot;1362&quot; data-end=&quot;146
 3&quot;&gt;To spread awareness about &lt;strong data-start=&quot;1388&quot; data-end=&quot;1421&quot;&gt;bas
 ic electrical safety rules&lt;/strong&gt; in an engaging and understandable mann
 er.&lt;/p&gt;\n&lt;/li&gt;\n&lt;li data-start=&quot;1464&quot; data-end=&quot;1541&quot;&gt;\n&lt;p data-start=&quot;146
 6&quot; data-end=&quot;1541&quot;&gt;To connect &lt;strong data-start=&quot;1477&quot; data-end=&quot;1512&quot;&gt;th
 eoretical electrical concepts&lt;/strong&gt; with real-life applications.&lt;/p&gt;\n&lt;
 /li&gt;\n&lt;li data-start=&quot;1542&quot; data-end=&quot;1640&quot;&gt;\n&lt;p data-start=&quot;1544&quot; data-en
 d=&quot;1640&quot;&gt;To educate students and staff about common electrical hazards in 
 hostels\, classrooms\, and homes.&lt;/p&gt;\n&lt;/li&gt;\n&lt;li data-start=&quot;1641&quot; data-e
 nd=&quot;1721&quot;&gt;\n&lt;p data-start=&quot;1643&quot; data-end=&quot;1721&quot;&gt;To encourage safe practic
 es and reduce negligence related to electrical usage.&lt;/p&gt;\n&lt;/li&gt;\n&lt;/ul&gt;\n&lt;
 p&gt;&lt;strong&gt;Street Play on Electrical Safety Awareness (Nukkad Natak)&lt;/stron
 g&gt;&lt;/p&gt;\n&lt;p data-start=&quot;1787&quot; data-end=&quot;2090&quot;&gt;The event featured a street p
 lay titled &lt;strong data-start=&quot;1827&quot; data-end=&quot;1838&quot;&gt;&amp;ldquo\;Bijli&amp;rdquo\;
 &lt;/strong&gt;\, designed to communicate electrical safety concepts through ent
 ertainment. Electricity was personified as a dramatic character\, making t
 echnical ideas such as voltage\, resistance\, and electrical shock easier 
 to understand for a non-technical audience.&lt;/p&gt;\n&lt;p data-start=&quot;2092&quot; data
 -end=&quot;2497&quot;&gt;The storyline revolved around the interaction between &amp;ldquo\;
 Bijli&amp;rdquo\; and a careless student character\, highlighting how negligen
 ce can lead to dangerous situations. Through humor\, local language\, musi
 c\, and choreography\, the play demonstrated key safety aspects such as th
 e importance of earthing\, dangers of touching live wires\, risks of water
  conductivity\, and the consequences of bypassing protective devices.&lt;/p&gt;\
 n&lt;p data-start=&quot;2499&quot; data-end=&quot;2632&quot;&gt;The engaging performance attracted a
  large audience and successfully maintained attention while delivering imp
 ortant safety messages.&lt;/p&gt;\n&lt;p data-start=&quot;2499&quot; data-end=&quot;2632&quot;&gt;&lt;img src
 =&quot;https://events.vtools.ieee.org/vtools_ui/media/display/55087002-1095-469
 1-a822-c4110657c1a9&quot; width=&quot;764&quot; height=&quot;430&quot;&gt;&lt;/p&gt;\n&lt;p&gt;&lt;strong&gt;&lt;img src=&quot;h
 ttps://events.vtools.ieee.org/vtools_ui/media/display/b4b98d2e-6c95-4838-a
 f83-67fef2a917c1&quot; width=&quot;800&quot; height=&quot;450&quot;&gt;&lt;br&gt;Safety Awareness Rally&lt;/str
 ong&gt;&lt;br&gt;To further strengthen the message delivered through the street pla
 y\, a Safety Awareness Rally was organized across the campus. IEEE student
  volunteers participated enthusiastically\, carrying placards and chanting
  slogans related to electrical safety.&lt;/p&gt;\n&lt;p&gt;The rally focused on the fo
 llowing key areas:&lt;/p&gt;\n&lt;p&gt;One Socket\, One Load Rule to prevent overloadi
 ng and short circuits.&lt;br&gt;Importance of proper earthing and safe plug usag
 e.&lt;br&gt;Awareness about MCB and ELCB as essential protective devices.&lt;br&gt;Avo
 iding the use of damaged or exposed electrical cables.&lt;br&gt;Basic emergency 
 response actions during electrical shock incidents.&lt;br&gt;The rally helped ex
 tend the reach of the awareness campaign and ensured that safety messages 
 were visible to a broader audience.&lt;br&gt;&lt;br&gt;&lt;img src=&quot;https://events.vtools
 .ieee.org/vtools_ui/media/display/c4116f51-5b47-434c-9637-54b013565de3&quot; wi
 dth=&quot;763&quot; height=&quot;430&quot;&gt;&lt;br&gt;&lt;img src=&quot;https://events.vtools.ieee.org/vtools
 _ui/media/display/d6cdc4f2-ae97-4216-b1d8-78703f2fff65&quot; width=&quot;809&quot; height
 =&quot;455&quot;&gt;&lt;/p&gt;\n&lt;p&gt;&lt;strong&gt;&amp;nbsp\;&lt;/strong&gt;&lt;/p&gt;&lt;br /&gt;&lt;br /&gt;Agenda: &lt;br /&gt;&lt;p&gt;&lt;
 strong&gt;Impact and Outcome&lt;/strong&gt;&lt;br&gt;The &amp;ldquo\;Bijli&amp;rdquo\; Electrical
  Safety Awareness Campaign received a positive response from students and 
 staff. The creative approach effectively transformed technical safety rule
 s into memorable lessons. Participants gained better understanding of ever
 yday electrical hazards and the importance of following safety protocols. 
 The event successfully contributed to fostering a culture of safety consci
 ousness within the campus.&lt;/p&gt;\n&lt;p&gt;&lt;strong&gt;Conclusion&lt;/strong&gt;&lt;br&gt;By combi
 ning a street play with a safety awareness rally\, the IEEE PES Student Br
 anch Chapter of JSPM&amp;rsquo\;s RSCOE demonstrated an innovative method of t
 echnical outreach. The event aligned with IEEE&amp;rsquo\;s objective of using
  technology and knowledge for societal benefit and reinforced the message 
 that electrical safety is everyone&amp;rsquo\;s responsibility.&lt;/p&gt;
END:VEVENT
END:VCALENDAR

