BEGIN:VCALENDAR
VERSION:2.0
PRODID:IEEE vTools.Events//EN
CALSCALE:GREGORIAN
BEGIN:VTIMEZONE
TZID:Europe/Paris
BEGIN:DAYLIGHT
DTSTART:20260329T030000
TZOFFSETFROM:+0100
TZOFFSETTO:+0200
RRULE:FREQ=YEARLY;BYDAY=-1SU;BYMONTH=3
TZNAME:CEST
END:DAYLIGHT
BEGIN:STANDARD
DTSTART:20251026T020000
TZOFFSETFROM:+0200
TZOFFSETTO:+0100
RRULE:FREQ=YEARLY;BYDAY=-1SU;BYMONTH=10
TZNAME:CET
END:STANDARD
END:VTIMEZONE
BEGIN:VEVENT
DTSTAMP:20260316T105736Z
UID:4100AF01-9D04-4FBC-901F-A00E92794387
DTSTART;TZID=Europe/Paris:20260318T000000
DTEND;TZID=Europe/Paris:20260319T210000
DESCRIPTION:Conférence à l’INSA Centre Val de Loire\n\nEnjeux climatiqu
 es : quel signal pour observer\, comprendre et agir ?\n\nProfesseur René 
 Garello\n\nJeudi 19 mars 2026\, 14h-15h\, Amphithéâtre Denis Papin\, Blo
 is\n\nL’intervention du Professeur René Garello\, Professeur émérite 
 à l’IMT Atlantique et life Fellow IEEE\, s’ouvre sur un constat clair
  : la pression croissante des activités humaines sur l’océan et le cli
 mat exige une transformation profonde de nos capacités d’observation\, 
 de mesure et d’interprétation des phénomènes environnementaux.\n\nLes
  océans\, recouvrant plus de 70 % de la surface terrestre\, jouent un rô
 le fondamental dans la régulation du climat. Les altérations du milieu m
 arin — réchauffement\, acidification\, pollution par les hydrocarbures\
 , dispersion de microplastiques\, prolifération d’algues\, modification
  des courants et perte de biodiversité sont désormais documentées\, mod
 élisées et suivies par des systèmes globaux (et surtout Européens avec
  Copernicus) d’observation. Ces systèmes intègrent satellites\, mesure
 s in situ\, capteurs sous-marins et plateformes autonomes.\n\nLe cœur de 
 l’intervention insiste sur le rôle clé du traitement du signal\, domai
 ne dans lequel le Professeur Garello est un expert reconnu internationalem
 ent. Les méthodes avancées de traitement du signal permettent entre autr
 es la détection de structures marines (vents\, vagues\, courants)\, la d
 étection et l’identification de navires\, la détection de nappes de po
 llution\, la caractérisation des plastiques flottants\, etc.\n\nIl est n
 écessaire de garantir la qualité\, la cohérence et la disponibilité de
 s données\, éléments essentiels pour alimenter modèles climatiques et 
 services opérationnels. L’intégration multi-capteurs et les nouvelles 
 approches basées sur l’IA\, dont les jumeaux numériques de l’océan 
 - des modèles 3D capables de simuler la propagation de pollutions ou d’
 événements extrêmes à partir de données réelles - constituent une tr
 ansformation majeure de la discipline.\n\nLa lutte contre les crises clima
 tiques et la préservation de l’océan dépendront de notre capacité co
 llective à observer\, comprendre et prédire. Le traitement du signal per
 met de transformer des volumes massifs de données en indicateurs fiables.
  La recherche et l’ingénie ont donc un rôle essentiel : fournir les ou
 tils technologiques permettant d’éclairer les choix d’aujourd’hui p
 our protéger le climat de demain.\n\nSpeaker(s): René GARELLO\, Yoshikaz
 u OHARA\n\nRoom: Amphithéatre Denis Papin\, 14h-15h\, Bldg: INSA Centre V
 al de Loire\, INSA Centre Val de Loire\, 3 rue de la Chocolaterie\, Blois\
 , Centre\, France\, 41034
LOCATION:Room: Amphithéatre Denis Papin\, 14h-15h\, Bldg: INSA Centre Val 
 de Loire\, INSA Centre Val de Loire\, 3 rue de la Chocolaterie\, Blois\, C
 entre\, France\, 41034
ORGANIZER:serge.dossantos@insa-cvl.fr
SEQUENCE:23
SUMMARY:Enjeux climatiques : quel signal pour observer\, comprendre et agir
  ?
URL;VALUE=URI:https://events.vtools.ieee.org/m/534167
X-ALT-DESC:Description: &lt;br /&gt;&lt;p class=&quot;MsoNormal&quot; style=&quot;margin-left: -7.1
 pt\; text-align: center\;&quot; align=&quot;center&quot;&gt;&lt;strong style=&quot;mso-bidi-font-wei
 ght: normal\;&quot;&gt;&lt;span style=&quot;font-size: 20.0pt\; font-family: &#39;Arial&#39;\,sans
 -serif\;&quot;&gt;Conf&amp;eacute\;rence &amp;agrave\; l&amp;rsquo\;INSA Centre Val de Loire&lt;/
 span&gt;&lt;/strong&gt;&lt;/p&gt;\n&lt;p class=&quot;MsoNormal&quot; style=&quot;text-align: center\;&quot; alig
 n=&quot;center&quot;&gt;&lt;strong&gt;&lt;u&gt;&lt;span style=&quot;font-size: 16.0pt\; font-family: &#39;Arial
 &#39;\,sans-serif\; mso-fareast-language: ES\;&quot;&gt;&lt;span style=&quot;text-decoration: 
 none\;&quot;&gt;&amp;nbsp\;&lt;/span&gt;&lt;/span&gt;&lt;/u&gt;&lt;/strong&gt;&lt;/p&gt;\n&lt;p class=&quot;MsoNormal&quot; style
 =&quot;text-align: center\;&quot; align=&quot;center&quot;&gt;&lt;strong&gt;&lt;u&gt;&lt;span style=&quot;font-size: 
 16.0pt\; font-family: &#39;Arial&#39;\,sans-serif\; mso-fareast-language: ES\;&quot;&gt;En
 jeux climatiques : quel signal pour observer\, comprendre et agir ?&lt;/span&gt;
 &lt;/u&gt;&lt;/strong&gt;&lt;/p&gt;\n&lt;p class=&quot;MsoNormal&quot;&gt;&lt;span style=&quot;font-size: 16.0pt\; f
 ont-family: &#39;Arial&#39;\,sans-serif\; mso-fareast-language: ES\;&quot;&gt;&amp;nbsp\;&lt;/spa
 n&gt;&lt;/p&gt;\n&lt;p class=&quot;MsoNormal&quot; style=&quot;text-align: center\;&quot; align=&quot;center&quot;&gt;&lt;
 span style=&quot;font-size: 16.0pt\; font-family: &#39;Arial&#39;\,sans-serif\; mso-far
 east-language: ES\;&quot;&gt;Professeur Ren&amp;eacute\; Garello&lt;/span&gt;&lt;/p&gt;\n&lt;p class=
 &quot;MsoNormal&quot; style=&quot;text-align: center\;&quot; align=&quot;center&quot;&gt;&lt;span style=&quot;font-
 size: 16.0pt\; font-family: &#39;Arial&#39;\,sans-serif\; mso-fareast-language: ES
 \;&quot;&gt;Jeudi 19 mars 2026\, 14h-15h\, Amphith&amp;eacute\;&amp;acirc\;tre Denis Papin
 \, Blois&lt;/span&gt;&lt;/p&gt;\n&lt;p class=&quot;MsoNormal&quot; style=&quot;text-align: center\;&quot; ali
 gn=&quot;center&quot;&gt;&lt;span style=&quot;font-size: 10.0pt\; font-family: &#39;Arial&#39;\,sans-se
 rif\; mso-fareast-language: ES\;&quot;&gt;&amp;nbsp\;&lt;/span&gt;&lt;/p&gt;\n&lt;p class=&quot;MsoNormal&quot;
  style=&quot;text-align: justify\;&quot;&gt;&lt;span style=&quot;font-size: 10.0pt\; font-famil
 y: &#39;Arial&#39;\,sans-serif\; mso-fareast-language: ES\;&quot;&gt;L&amp;rsquo\;intervention
  du Professeur Ren&amp;eacute\; Garello\, Professeur &amp;eacute\;m&amp;eacute\;rite &amp;
 agrave\; l&amp;rsquo\;IMT Atlantique et life Fellow IEEE\, s&amp;rsquo\;ouvre sur 
 un constat clair : la pression croissante des activit&amp;eacute\;s humaines s
 ur l&amp;rsquo\;oc&amp;eacute\;an et le climat exige une transformation profonde d
 e nos capacit&amp;eacute\;s d&amp;rsquo\;observation\, de mesure et d&amp;rsquo\;inter
 pr&amp;eacute\;tation des ph&amp;eacute\;nom&amp;egrave\;nes environnementaux.&lt;/span&gt;&lt;
 /p&gt;\n&lt;p class=&quot;MsoNormal&quot; style=&quot;text-align: justify\;&quot;&gt;&lt;span style=&quot;font-
 size: 10.0pt\; font-family: &#39;Arial&#39;\,sans-serif\; mso-fareast-language: ES
 \;&quot;&gt;Les oc&amp;eacute\;ans\, recouvrant plus de 70 % de la surface terrestre\,
  jouent un r&amp;ocirc\;le fondamental dans la r&amp;eacute\;gulation du climat. L
 es alt&amp;eacute\;rations du milieu marin &amp;mdash\; r&amp;eacute\;chauffement\, ac
 idification\, pollution par les hydrocarbures\, dispersion de microplastiq
 ues\, prolif&amp;eacute\;ration d&amp;rsquo\;algues\, modification des courants et
  perte de biodiversit&amp;eacute\; sont d&amp;eacute\;sormais document&amp;eacute\;es\
 , mod&amp;eacute\;lis&amp;eacute\;es et suivies par des syst&amp;egrave\;mes globaux (
 et surtout Europ&amp;eacute\;ens avec Copernicus) d&amp;rsquo\;observation. Ces sy
 st&amp;egrave\;mes int&amp;egrave\;grent satellites\, mesures in situ\, capteurs s
 ous-marins et plateformes autonomes.&lt;/span&gt;&lt;/p&gt;\n&lt;p class=&quot;MsoNormal&quot; styl
 e=&quot;text-align: justify\;&quot;&gt;&lt;span style=&quot;font-size: 10.0pt\; font-family: &#39;A
 rial&#39;\,sans-serif\; mso-fareast-language: ES\;&quot;&gt;Le c&amp;oelig\;ur de l&amp;rsquo\
 ;intervention insiste sur le r&amp;ocirc\;le cl&amp;eacute\; du traitement du sign
 al\, domaine dans lequel le Professeur Garello est un expert reconnu inter
 nationalement. Les m&amp;eacute\;thodes avanc&amp;eacute\;es de traitement du sign
 al permettent entre autres la d&amp;eacute\;tection de structures marines (ven
 ts\, vagues\, courants)\, la d&amp;eacute\;tection et l&amp;rsquo\;identification 
 de navires\, la d&amp;eacute\;tection de nappes de pollution\, la caract&amp;eacut
 e\;risation des plastiques flottants\, etc.&lt;/span&gt;&lt;/p&gt;\n&lt;p class=&quot;MsoNorma
 l&quot; style=&quot;text-align: justify\;&quot;&gt;&lt;span style=&quot;font-size: 10.0pt\; font-fam
 ily: &#39;Arial&#39;\,sans-serif\; mso-fareast-language: ES\;&quot;&gt;Il est n&amp;eacute\;ce
 ssaire de garantir la qualit&amp;eacute\;\, la coh&amp;eacute\;rence et la disponi
 bilit&amp;eacute\; des donn&amp;eacute\;es\, &amp;eacute\;l&amp;eacute\;ments essentiels p
 our alimenter mod&amp;egrave\;les climatiques et services op&amp;eacute\;rationnel
 s. L&amp;rsquo\;int&amp;eacute\;gration multi-capteurs et les nouvelles approches 
 bas&amp;eacute\;es sur l&amp;rsquo\;IA\, dont les jumeaux num&amp;eacute\;riques de l&amp;
 rsquo\;oc&amp;eacute\;an - des mod&amp;egrave\;les 3D capables de simuler la propa
 gation de pollutions ou d&amp;rsquo\;&amp;eacute\;v&amp;eacute\;nements extr&amp;ecirc\;me
 s &amp;agrave\; partir de donn&amp;eacute\;es r&amp;eacute\;elles - constituent une tr
 ansformation majeure de la discipline.&lt;/span&gt;&lt;/p&gt;\n&lt;p class=&quot;MsoNormal&quot; st
 yle=&quot;text-align: justify\;&quot;&gt;&lt;span style=&quot;font-size: 10.0pt\; font-family: 
 &#39;Arial&#39;\,sans-serif\; mso-fareast-language: ES\;&quot;&gt;La lutte contre les cris
 es climatiques et la pr&amp;eacute\;servation de l&amp;rsquo\;oc&amp;eacute\;an d&amp;eacu
 te\;pendront de notre capacit&amp;eacute\; collective &amp;agrave\; observer\, com
 prendre et pr&amp;eacute\;dire. Le traitement du signal permet de transformer 
 des volumes massifs de donn&amp;eacute\;es en indicateurs fiables. La recherch
 e et l&amp;rsquo\;ing&amp;eacute\;nie ont donc un r&amp;ocirc\;le essentiel : fournir 
 les outils technologiques permettant d&amp;rsquo\;&amp;eacute\;clairer les choix d
 &amp;rsquo\;aujourd&amp;rsquo\;hui pour prot&amp;eacute\;ger le climat de demain.&lt;/spa
 n&gt;&lt;/p&gt;\n&lt;p class=&quot;MsoNormal&quot; style=&quot;text-align: justify\;&quot;&gt;&amp;nbsp\;&lt;/p&gt;
END:VEVENT
END:VCALENDAR

