BEGIN:VCALENDAR
VERSION:2.0
PRODID:IEEE vTools.Events//EN
CALSCALE:GREGORIAN
BEGIN:VTIMEZONE
TZID:America/Los_Angeles
BEGIN:DAYLIGHT
DTSTART:20260308T030000
TZOFFSETFROM:-0800
TZOFFSETTO:-0700
RRULE:FREQ=YEARLY;BYDAY=2SU;BYMONTH=3
TZNAME:PDT
END:DAYLIGHT
BEGIN:STANDARD
DTSTART:20251102T010000
TZOFFSETFROM:-0700
TZOFFSETTO:-0800
RRULE:FREQ=YEARLY;BYDAY=1SU;BYMONTH=11
TZNAME:PST
END:STANDARD
END:VTIMEZONE
BEGIN:VEVENT
DTSTAMP:20260223T231356Z
UID:C876118B-9686-4F74-850C-3D4B49D432DC
DTSTART;TZID=America/Los_Angeles:20260218T170000
DTEND;TZID=America/Los_Angeles:20260218T190000
DESCRIPTION:Winter School on AI and Engineering will be an online event joi
 ntly organized by Computing Science\, Engineering departments and the IEEE
  Women in Engineering Thompson Okanagan Affinity Group\, which was inaugur
 ated at TRU in December 2025. The Winter School will take place on Tuesday
 \, February 18\, from 5:00 to 7:00 PM (PST)\, and will bring together expe
 rts\, educators\, and students to discuss current developments in artifici
 al intelligence\, cybersecurity\, robotics\, and related engineering field
 s.\n\nCo-sponsored by: Thompson Rivers University\n\nSpeaker(s): Airini\, 
 Yasin\, Musfiq\, Behnam\, Maryam\n\nAgenda: \n5.00 to 5.10 – Session Ope
 ning\n\n5.10 to 5.25 – Opening Remarks – Dr. Airini\, President\, TRU\
 n\n5.30 to 5.45 – Dr. Yasin Mamatjan\, Chair\, Engineering Department\, 
 TRU\n\n5.50 to 6.05 - Dr. Musfiq Rahman\, Chair\, Department of Computing 
 Science\, TRU\n\n6.10 to 6.25 – Mr. Behnam Ousat\, Senior Software Engin
 eer\, Microsoft\n\n6.30 to 6.45 - Dr. Maryam Davoudpour\, Chair IEEE WiE C
 anada\n\n6.45 to 7.00 – Q/A and Networking\n\nVirtual: https://events.vt
 ools.ieee.org/m/534267
LOCATION:Virtual: https://events.vtools.ieee.org/m/534267
ORGANIZER:nputhiyedth@tru.ca
SEQUENCE:17
SUMMARY:Winter School on AI &amp; Engineering
URL;VALUE=URI:https://events.vtools.ieee.org/m/534267
X-ALT-DESC:Description: &lt;br /&gt;&lt;p&gt;&lt;span style=&quot;font-size: 12.0pt\; font-fami
 ly: &#39;Times New Roman&#39;\,serif\; mso-fareast-font-family: &#39;Times New Roman&#39;\
 ; mso-font-kerning: 0pt\; mso-ligatures: none\; mso-ansi-language: EN-CA\;
  mso-fareast-language: EN-US\; mso-bidi-language: AR-SA\;&quot;&gt;Winter School o
 n AI and Engineering will be an online event jointly organized by Computin
 g Science\, Engineering departments and the IEEE Women in Engineering Thom
 pson Okanagan Affinity Group\, which was inaugurated at TRU in December 20
 25. The Winter School will take place on Tuesday\, February 18\, from 5:00
  to 7:00 PM (PST)\, and will bring together experts\, educators\, and stud
 ents to discuss current developments in artificial intelligence\, cybersec
 urity\, robotics\, and related engineering fields.&lt;/span&gt;&lt;/p&gt;&lt;br /&gt;&lt;br /&gt;A
 genda: &lt;br /&gt;&lt;p class=&quot;MsoNormal&quot;&gt;&lt;span style=&quot;color: black\;&quot;&gt;5.00 to 5.1
 0 &amp;ndash\; Session Opening&lt;/span&gt;&lt;/p&gt;\n&lt;p class=&quot;MsoNormal&quot;&gt;&lt;span style=&quot;c
 olor: black\;&quot;&gt;5.10 to 5.25 &amp;ndash\; Opening Remarks &amp;ndash\; Dr. Airini\,
  President\, TRU&lt;/span&gt;&lt;/p&gt;\n&lt;p class=&quot;MsoNormal&quot;&gt;&lt;span style=&quot;color: blac
 k\;&quot;&gt;5.30 to 5.45 &amp;ndash\; Dr. Yasin Mamatjan\, Chair\, Engineering Depart
 ment\, TRU&lt;/span&gt;&lt;/p&gt;\n&lt;p class=&quot;MsoNormal&quot;&gt;&lt;span style=&quot;color: black\;&quot;&gt;5
 .50 to 6.05 - Dr. Musfiq Rahman\, Chair\, Department of Computing Science\
 , TRU&lt;/span&gt;&lt;/p&gt;\n&lt;p class=&quot;MsoNormal&quot;&gt;&lt;span style=&quot;color: black\;&quot;&gt;6.10 t
 o 6.25 &amp;ndash\; Mr. Behnam Ousat\, Senior Software Engineer\, Microsoft&lt;/s
 pan&gt;&lt;/p&gt;\n&lt;p class=&quot;MsoNormal&quot;&gt;&lt;span style=&quot;color: black\;&quot;&gt;6.30 to 6.45 -
  Dr. Maryam Davoudpour\, Chair IEEE WiE Canada&lt;/span&gt;&lt;/p&gt;\n&lt;p&gt;&lt;span style=
 &quot;font-size: 12.0pt\; font-family: &#39;Times New Roman&#39;\,serif\; mso-fareast-f
 ont-family: &#39;Times New Roman&#39;\; color: black\; mso-font-kerning: 0pt\; mso
 -ligatures: none\; mso-ansi-language: EN-CA\; mso-fareast-language: EN-US\
 ; mso-bidi-language: AR-SA\;&quot;&gt;6.45 to 7.00 &amp;ndash\; Q/A and Networking&lt;/sp
 an&gt;&lt;/p&gt;
END:VEVENT
END:VCALENDAR

