BEGIN:VCALENDAR
VERSION:2.0
PRODID:IEEE vTools.Events//EN
CALSCALE:GREGORIAN
BEGIN:VTIMEZONE
TZID:America/New_York
BEGIN:DAYLIGHT
DTSTART:20260308T030000
TZOFFSETFROM:-0500
TZOFFSETTO:-0400
RRULE:FREQ=YEARLY;BYDAY=2SU;BYMONTH=3
TZNAME:EDT
END:DAYLIGHT
BEGIN:STANDARD
DTSTART:20251102T010000
TZOFFSETFROM:-0400
TZOFFSETTO:-0500
RRULE:FREQ=YEARLY;BYDAY=1SU;BYMONTH=11
TZNAME:EST
END:STANDARD
END:VTIMEZONE
BEGIN:VEVENT
DTSTAMP:20260306T153215Z
UID:F348DAFA-853F-4D60-A585-BC3419793055
DTSTART;TZID=America/New_York:20260227T120000
DTEND;TZID=America/New_York:20260227T140000
DESCRIPTION:WINTER LUNCHEON MEETING\n\nof the\n\nIEEE Connecticut Life Memb
 er Affinity Group\n\nNoon to 2 PM on Friday\, February 27 th \, 2026\n\nAt
  the Casa Mia at The Hawthorne\; 2421 Berlin Turnpike\; Berlin\, CT 060371
 \n\nBe-Sure-to-Sign-Up-Now-for-this-Great-Event!\nIn Addition to the Oppor
 tunity to Meet\, Greet\, and Get-to-Know\nOther Connecticut IEEE Life Memb
 ers\, there will also be a\nPresentation on the IEEE V-Tools and the Newly
  Inaugurated\nCT-LMAG Website. Additionally\, Time-Permitting\, We Will Al
 so\nHave a Presentation on the Use of AI in Diagnostics.\n\nTo ensure the 
 affordability of this event\, it is being heavily subsidized\nby your annu
 al IEEE dues and the Region 1 Connecticut-Chapter.\n\nOnly $15.00 for IEEE
  Members!\nGuests also welcome at $35.00\n\nWe-really-want-to-make-this-ev
 ent-one-to-remember-so.\nsign-up-NOW-before-we-fill-up-our-allowable quota
 .\nRegistration information is available on our new website\n(LMAG-CT.com)
  and at events.vtools.ieee.org.\n\nCasa Mia at The Hawthorne\; 2421 Berlin
  Turnpike\; Berlin\, CT 060371\, BERLIN\, Connecticut\, United States\, 06
 0371
LOCATION:Casa Mia at The Hawthorne\; 2421 Berlin Turnpike\; Berlin\, CT 060
 371\, BERLIN\, Connecticut\, United States\, 060371
ORGANIZER:Shertukde@hartford.edu
SEQUENCE:15
SUMMARY:WINTER LUNCHEON MEETING - IEEE Connecticut Life Member Affinity Gro
 up
URL;VALUE=URI:https://events.vtools.ieee.org/m/534372
X-ALT-DESC:Description: &lt;br /&gt;&lt;p&gt;WINTER LUNCHEON MEETING&lt;/p&gt;\n&lt;p&gt;of the&lt;/p&gt;
 \n&lt;p&gt;IEEE Connecticut Life Member Affinity Group&lt;/p&gt;\n&lt;p&gt;&lt;strong&gt;Noon to 2
  PM on Friday\, February 27 th \, 2026&lt;/strong&gt;&lt;/p&gt;\n&lt;p&gt;&lt;strong&gt;At the Cas
 a Mia at The Hawthorne\; 2421 Berlin Turnpike\; Berlin\, CT 060371&lt;/strong
 &gt;&lt;/p&gt;\n&lt;p&gt;&lt;strong&gt;Be-Sure-to-Sign-Up-Now-for-this-Great-Event!&lt;/strong&gt;&lt;br
 &gt;In Addition to the Opportunity to Meet\, Greet\, and Get-to-Know&lt;br&gt;Other
  Connecticut IEEE Life Members\, there will also be a&lt;br&gt;Presentation on t
 he IEEE V-Tools and the Newly Inaugurated&lt;br&gt;CT-LMAG Website. Additionally
 \, Time-Permitting\, We Will Also&lt;br&gt;Have a Presentation on the Use of AI 
 in Diagnostics.&lt;/p&gt;\n&lt;p&gt;To ensure the affordability of this event\, it is 
 being heavily subsidized&lt;br&gt;by your annual IEEE dues and the Region 1 Conn
 ecticut-Chapter.&lt;/p&gt;\n&lt;p&gt;&lt;strong&gt;Only $15.00 for IEEE Members!&lt;/strong&gt;&lt;br
 &gt;&lt;strong&gt;Guests also welcome at $35.00&lt;/strong&gt;&lt;/p&gt;\n&lt;p&gt;We-really-want-to-
 make-this-event-one-to-remember-so.&lt;br&gt;sign-up-NOW-before-we-fill-up-our-a
 llowable quota.&lt;br&gt;Registration information is available on our new websit
 e&lt;br&gt;(LMAG-CT.com) and at events.vtools.ieee.org.&lt;/p&gt;
END:VEVENT
END:VCALENDAR

