BEGIN:VCALENDAR
VERSION:2.0
PRODID:IEEE vTools.Events//EN
CALSCALE:GREGORIAN
BEGIN:VTIMEZONE
TZID:America/Juneau
BEGIN:DAYLIGHT
DTSTART:20260308T030000
TZOFFSETFROM:-0900
TZOFFSETTO:-0800
RRULE:FREQ=YEARLY;BYDAY=2SU;BYMONTH=3
TZNAME:AKDT
END:DAYLIGHT
BEGIN:STANDARD
DTSTART:20251102T010000
TZOFFSETFROM:-0800
TZOFFSETTO:-0900
RRULE:FREQ=YEARLY;BYDAY=1SU;BYMONTH=11
TZNAME:AKST
END:STANDARD
END:VTIMEZONE
BEGIN:VEVENT
DTSTAMP:20260205T015544Z
UID:15095A5A-D776-474D-B018-07543DF21B9C
DTSTART;TZID=America/Juneau:20260131T090000
DTEND;TZID=America/Juneau:20260131T130000
DESCRIPTION:All members are invited to attend the IEEE Alaska 2026 Planning
  Session and ExCom meeting on Saturday\, January 31\, 2026. The meeting wi
 ll be held from 9:00am to 1:00pm in Anchorage at the GCI building\, with a
  virtual option available. Please share your interests and suggestions for
  professional advancement and training\, monthly meeting topics\, conferen
 ce planning\, career development\, engineering education\, professional ne
 tworking and community service projects. Meet the Alaska Section Officers 
 and explore volunteer opportunities with IEEE. Breakfast will be provided 
 for in-person participants.\n\nReport to the security station on the south
  side of the building.\nAsk for Ken Pigg.\n\nCall my cell phone as noted b
 elow if need be.\n\nKen Pigg\nken@pigg.us\n907-887-3341\n\nAgenda: \n- Cof
 fee and breakfast\n\n- Alaska Section 2026 Planning Session\n\n- IEEE Alas
 ka Section ExCom Meeting (Agenda attached)\n\n- December ExCom Minutes att
 ached.\n\n- 2026 Officer Election Results attached.\n\nBldg: GCI\, 1001 No
 rthway Drive\, Anchorage\, Alaska\, United States\, 99508\, Virtual: https
 ://events.vtools.ieee.org/m/534475
LOCATION:Bldg: GCI\, 1001 Northway Drive\, Anchorage\, Alaska\, United Stat
 es\, 99508\, Virtual: https://events.vtools.ieee.org/m/534475
ORGANIZER:Robert.Posma@respec.com
SEQUENCE:64
SUMMARY:IEEE Alaska - ExCom and 2026 Planning Meeting
URL;VALUE=URI:https://events.vtools.ieee.org/m/534475
X-ALT-DESC:Description: &lt;br /&gt;&lt;p&gt;All members are invited to attend the IEEE
  Alaska 2026 Planning Session and ExCom meeting on Saturday\, January 31\,
  2026. The meeting will be held from 9:00am to 1:00pm in Anchorage at the 
 GCI building\, with a virtual option available. Please share your interest
 s and suggestions for professional advancement and training\, monthly meet
 ing topics\, conference planning\, career development\, engineering educat
 ion\, professional networking and community service projects. Meet the Ala
 ska Section Officers and explore volunteer opportunities with IEEE. Breakf
 ast will be provided for in-person participants.&lt;/p&gt;\n&lt;p&gt;Report to the sec
 urity station on the south side of the building.&amp;nbsp\;&lt;/p&gt;\n&lt;div dir=&quot;aut
 o&quot;&gt;Ask for Ken Pigg.&amp;nbsp\;&amp;nbsp\;&lt;/div&gt;\n&lt;div dir=&quot;auto&quot;&gt;&amp;nbsp\;&lt;/div&gt;\n&lt;
 div dir=&quot;auto&quot;&gt;Call my cell phone as noted below if need be.&lt;/div&gt;\n&lt;div i
 d=&quot;m_734597758405260615ms-outlook-mobile-signature&quot; dir=&quot;auto&quot;&gt;\n&lt;div&gt;&amp;nbs
 p\;&lt;/div&gt;\n&lt;span dir=&quot;auto&quot; style=&quot;font-size: medium\; color: rgb(0\,0\,0)
 \;&quot;&gt;Ken Pigg&lt;/span&gt;\n&lt;div dir=&quot;auto&quot; style=&quot;font-size: medium\; color: rgb
 (0\,0\,0)\;&quot;&gt;&lt;a href=&quot;mailto:ken@pigg.us&quot; target=&quot;_blank&quot; rel=&quot;noopener&quot;&gt;k
 en@pigg.us&lt;/a&gt;&lt;/div&gt;\n&lt;span dir=&quot;auto&quot; style=&quot;font-size: medium\; color: r
 gb(0\,0\,0)\;&quot;&gt;907-887-3341&lt;/span&gt;&lt;/div&gt;&lt;br /&gt;&lt;br /&gt;Agenda: &lt;br /&gt;&lt;p&gt;&amp;nbsp
 \;- Coffee and breakfast&lt;/p&gt;\n&lt;p&gt;&amp;nbsp\;- Alaska Section 2026 Planning Ses
 sion&lt;/p&gt;\n&lt;p&gt;&amp;nbsp\;- IEEE Alaska Section ExCom Meeting (Agenda attached)&lt;
 /p&gt;\n&lt;p&gt;&amp;nbsp\;- December ExCom Minutes attached.&lt;/p&gt;\n&lt;p&gt;&amp;nbsp\;- 2026 Of
 ficer Election Results attached.&lt;/p&gt;
END:VEVENT
END:VCALENDAR

