BEGIN:VCALENDAR
VERSION:2.0
PRODID:IEEE vTools.Events//EN
CALSCALE:GREGORIAN
BEGIN:VTIMEZONE
TZID:America/Los_Angeles
BEGIN:DAYLIGHT
DTSTART:20260308T030000
TZOFFSETFROM:-0800
TZOFFSETTO:-0700
RRULE:FREQ=YEARLY;BYDAY=2SU;BYMONTH=3
TZNAME:PDT
END:DAYLIGHT
BEGIN:STANDARD
DTSTART:20251102T010000
TZOFFSETFROM:-0700
TZOFFSETTO:-0800
RRULE:FREQ=YEARLY;BYDAY=1SU;BYMONTH=11
TZNAME:PST
END:STANDARD
END:VTIMEZONE
BEGIN:VEVENT
DTSTAMP:20260126T030333Z
UID:326FADB5-D43B-4A0F-A78B-4127B353E50F
DTSTART;TZID=America/Los_Angeles:20260125T180000
DTEND;TZID=America/Los_Angeles:20260125T184500
DESCRIPTION:This meeting we have finalized our material for Cobalt&#39;s PCB wo
 rkshop where members get to learn how to make a PCB. Members may participa
 te in a competition by making their own PCB within the time of the meeting
 \, and will vote for the best one.\n\nVarious officers were assigned tasks
  for the next week.\n\nWe have also prepared our project progress report d
 ay which includes a fun kahoot where we serve treats to the members.\n\nWe
  have also checked in with officers that are in charge of their roles for 
 the Seattle Section tri-campus event in Spring.\n\nVirtual: https://events
 .vtools.ieee.org/m/534491
LOCATION:Virtual: https://events.vtools.ieee.org/m/534491
ORGANIZER:aquinren@uw.edu
SEQUENCE:11
SUMMARY:IEEE UWT Student Branch - Winter 2026 Officer Meeting (#3) - PCB Wo
 rkshop Preparation + Progress Report Preparation
URL;VALUE=URI:https://events.vtools.ieee.org/m/534491
X-ALT-DESC:Description: &lt;br /&gt;&lt;p&gt;This meeting we have finalized our materia
 l for Cobalt&#39;s PCB workshop where members get to learn how to make a PCB. 
 Members may participate in a competition by making their own PCB within th
 e time of the meeting\, and will vote for the best one.&amp;nbsp\;&lt;/p&gt;\n&lt;p&gt;Var
 ious officers were assigned tasks for the next week.&lt;/p&gt;\n&lt;p&gt;We have also 
 prepared our project progress report day which includes a fun kahoot where
  we serve treats to the members.&amp;nbsp\;&lt;/p&gt;\n&lt;p&gt;We have also checked in wi
 th officers that are in charge of their roles for the Seattle Section tri-
 campus event in Spring.&amp;nbsp\;&lt;/p&gt;
END:VEVENT
END:VCALENDAR

