BEGIN:VCALENDAR
VERSION:2.0
PRODID:IEEE vTools.Events//EN
CALSCALE:GREGORIAN
BEGIN:VTIMEZONE
TZID:America/Los_Angeles
BEGIN:DAYLIGHT
DTSTART:20260308T030000
TZOFFSETFROM:-0800
TZOFFSETTO:-0700
RRULE:FREQ=YEARLY;BYDAY=2SU;BYMONTH=3
TZNAME:PDT
END:DAYLIGHT
BEGIN:STANDARD
DTSTART:20251102T010000
TZOFFSETFROM:-0700
TZOFFSETTO:-0800
RRULE:FREQ=YEARLY;BYDAY=1SU;BYMONTH=11
TZNAME:PST
END:STANDARD
END:VTIMEZONE
BEGIN:VEVENT
DTSTAMP:20260416T032952Z
UID:17123CFA-6493-4631-8707-E96F9442DFDC
DTSTART;TZID=America/Los_Angeles:20260122T180000
DTEND;TZID=America/Los_Angeles:20260122T210000
DESCRIPTION:SCV WIE Jan 2025 ExCom\n\nAgenda: \n- New member introductions\
 n- Past Events\n- Upcoming Events\n- Other agenda items\n\nBldg: # 1120\, 
 377 Santana Row\, San Jose\, California\, United States\, 95128
LOCATION:Bldg: # 1120\, 377 Santana Row\, San Jose\, California\, United St
 ates\, 95128
ORGANIZER:sbehere@ieee.org
SEQUENCE:2
SUMMARY:SCV WIE Jan 2026 ExCom Meeting
URL;VALUE=URI:https://events.vtools.ieee.org/m/534504
X-ALT-DESC:Description: &lt;br /&gt;&lt;p&gt;SCV WIE Jan 2025 ExCom&lt;/p&gt;&lt;br /&gt;&lt;br /&gt;Agen
 da: &lt;br /&gt;&lt;ol&gt;\n&lt;li&gt;New member introductions&lt;/li&gt;\n&lt;li&gt;Past Events&amp;nbsp\;&lt;
 /li&gt;\n&lt;li&gt;Upcoming Events&lt;/li&gt;\n&lt;li&gt;Other agenda items&lt;/li&gt;\n&lt;/ol&gt;
END:VEVENT
END:VCALENDAR

