BEGIN:VCALENDAR
VERSION:2.0
PRODID:IEEE vTools.Events//EN
CALSCALE:GREGORIAN
BEGIN:VTIMEZONE
TZID:America/Denver
BEGIN:DAYLIGHT
DTSTART:20260308T030000
TZOFFSETFROM:-0700
TZOFFSETTO:-0600
RRULE:FREQ=YEARLY;BYDAY=2SU;BYMONTH=3
TZNAME:MDT
END:DAYLIGHT
BEGIN:STANDARD
DTSTART:20251102T010000
TZOFFSETFROM:-0600
TZOFFSETTO:-0700
RRULE:FREQ=YEARLY;BYDAY=1SU;BYMONTH=11
TZNAME:MST
END:STANDARD
END:VTIMEZONE
BEGIN:VEVENT
DTSTAMP:20260131T182430Z
UID:349910D5-3193-4DF4-9818-A6F4F45764EA
DTSTART;TZID=America/Denver:20260129T173000
DTEND;TZID=America/Denver:20260129T183000
DESCRIPTION:Section leadership (the Eastern Idaho ExCom) meeting with the B
 YU-I Student Branch to discuss branch needs\, coordinate support\, and pro
 vide training.\n\nVirtual: https://events.vtools.ieee.org/m/534665
LOCATION:Virtual: https://events.vtools.ieee.org/m/534665
ORGANIZER:scottheller@ieee.org
SEQUENCE:9
SUMMARY:Student Officer Training - BYU-I Student Branch
URL;VALUE=URI:https://events.vtools.ieee.org/m/534665
X-ALT-DESC:Description: &lt;br /&gt;&lt;p&gt;Section leadership (the Eastern Idaho ExCo
 m) meeting with the BYU-I Student Branch to discuss branch needs\, coordin
 ate support\, and provide training.&lt;/p&gt;
END:VEVENT
END:VCALENDAR

