BEGIN:VCALENDAR
VERSION:2.0
PRODID:IEEE vTools.Events//EN
CALSCALE:GREGORIAN
BEGIN:VTIMEZONE
TZID:America/Chicago
BEGIN:DAYLIGHT
DTSTART:20260308T030000
TZOFFSETFROM:-0600
TZOFFSETTO:-0500
RRULE:FREQ=YEARLY;BYDAY=2SU;BYMONTH=3
TZNAME:CDT
END:DAYLIGHT
BEGIN:STANDARD
DTSTART:20251102T010000
TZOFFSETFROM:-0500
TZOFFSETTO:-0600
RRULE:FREQ=YEARLY;BYDAY=1SU;BYMONTH=11
TZNAME:CST
END:STANDARD
END:VTIMEZONE
BEGIN:VEVENT
DTSTAMP:20260218T210340Z
UID:BFB8C126-2B26-4F49-A757-B84FC97AD6DA
DTSTART;TZID=America/Chicago:20260218T110000
DTEND;TZID=America/Chicago:20260218T123000
DESCRIPTION:This presentation discusses high power monolithic microwave int
 egrated circuit (MMIC) power amplifier (PA) design in Gallium Arsenide (Ga
 As) and Gallium Nitride (GaN). At a high level\, GaN versus GaAs semicondu
 ctor technology from the perspective of power amplifier design metrics is 
 analyzed to help determine the relative advantages and disadvantages of ea
 ch technology. This is followed with an introduction of the most prevalent
  MMIC design topologies for the bulk of microwave applications which inclu
 de reactively matched\, non-uniform distributed\, balanced\, push-pull\, D
 oherty and serially combined. Following introduction of the main topologie
 s\, the presentation focuses on the potential pitfalls the MMIC designer c
 an encounter with detailed discussion on how to avoid them with the goal o
 f first past design success. The presentation relies on experience from th
 e author’s career with over 20 years of experience in the defense and co
 mmercial industries as well as academia. MMIC designers will appreciate th
 e candid explanation of the design topologies and pitfalls while non-desig
 ners will come away with a good working knowledge of what can be achieved 
 and what to watch out for.\n\nSpeaker(s): Michael \, \n\nRoom: AD 3.218\, 
 Bldg: Administrative Building\, 800 W Campbell Rd\, Richardson\, Texas\, U
 nited States\, 75080
LOCATION:Room: AD 3.218\, Bldg: Administrative Building\, 800 W Campbell Rd
 \, Richardson\, Texas\, United States\, 75080
ORGANIZER:exp230017@utdallas.edu
SEQUENCE:9
SUMMARY:Power Without Pain: High Power MMIC PA Design\, the Pitfalls and ho
 w to Avoid Them
URL;VALUE=URI:https://events.vtools.ieee.org/m/534884
X-ALT-DESC:Description: &lt;br /&gt;&lt;p class=&quot;MsoNormal&quot;&gt;This presentation discus
 ses high power monolithic microwave integrated circuit (MMIC) power amplif
 ier (PA) design in Gallium Arsenide (GaAs) and Gallium Nitride (GaN).&amp;nbsp
 \; At a high level\, GaN versus GaAs semiconductor technology from the per
 spective of power amplifier design metrics is analyzed to help determine t
 he relative advantages and disadvantages of each technology.&amp;nbsp\; This i
 s followed with an introduction of the most prevalent MMIC design topologi
 es for the bulk of microwave applications which include reactively matched
 \, non-uniform distributed\, balanced\, push-pull\, Doherty and serially c
 ombined.&amp;nbsp\; Following introduction of the main topologies\, the presen
 tation focuses on the potential pitfalls the MMIC designer can encounter w
 ith detailed discussion on how to avoid them with the goal of first past d
 esign success.&amp;nbsp\; The presentation relies on experience from the autho
 r&amp;rsquo\;s career with over 20 years of experience in the defense and comm
 ercial industries as well as academia.&amp;nbsp\; MMIC designers will apprecia
 te the candid explanation of the design topologies and pitfalls while non-
 designers will come away with a good working knowledge of what can be achi
 eved and what to watch out for.&lt;/p&gt;\n&lt;p class=&quot;MsoNormal&quot;&gt;&amp;nbsp\;&lt;/p&gt;
END:VEVENT
END:VCALENDAR

