BEGIN:VCALENDAR
VERSION:2.0
PRODID:IEEE vTools.Events//EN
CALSCALE:GREGORIAN
BEGIN:VTIMEZONE
TZID:America/New_York
BEGIN:DAYLIGHT
DTSTART:20260308T030000
TZOFFSETFROM:-0500
TZOFFSETTO:-0400
RRULE:FREQ=YEARLY;BYDAY=2SU;BYMONTH=3
TZNAME:EDT
END:DAYLIGHT
BEGIN:STANDARD
DTSTART:20261101T010000
TZOFFSETFROM:-0400
TZOFFSETTO:-0500
RRULE:FREQ=YEARLY;BYDAY=1SU;BYMONTH=11
TZNAME:EST
END:STANDARD
END:VTIMEZONE
BEGIN:VEVENT
DTSTAMP:20260401T234906Z
UID:54A7BE84-F3CF-4D6A-BE9A-9D6E82F6644E
DTSTART;TZID=America/New_York:20260506T200000
DTEND;TZID=America/New_York:20260506T210000
DESCRIPTION:IEEE Philadelphia Section - Chair&#39;s Office Hour\n\nNo fixed age
 nda. Just a monthly recurring opportunity (1st Wednesday of the month at 8
  PM Eastern Time) for members\, volunteers\, collaborators\, and friends o
 f the Philadelphia Section to drop in and have casual conversation with th
 e Section Chair on all matters and ideas related to the IEEE Philadelphia 
 Section.\n\nVirtual: https://events.vtools.ieee.org/m/535106
LOCATION:Virtual: https://events.vtools.ieee.org/m/535106
ORGANIZER:baw@ieee.org
SEQUENCE:24
SUMMARY:IEEE Philadelphia - Chair&#39;s Office Hour
URL;VALUE=URI:https://events.vtools.ieee.org/m/535106
X-ALT-DESC:Description: &lt;br /&gt;&lt;p&gt;&lt;span style=&quot;font-size: 24pt\;&quot;&gt;&lt;strong&gt;IE
 EE Philadelphia Section - Chair&#39;s Office Hour&lt;/strong&gt;&lt;/span&gt;&lt;/p&gt;\n&lt;p&gt;No f
 ixed agenda. Just a monthly recurring opportunity (1st Wednesday of the mo
 nth at 8 PM Eastern Time) for members\, volunteers\, collaborators\, and f
 riends of the Philadelphia Section to drop in and have casual conversation
  with the Section Chair on all matters and ideas related to the IEEE Phila
 delphia Section.&lt;/p&gt;
END:VEVENT
END:VCALENDAR

