BEGIN:VCALENDAR
VERSION:2.0
PRODID:IEEE vTools.Events//EN
CALSCALE:GREGORIAN
BEGIN:VTIMEZONE
TZID:America/New_York
BEGIN:DAYLIGHT
DTSTART:20260308T030000
TZOFFSETFROM:-0500
TZOFFSETTO:-0400
RRULE:FREQ=YEARLY;BYDAY=2SU;BYMONTH=3
TZNAME:EDT
END:DAYLIGHT
BEGIN:STANDARD
DTSTART:20261101T010000
TZOFFSETFROM:-0400
TZOFFSETTO:-0500
RRULE:FREQ=YEARLY;BYDAY=1SU;BYMONTH=11
TZNAME:EST
END:STANDARD
END:VTIMEZONE
BEGIN:VEVENT
DTSTAMP:20260312T185757Z
UID:6DCB378D-0DB3-4501-BC20-9EAE8813C15B
DTSTART;TZID=America/New_York:20260317T093000
DTEND;TZID=America/New_York:20260317T110000
DESCRIPTION:Come join us for MOVE’s 10th Anniversary Town Hall—a specia
 l opportunity to commemorate a decade of impact and hear from leaders shap
 ing the future of MOVE.\n\nFeatured speakers include:\n\n-\nMary Ellen Ran
 dall\, MOVE Founder &amp; IEEE President\n\n-\nBarry Tilton\, IEEE-USA Preside
 nt\n\n-\nBrad Kieserman\, Vice President\, Disaster Operations &amp; Logistics
 \, American Red Cross National Headquarters\n\n-\nMOVE Global and Local Le
 ads: Francisco Carrero\, Loretta Arellano\, and Sadhana Attavar\, highligh
 ting key achievements from 2025 and what’s ahead in 2026\n\nLearn more a
 bout MOVE’s 10-year journey\, upcoming milestones\, and the plans throug
 hout the anniversary year. We hope you’ll join us for this engaging and 
 informative event.\n\nCo-sponsored by: IEEE-USA MOVE Program\n\nVirtual: h
 ttps://events.vtools.ieee.org/m/535110
LOCATION:Virtual: https://events.vtools.ieee.org/m/535110
ORGANIZER:l.arellano@ieee.org
SEQUENCE:19
SUMMARY:IEEE MOVE - 10th Anniversary Townhall
URL;VALUE=URI:https://events.vtools.ieee.org/m/535110
X-ALT-DESC:Description: &lt;br /&gt;&lt;table style=&quot;border-collapse: collapse\; wid
 th: 100%\; border-width: 1px\; border-style: none\;&quot; border=&quot;1&quot;&gt;&lt;colgroup&gt;
 &lt;col style=&quot;width: 54.7735%\;&quot;&gt;&lt;col style=&quot;width: 45.2265%\;&quot;&gt;&lt;/colgroup&gt;\
 n&lt;tbody&gt;\n&lt;tr&gt;\n&lt;td style=&quot;vertical-align: top\;&quot;&gt;\n&lt;p data-start=&quot;110&quot; da
 ta-end=&quot;276&quot;&gt;&lt;span style=&quot;font-size: 14pt\;&quot;&gt;Come join us for &lt;strong data
 -start=&quot;127&quot; data-end=&quot;172&quot;&gt;MOVE&amp;rsquo\;s 10th Anniversary Town Hall&lt;/stro
 ng&gt;&amp;mdash\;a special opportunity to commemorate a decade of impact and hea
 r from leaders shaping the future of MOVE.&lt;/span&gt;&lt;/p&gt;\n&lt;p data-start=&quot;278&quot;
  data-end=&quot;308&quot;&gt;&lt;span style=&quot;font-size: 14pt\;&quot;&gt;&lt;strong data-start=&quot;278&quot; d
 ata-end=&quot;308&quot;&gt;Featured speakers include:&lt;/strong&gt;&lt;/span&gt;&lt;/p&gt;\n&lt;ul data-sta
 rt=&quot;309&quot; data-end=&quot;681&quot;&gt;\n&lt;li style=&quot;font-size: 14pt\;&quot; data-start=&quot;309&quot; d
 ata-end=&quot;366&quot;&gt;\n&lt;p data-start=&quot;311&quot; data-end=&quot;366&quot;&gt;&lt;span style=&quot;font-size:
  14pt\;&quot;&gt;&lt;strong data-start=&quot;311&quot; data-end=&quot;333&quot;&gt;Mary Ellen Randall&lt;/stron
 g&gt;\, MOVE Founder &amp;amp\; IEEE President&lt;/span&gt;&lt;/p&gt;\n&lt;/li&gt;\n&lt;li style=&quot;font
 -size: 14pt\;&quot; data-start=&quot;367&quot; data-end=&quot;407&quot;&gt;\n&lt;p data-start=&quot;369&quot; data-
 end=&quot;407&quot;&gt;&lt;span style=&quot;font-size: 14pt\;&quot;&gt;&lt;strong data-start=&quot;369&quot; data-en
 d=&quot;385&quot;&gt;Barry Tilton&lt;/strong&gt;\, IEEE-USA President&lt;/span&gt;&lt;/p&gt;\n&lt;/li&gt;\n&lt;li 
 style=&quot;font-size: 14pt\;&quot; data-start=&quot;408&quot; data-end=&quot;521&quot;&gt;\n&lt;p data-start=
 &quot;410&quot; data-end=&quot;521&quot;&gt;&lt;span style=&quot;font-size: 14pt\;&quot;&gt;&lt;strong data-start=&quot;4
 10&quot; data-end=&quot;428&quot;&gt;Brad Kieserman&lt;/strong&gt;\, Vice President\, Disaster Ope
 rations &amp;amp\; Logistics\, American Red Cross National Headquarters&lt;/span&gt;
 &lt;/p&gt;\n&lt;/li&gt;\n&lt;li style=&quot;font-size: 14pt\;&quot; data-start=&quot;522&quot; data-end=&quot;681&quot;
 &gt;\n&lt;p data-start=&quot;524&quot; data-end=&quot;681&quot;&gt;&lt;span style=&quot;font-size: 14pt\;&quot;&gt;&lt;str
 ong data-start=&quot;524&quot; data-end=&quot;555&quot;&gt;MOVE Global and Local Leads&lt;/strong&gt;: 
 Francisco Carrero\, Loretta Arellano\, and Sadhana Attavar\, highlighting 
 key achievements from 2025 and what&amp;rsquo\;s ahead in 2026&lt;/span&gt;&lt;/p&gt;\n&lt;/l
 i&gt;\n&lt;/ul&gt;\n&lt;p data-start=&quot;683&quot; data-end=&quot;870&quot;&gt;&lt;span style=&quot;font-size: 14pt
 \;&quot;&gt;Learn more about MOVE&amp;rsquo\;s 10-year journey\, upcoming milestones\,
  and the plans throughout the anniversary year. We hope you&amp;rsquo\;ll join
  us for this engaging and informative event.&lt;/span&gt;&lt;/p&gt;\n&lt;/td&gt;\n&lt;td&gt;&lt;img s
 rc=&quot;https://events.vtools.ieee.org/vtools_ui/media/display/ccdbee7e-d72f-4
 c49-8313-f9f1d2ea1b6f&quot; width=&quot;447&quot; height=&quot;718&quot;&gt;&lt;/td&gt;\n&lt;/tr&gt;\n&lt;/tbody&gt;\n&lt;/
 table&gt;\n&lt;p data-start=&quot;683&quot; data-end=&quot;870&quot;&gt;&amp;nbsp\;&lt;/p&gt;
END:VEVENT
END:VCALENDAR

