BEGIN:VCALENDAR
VERSION:2.0
PRODID:IEEE vTools.Events//EN
CALSCALE:GREGORIAN
BEGIN:VTIMEZONE
TZID:America/Chicago
BEGIN:DAYLIGHT
DTSTART:20260308T030000
TZOFFSETFROM:-0600
TZOFFSETTO:-0500
RRULE:FREQ=YEARLY;BYDAY=2SU;BYMONTH=3
TZNAME:CDT
END:DAYLIGHT
BEGIN:STANDARD
DTSTART:20251102T010000
TZOFFSETFROM:-0500
TZOFFSETTO:-0600
RRULE:FREQ=YEARLY;BYDAY=1SU;BYMONTH=11
TZNAME:CST
END:STANDARD
END:VTIMEZONE
BEGIN:VEVENT
DTSTAMP:20260212T220410Z
UID:C11B638B-8C0E-473F-BB7F-281CCD599910
DTSTART;TZID=America/Chicago:20260211T160000
DTEND;TZID=America/Chicago:20260211T190000
DESCRIPTION:Join us for our Heart PCB Workshop in collaboration with UTSA P
 ELS to practice soldering and learn circuit basics as we build heart PCB c
 ircuits for the Valentine&#39;s season.\n\nRoom: EB 2.04.26B\, Bldg: Engineeri
 ng Bulding\, 1 UTSA Circle\, San Antonio\, Texas\, United States\, 78249
LOCATION:Room: EB 2.04.26B\, Bldg: Engineering Bulding\, 1 UTSA Circle\, Sa
 n Antonio\, Texas\, United States\, 78249
ORGANIZER:pesieeeutsa@gmail.com
SEQUENCE:44
SUMMARY:Heart PCB Technical Workshop
URL;VALUE=URI:https://events.vtools.ieee.org/m/535118
X-ALT-DESC:Description: &lt;br /&gt;&lt;p&gt;Join us for our Heart PCB Workshop in coll
 aboration with UTSA PELS to practice soldering and learn circuit basics as
  we build heart PCB circuits for the Valentine&#39;s season.&lt;/p&gt;
END:VEVENT
END:VCALENDAR

