BEGIN:VCALENDAR
VERSION:2.0
PRODID:IEEE vTools.Events//EN
CALSCALE:GREGORIAN
BEGIN:VTIMEZONE
TZID:Asia/Kolkata
BEGIN:STANDARD
DTSTART:19451014T230000
TZOFFSETFROM:+0630
TZOFFSETTO:+0530
TZNAME:IST
END:STANDARD
END:VTIMEZONE
BEGIN:VEVENT
DTSTAMP:20260130T131829Z
UID:1CE7E443-420D-4ECB-A89D-599AD3E8293B
DTSTART;TZID=Asia/Kolkata:20260130T173000
DTEND;TZID=Asia/Kolkata:20260130T183000
DESCRIPTION:Dear Sir/Madam\,\n\nThe IEEE BVRIT Hyderabad Student Branch\, i
 n association with the IEEE BVRIT Hyderabad Sensors Council\, is pleased t
 o invite you to an Online Distinguished Lecturer (DL) Talk scheduled as pe
 r the details below.\n\nTitle of the Talk:\nReimagining Health Monitoring 
 using Applied Electromagnetics\n\nSpeaker:\nDr. Geroge Shanker\, SMIEEE\nD
 epartment of Electrical and Computer Engineering\nUniversity of Waterloo\,
  Waterloo\, ON\, Canada\n\nDate: 30 January 2026\nTime: 5:30 PM IST (7:00 
 AM ET)\nPlatform: Google Meet\nMeeting Link: https://meet.google.com/xuh-c
 tgd-tmx\n\nThe talk will highlight recent advances and emerging applicatio
 ns of applied electromagnetics in health monitoring systems. It will be hi
 ghly beneficial for students\, research scholars\, and faculty members fro
 m ECE\, Sensors\, Biomedical Engineering\, and related domains.\n\nWe cord
 ially invite you to join us for this insightful session.\n\nWarm regards\,
 \n\nSAIKUMMAR TARA\nIEEE BVRIT Hyderabad Student Branch--\n\nSpeaker(s): G
 eorge Shanker\, \n\nVirtual: https://events.vtools.ieee.org/m/535269
LOCATION:Virtual: https://events.vtools.ieee.org/m/535269
ORGANIZER:saikumar.tara@bvrithyderabad.edu.in
SEQUENCE:9
SUMMARY: A DL Talk on &quot;Reimagining Health Monitoring using Applied Electrom
 agnetics &quot;
URL;VALUE=URI:https://events.vtools.ieee.org/m/535269
X-ALT-DESC:Description: &lt;br /&gt;&lt;p&gt;Dear Sir/Madam\,&lt;/p&gt;\n&lt;p&gt;The IEEE BVRIT Hy
 derabad Student Branch\, in association with the IEEE BVRIT Hyderabad Sens
 ors Council\, is pleased to invite you to an&amp;nbsp\;&lt;strong&gt;Online Distingu
 ished Lecturer (DL) Talk&lt;/strong&gt;&amp;nbsp\;scheduled as per the details below
 .&lt;/p&gt;\n&lt;p&gt;&lt;strong&gt;Title of the Talk:&lt;/strong&gt;&lt;br&gt;Reimagining Health Monito
 ring using Applied Electromagnetics&lt;/p&gt;\n&lt;p&gt;&lt;strong&gt;Speaker:&lt;/strong&gt;&lt;br&gt;&lt;
 strong&gt;Dr. Geroge Shanker\, SMIEEE&lt;/strong&gt;&lt;br&gt;Department of Electrical an
 d Computer Engineering&lt;br&gt;University of Waterloo\, Waterloo\, ON\, Canada&lt;
 /p&gt;\n&lt;p&gt;&lt;strong&gt;Date:&lt;/strong&gt;&amp;nbsp\;30 January 2026&lt;br&gt;&lt;strong&gt;Time:&lt;/str
 ong&gt;&amp;nbsp\;5:30 PM IST (7:00 AM ET)&lt;br&gt;&lt;strong&gt;Platform:&lt;/strong&gt;&amp;nbsp\;Go
 ogle Meet&lt;br&gt;&lt;strong&gt;Meeting Link:&lt;/strong&gt;&amp;nbsp\;&lt;a&gt;https://meet.google.c
 om/xuh-&lt;wbr&gt;ctgd-tmx&lt;/a&gt;&lt;/p&gt;\n&lt;p&gt;The talk will highlight recent advances a
 nd emerging applications of applied electromagnetics in health monitoring 
 systems. It will be highly beneficial for students\, research scholars\, a
 nd faculty members from ECE\, Sensors\, Biomedical Engineering\, and relat
 ed domains.&lt;/p&gt;\n&lt;p&gt;We cordially invite you to join us for this insightful
  session.&lt;/p&gt;\n&lt;p&gt;Warm regards\,&lt;/p&gt;\n&lt;p&gt;&lt;strong&gt;SAIKUMMAR&amp;nbsp\;TARA&lt;/str
 ong&gt;&lt;br&gt;&lt;strong&gt;IEEE BVRIT Hyderabad Student Branch&lt;/strong&gt;--&lt;/p&gt;
END:VEVENT
END:VCALENDAR

