BEGIN:VCALENDAR
VERSION:2.0
PRODID:IEEE vTools.Events//EN
CALSCALE:GREGORIAN
BEGIN:VTIMEZONE
TZID:America/Chicago
BEGIN:DAYLIGHT
DTSTART:20260308T030000
TZOFFSETFROM:-0600
TZOFFSETTO:-0500
RRULE:FREQ=YEARLY;BYDAY=2SU;BYMONTH=3
TZNAME:CDT
END:DAYLIGHT
BEGIN:STANDARD
DTSTART:20251102T010000
TZOFFSETFROM:-0500
TZOFFSETTO:-0600
RRULE:FREQ=YEARLY;BYDAY=1SU;BYMONTH=11
TZNAME:CST
END:STANDARD
END:VTIMEZONE
BEGIN:VEVENT
DTSTAMP:20260315T202839Z
UID:42A85957-4FF3-4594-894E-AF19AE8EDCCA
DTSTART;TZID=America/Chicago:20260211T130000
DTEND;TZID=America/Chicago:20260211T140000
DESCRIPTION:Join Tesla and IEEE for a great view into what engineers can do
  at Tesla\, and get the chance to meet with recruiters!\n\nAustin\, Texas\
 , United States
LOCATION:Austin\, Texas\, United States
ORGANIZER:chair@ieeeut.org
SEQUENCE:3
SUMMARY:Tesla x IEEE Tech Talk
URL;VALUE=URI:https://events.vtools.ieee.org/m/535394
X-ALT-DESC:Description: &lt;br /&gt;&lt;p&gt;&lt;span data-sheets-root=&quot;1&quot;&gt;Join Tesla and 
 IEEE for a great view into what engineers can do at Tesla\, and get the ch
 ance to meet with recruiters!&lt;/span&gt;&lt;/p&gt;
END:VEVENT
END:VCALENDAR

