BEGIN:VCALENDAR
VERSION:2.0
PRODID:IEEE vTools.Events//EN
CALSCALE:GREGORIAN
BEGIN:VTIMEZONE
TZID:America/Chicago
BEGIN:DAYLIGHT
DTSTART:20260308T030000
TZOFFSETFROM:-0600
TZOFFSETTO:-0500
RRULE:FREQ=YEARLY;BYDAY=2SU;BYMONTH=3
TZNAME:CDT
END:DAYLIGHT
BEGIN:STANDARD
DTSTART:20251102T010000
TZOFFSETFROM:-0500
TZOFFSETTO:-0600
RRULE:FREQ=YEARLY;BYDAY=1SU;BYMONTH=11
TZNAME:CST
END:STANDARD
END:VTIMEZONE
BEGIN:VEVENT
DTSTAMP:20260129T200940Z
UID:CE108079-C366-4EED-9625-B95C7152DD58
DTSTART;TZID=America/Chicago:20260212T130000
DTEND;TZID=America/Chicago:20260212T140000
DESCRIPTION:No better way to spend the day\, than painting vinyl&#39;s\, with a
  smile on your face!\nWith Dr. Valvano to lead the crew\,\nA perfect Valen
 tine&#39;s for me and you. &lt;3\n\nLocation: ETC 2.136\nDate &amp; Time: February 12
 th 7-8pm\n\nAustin\, Texas\, United States
LOCATION:Austin\, Texas\, United States
ORGANIZER:chair@ieeeut.org
SEQUENCE:2
SUMMARY:Valentines Vinyl&#39;s w/ Valvano GM
URL;VALUE=URI:https://events.vtools.ieee.org/m/535395
X-ALT-DESC:Description: &lt;br /&gt;&lt;p&gt;&lt;span data-sheets-root=&quot;1&quot;&gt;No better way t
 o spend the day\, than painting vinyl&#39;s\, with a smile on your face! &lt;br&gt;W
 ith Dr. Valvano to lead the crew\, &lt;br&gt;A perfect Valentine&#39;s for me and yo
 u. &amp;lt\;3&lt;br&gt;&lt;br&gt;Location: ETC 2.136&lt;br&gt;Date &amp;amp\; Time: February 12th 7-
 8pm&lt;/span&gt;&lt;/p&gt;
END:VEVENT
END:VCALENDAR

