BEGIN:VCALENDAR
VERSION:2.0
PRODID:IEEE vTools.Events//EN
CALSCALE:GREGORIAN
BEGIN:VTIMEZONE
TZID:America/Los_Angeles
BEGIN:DAYLIGHT
DTSTART:20260308T030000
TZOFFSETFROM:-0800
TZOFFSETTO:-0700
RRULE:FREQ=YEARLY;BYDAY=2SU;BYMONTH=3
TZNAME:PDT
END:DAYLIGHT
BEGIN:STANDARD
DTSTART:20251102T010000
TZOFFSETFROM:-0700
TZOFFSETTO:-0800
RRULE:FREQ=YEARLY;BYDAY=1SU;BYMONTH=11
TZNAME:PST
END:STANDARD
END:VTIMEZONE
BEGIN:VEVENT
DTSTAMP:20260206T054448Z
UID:9B1624A4-2767-474B-857F-1D4108CAD23B
DTSTART;TZID=America/Los_Angeles:20260205T183000
DTEND;TZID=America/Los_Angeles:20260205T200000
DESCRIPTION:Get ready for an unforgettable networking experience at the nex
 t IEEE TEMS meeting!\n\nIf you’re a tech project manager\, specialist\, 
 or professional exploring new opportunities\, this is your chance to conne
 ct\, collaborate\, and expand your network – all in person at our famili
 ar University of Santa Clara venue.\n\nWe’ve made it super easy to join:
  dinner is just $5\, featuring our classic sandwiches and drinks. Why wait
 ? Come hungry for both food and connections!\n\nEnjoy a fun\, structured n
 etworking session designed to spark conversations and meaningful connectio
 ns. Plus\, we have a special surprise video presentation on a cutting-edge
  management topic that you won’t want to miss.\n\nSeats are limited! Reg
 ister now – avoid having to pay at the door.\n\nDon’t miss out – you
 r next connection could be a game-changer!\n\nRoom: 1308\, Bldg: SCDI\, Sa
 nta Clara University\, Santa Clara\, California\, United States
LOCATION:Room: 1308\, Bldg: SCDI\, Santa Clara University\, Santa Clara\, C
 alifornia\, United States
ORGANIZER:edcheng@ieee.org
SEQUENCE:47
SUMMARY:Level-Up Your Network: IEEE TEMS In-Person Meetup
URL;VALUE=URI:https://events.vtools.ieee.org/m/536084
X-ALT-DESC:Description: &lt;br /&gt;&lt;p&gt;Get ready for an unforgettable networking 
 experience at the next IEEE TEMS meeting!&lt;/p&gt;\n&lt;p&gt;If you&amp;rsquo\;re a tech 
 project manager\, specialist\, or professional exploring new opportunities
 \, this is your chance to connect\, collaborate\, and expand your network 
 &amp;ndash\; all in person at our familiar University of Santa Clara venue.&lt;/p
 &gt;\n&lt;p&gt;We&amp;rsquo\;ve made it super easy to join: dinner is just $5\, featuri
 ng our classic sandwiches and drinks. Why wait? Come hungry for both food 
 and connections!&lt;/p&gt;\n&lt;p&gt;Enjoy a fun\, structured networking session desig
 ned to spark conversations and meaningful connections. Plus\, we have a sp
 ecial surprise video presentation on a cutting-edge management topic that 
 you won&amp;rsquo\;t want to miss.&lt;/p&gt;\n&lt;p&gt;Seats are limited! Register now &amp;nd
 ash\; avoid having to pay at the door.&lt;/p&gt;\n&lt;p&gt;Don&amp;rsquo\;t miss out &amp;ndas
 h\; your next connection could be a game-changer!&lt;/p&gt;
END:VEVENT
END:VCALENDAR

