BEGIN:VCALENDAR
VERSION:2.0
PRODID:IEEE vTools.Events//EN
CALSCALE:GREGORIAN
BEGIN:VTIMEZONE
TZID:Asia/Kolkata
BEGIN:STANDARD
DTSTART:19451014T230000
TZOFFSETFROM:+0630
TZOFFSETTO:+0530
TZNAME:IST
END:STANDARD
END:VTIMEZONE
BEGIN:VEVENT
DTSTAMP:20260201T084028Z
UID:CE44CCFE-4546-4304-A829-F875D0717FF8
DTSTART;TZID=Asia/Kolkata:20250125T093000
DTEND;TZID=Asia/Kolkata:20250125T160000
DESCRIPTION:Event Overview\n\nThe Innovation Challenge and Project Expo 202
 5 was a prestigious event designed to foster creativity\, innovation\, and
  teamwork among students. This initiative brought together freshman studen
 ts who\, under the guidance of experienced 3rd and 4th-year mentors\, succ
 essfully developed innovative projects throughout the semester.\n\nAs the 
 semester concluded\, the top two projects from each freshman class were sh
 ortlisted for an expo-style presentation\, where teams showcased their wor
 k to an audience of faculty members\, industry professionals\, and fellow 
 students judged by Mr. KC Choudhury\, MSME Former Assistant Director. The 
 best project\, selected based on creativity\, impact\, and execution\, rec
 eived special recognition and an award.\n\nAgenda: \nAgenda for Innovation
  Challenge 2025\n\nMorning Session: Expo &amp; Presentations\n\n9:00 AM - 9:30
  AM | Registration &amp; Entry\n\n- Teams set up their project booths\n- Atten
 dees register and receive event kits\n\n9:30 AM - 10:00 AM | Inaugural Cer
 emony\n\n- Welcome speech by CIE MLRIT &amp; IEEE Education Society Representa
 tives\n- Keynote address by an industry expert or faculty member\n- Overvi
 ew of the Innovation Challenge 2025\n\n10:00 AM - 12:30 PM | Project Expo 
 &amp; Team Presentations\n\n- Each selected team presents their project at the
 ir designated booth\n- Judges and visitors interact with teams to learn ab
 out their work\n\n12:30 PM - 1:00 PM | Break &amp; Networking Session\n\n- Att
 endees and participants interact with industry professionals and faculty\n
 \nAfternoon Session: Judging &amp; Awards\n\n1:00 PM - 2:30 PM | Final Judging
  Round\n\n- Judges evaluate projects based on innovation\, feasibility\, i
 mpact\, and presentation skills\n\n2:30 PM - 3:00 PM | Panel Discussion / 
 Tech Talk\n\n- A short session where experts discuss the future of student
 -led innovation\n\n3:00 PM - 3:30 PM | Award Ceremony 🏆\n\n- Announceme
 nt of Top 3 Winning Projects\n- Certificates and prizes distribution\n\n3:
 30 PM - 4:00 PM | Closing Remarks &amp; Vote of Thanks\n\n- Acknowledgment of 
 participants\, mentors\, and organizers\n\nAdditional Highlights\n\nMentor
 ship Recognition: Senior students who guided the projects were acknowledge
 d.\n\nIndustry Guests &amp; Networking: Professionals and faculty provide feed
 back and explored possible collaboration opportunities.\n\nInteractive Boo
 ths: Engaging project prototypes were displayed to the attendees.\n\nMLR I
 nstitute Of Technology\, Hyderabad\, Telengana\, India\, 500043
LOCATION:MLR Institute Of Technology\, Hyderabad\, Telengana\, India\, 5000
 43
ORGANIZER:ieeeradhika@gmail.com
SEQUENCE:13
SUMMARY:INNOVATION CHALLENGE AND PROJECT EXPO 2025
URL;VALUE=URI:https://events.vtools.ieee.org/m/536243
X-ALT-DESC:Description: &lt;br /&gt;&lt;p&gt;&lt;strong&gt;Event Overview &lt;/strong&gt;&lt;/p&gt;\n&lt;p&gt;T
 he Innovation Challenge and Project Expo 2025 was a prestigious event desi
 gned to foster creativity\, innovation\, and teamwork among students. This
  initiative brought together freshman students who\, under the guidance of
  experienced 3rd and 4th-year mentors\, successfully developed innovative 
 projects throughout the semester.&lt;/p&gt;\n&lt;p&gt;As the semester concluded\, the 
 top two projects from each freshman class were shortlisted for an expo-sty
 le presentation\, where teams showcased their work to an audience of facul
 ty members\, industry professionals\, and fellow students judged by Mr. KC
  Choudhury\, MSME Former Assistant Director. The best project\, selected b
 ased on creativity\, impact\, and execution\, received special recognition
  and an award.&lt;/p&gt;\n&lt;p&gt;&amp;nbsp\;&lt;/p&gt;&lt;br /&gt;&lt;br /&gt;Agenda: &lt;br /&gt;&lt;p&gt;&lt;strong&gt;Age
 nda for Innovation Challenge 2025 &lt;/strong&gt;&lt;/p&gt;\n&lt;p&gt;&lt;strong&gt;Morning Sessio
 n: Expo &amp;amp\; Presentations &lt;/strong&gt;&lt;/p&gt;\n&lt;p&gt;&lt;strong&gt;9:00 AM - 9:30 AM |
  Registration &amp;amp\; Entry &lt;/strong&gt;&lt;/p&gt;\n&lt;ul&gt;\n&lt;li&gt;Teams set up their pro
 ject booths&lt;/li&gt;\n&lt;li&gt;Attendees register and receive event kits&lt;/li&gt;\n&lt;/ul
 &gt;\n&lt;p&gt;&lt;strong&gt;9:30 AM - 10:00 AM | Inaugural Ceremony &lt;/strong&gt;&lt;/p&gt;\n&lt;ul&gt;\
 n&lt;li&gt;Welcome speech by CIE MLRIT &amp;amp\; IEEE Education Society Representat
 ives&lt;/li&gt;\n&lt;li&gt;Keynote address by an industry expert or faculty member&lt;/li
 &gt;\n&lt;li&gt;Overview of the Innovation Challenge 2025&lt;/li&gt;\n&lt;/ul&gt;\n&lt;p&gt;&lt;strong&gt;1
 0:00 AM - 12:30 PM | Project Expo &amp;amp\; Team Presentations &lt;/strong&gt;&lt;/p&gt;\
 n&lt;ul&gt;\n&lt;li&gt;Each selected team presents their project at their designated b
 ooth&lt;/li&gt;\n&lt;li&gt;Judges and visitors interact with teams to learn about thei
 r work&lt;/li&gt;\n&lt;/ul&gt;\n&lt;p&gt;&lt;strong&gt;12:30 PM - 1:00 PM | Break &amp;amp\; Networkin
 g Session &lt;/strong&gt;&lt;/p&gt;\n&lt;ul&gt;\n&lt;li&gt;Attendees and participants interact wit
 h industry professionals and faculty&lt;/li&gt;\n&lt;/ul&gt;\n&lt;p&gt;&lt;strong&gt;Afternoon Ses
 sion: Judging &amp;amp\; Awards &lt;/strong&gt;&lt;/p&gt;\n&lt;p&gt;&lt;strong&gt;1:00 PM - 2:30 PM | 
 Final Judging Round &lt;/strong&gt;&lt;/p&gt;\n&lt;ul&gt;\n&lt;li&gt;Judges evaluate projects base
 d on innovation\, feasibility\, impact\, and presentation skills&lt;/li&gt;\n&lt;/u
 l&gt;\n&lt;p&gt;&lt;strong&gt;2:30 PM - 3:00 PM | Panel Discussion / Tech Talk &lt;/strong&gt;&lt;
 /p&gt;\n&lt;ul&gt;\n&lt;li&gt;A short session where experts discuss the future of student
 -led innovation&lt;/li&gt;\n&lt;/ul&gt;\n&lt;p&gt;&lt;strong&gt;3:00 PM - 3:30 PM | Award Ceremony
  🏆 &lt;/strong&gt;&lt;/p&gt;\n&lt;ul&gt;\n&lt;li&gt;Announcement of Top 3 Winning Projects&lt;/li&gt;
 \n&lt;li&gt;Certificates and prizes distribution&lt;/li&gt;\n&lt;/ul&gt;\n&lt;p&gt;&lt;strong&gt;3:30 PM
  - 4:00 PM | Closing Remarks &amp;amp\; Vote of Thanks &lt;/strong&gt;&lt;/p&gt;\n&lt;ul&gt;\n&lt;l
 i&gt;Acknowledgment of participants\, mentors\, and organizers&lt;/li&gt;\n&lt;/ul&gt;\n&lt;
 p&gt;&lt;strong&gt;Additional Highlights &amp;nbsp\; &amp;nbsp\; &amp;nbsp\; &amp;nbsp\; &amp;nbsp\; &amp;n
 bsp\; &lt;/strong&gt;&amp;nbsp\; &amp;nbsp\; &amp;nbsp\; &amp;nbsp\; &amp;nbsp\;&lt;/p&gt;\n&lt;p&gt;&lt;strong&gt;Men
 torship Recognition: &lt;/strong&gt;Senior students who guided the projects were
  acknowledged.&lt;/p&gt;\n&lt;p&gt;&lt;strong&gt;Industry Guests &amp;amp\; Networking:&lt;/strong&gt;
  Professionals and faculty provide feedback and explored possible collabor
 ation opportunities.&lt;/p&gt;\n&lt;p&gt;&lt;strong&gt;Interactive Booths: &lt;/strong&gt;Engaging
  project prototypes were displayed to the attendees.&lt;/p&gt;\n&lt;p&gt;&lt;img src=&quot;htt
 ps://events.vtools.ieee.org/vtools_ui/media/display/87c1a5c4-05d4-4bca-bdd
 a-e27b2e10161c&quot; width=&quot;595&quot; height=&quot;390&quot;&gt;&lt;/p&gt;
END:VEVENT
END:VCALENDAR

