BEGIN:VCALENDAR
VERSION:2.0
PRODID:IEEE vTools.Events//EN
CALSCALE:GREGORIAN
BEGIN:VTIMEZONE
TZID:America/Los_Angeles
BEGIN:DAYLIGHT
DTSTART:20260308T030000
TZOFFSETFROM:-0800
TZOFFSETTO:-0700
RRULE:FREQ=YEARLY;BYDAY=2SU;BYMONTH=3
TZNAME:PDT
END:DAYLIGHT
BEGIN:STANDARD
DTSTART:20261101T010000
TZOFFSETFROM:-0700
TZOFFSETTO:-0800
RRULE:FREQ=YEARLY;BYDAY=1SU;BYMONTH=11
TZNAME:PST
END:STANDARD
END:VTIMEZONE
BEGIN:VEVENT
DTSTAMP:20260402T230830Z
UID:AE1A1437-E162-473D-B929-F1A1EC80DEC0
DTSTART;TZID=America/Los_Angeles:20260425T080000
DTEND;TZID=America/Los_Angeles:20260425T150000
DESCRIPTION:“Girls Make STEM with Heart”\, the IEEE Buenaventura spring
  STEM event for middle-school girls\, will be on Saturday\, April 25 at Is
 bell Middle School in Santa Paula. If you were involved in previous events
 \, you know what a wonderful experience it is for the students and volunte
 ers and how rewarding.\n\nHere is some background:\n\n- Students can choos
 e from a variety of workshops covering topics such as chemistry\, circuits
 \, light\, sound\, momentum\, solar energy\, and numbers.\n- We have at le
 ast three mentors per workshop. Each student was able to get plenty of att
 ention.\nAt the end of the day\, students get to show what they learned to
  their parents.\n- Isbell Middle School graciously lets us use their class
 rooms and food service. Each classroom is equipped with a computer project
 or\, movable tables and chairs\, and Wi-Fi connectivity.\n- Lunch and mate
 rials are provided by IEEE.\n- See the [IEEE Foundation Newsletter](https:
 //www.ieee-bv.org/report/stem2021) for an excellent write-up of a past eve
 nt\, and our YouTube channel for a [photo montage](https://www.ieee-bv.org
 /report/2022-10-stem-yt1).\n\nPlanning for the event is already underway. 
 If you are interested in volunteering\, please contact us at stem2026@ieee
 -bv.org\n\nKnow any middle-school girls who would like to attend? Their pa
 rents can register them here: www.ieee-bv.org/stem\n\nBldg: Isbell Middle 
 School - Harvard Blvd Entrance\, 499 Harvard Blvd\, Santa Paula\, Californ
 ia\, United States\, 93060
LOCATION:Bldg: Isbell Middle School - Harvard Blvd Entrance\, 499 Harvard B
 lvd\, Santa Paula\, California\, United States\, 93060
ORGANIZER:stem2026@ieee-bv.org
SEQUENCE:16
SUMMARY:Volunteers Needed: IEEE Spring STEM Event for Girls
URL;VALUE=URI:https://events.vtools.ieee.org/m/536432
X-ALT-DESC:Description: &lt;br /&gt;&lt;p&gt;&amp;ldquo\;Girls Make STEM with Heart&amp;rdquo\;
 \, the IEEE Buenaventura spring STEM event for middle-school girls\, will 
 be on Saturday\, April 25 at Isbell Middle School in Santa Paula. If you w
 ere involved in previous events\, you know what a wonderful experience it 
 is for the students and volunteers and how rewarding.&lt;/p&gt;\n&lt;p&gt;Here is some
  background:&lt;/p&gt;\n&lt;ul&gt;\n&lt;li&gt;Students can choose from a variety of workshop
 s covering topics such as chemistry\, circuits\, light\, sound\, momentum\
 , solar energy\, and numbers.&lt;/li&gt;\n&lt;li&gt;We have at least three mentors per
  workshop. Each student was able to get plenty of attention.&lt;br&gt;At the end
  of the day\, students get to show what they learned to their parents.&lt;/li
 &gt;\n&lt;li&gt;Isbell Middle School graciously lets us use their classrooms and fo
 od service. Each classroom is equipped with a computer projector\, movable
  tables and chairs\, and Wi-Fi connectivity.&lt;/li&gt;\n&lt;li&gt;Lunch and materials
  are provided by IEEE.&lt;/li&gt;\n&lt;li&gt;See the &lt;a href=&quot;https://www.ieee-bv.org/
 report/stem2021&quot;&gt;IEEE Foundation Newsletter&lt;/a&gt; for an excellent write-up 
 of a past event\, and our YouTube channel for a &lt;a href=&quot;https://www.ieee-
 bv.org/report/2022-10-stem-yt1&quot;&gt;photo montage&lt;/a&gt;.&lt;/li&gt;\n&lt;/ul&gt;\n&lt;p&gt;Plannin
 g for the event is already underway. If you are interested in volunteering
 \, please contact us at &lt;a href=&quot;mailto:stem2026@ieee-bv.org&quot;&gt;&lt;span&gt;stem20
 26@ieee-bv.org&lt;/span&gt;&lt;/a&gt;&lt;/p&gt;\n&lt;p&gt;&lt;strong&gt;Know any middle-school girls who
  would like to attend? Their parents can register them here: &lt;a href=&quot;http
 s://www.ieee-bv.org/stem&quot;&gt;www.ieee-bv.org/stem&lt;/a&gt;&lt;/strong&gt;&lt;/p&gt;
END:VEVENT
END:VCALENDAR

