BEGIN:VCALENDAR
VERSION:2.0
PRODID:IEEE vTools.Events//EN
CALSCALE:GREGORIAN
BEGIN:VTIMEZONE
TZID:America/New_York
BEGIN:DAYLIGHT
DTSTART:20250309T030000
TZOFFSETFROM:-0500
TZOFFSETTO:-0400
RRULE:FREQ=YEARLY;BYDAY=2SU;BYMONTH=3
TZNAME:EDT
END:DAYLIGHT
BEGIN:STANDARD
DTSTART:20251102T010000
TZOFFSETFROM:-0400
TZOFFSETTO:-0500
RRULE:FREQ=YEARLY;BYDAY=1SU;BYMONTH=11
TZNAME:EST
END:STANDARD
END:VTIMEZONE
BEGIN:VEVENT
DTSTAMP:20260202T034514Z
UID:DF639551-2124-41A4-9876-910A14719962
DTSTART;TZID=America/New_York:20250918T173000
DTEND;TZID=America/New_York:20251219T200000
DESCRIPTION:Beginner Soldering Workshops\n\nCo-sponsored by: VCU HYPERLABS\
 n\nBldg: Engineering West\, Richmond\, Virginia\, United States
LOCATION:Bldg: Engineering West\, Richmond\, Virginia\, United States
ORGANIZER:randolphwt@vcu.edu
SEQUENCE:1
SUMMARY:IEEE - HYPERLABS Soldering Workshop #4
URL;VALUE=URI:https://events.vtools.ieee.org/m/536460
X-ALT-DESC:Description: &lt;br /&gt;&lt;p&gt;Beginner Soldering Workshops&lt;/p&gt;
END:VEVENT
END:VCALENDAR

