BEGIN:VCALENDAR
VERSION:2.0
PRODID:IEEE vTools.Events//EN
CALSCALE:GREGORIAN
BEGIN:VTIMEZONE
TZID:America/New_York
BEGIN:DAYLIGHT
DTSTART:20250309T030000
TZOFFSETFROM:-0500
TZOFFSETTO:-0400
RRULE:FREQ=YEARLY;BYDAY=2SU;BYMONTH=3
TZNAME:EDT
END:DAYLIGHT
BEGIN:STANDARD
DTSTART:20251102T010000
TZOFFSETFROM:-0400
TZOFFSETTO:-0500
RRULE:FREQ=YEARLY;BYDAY=1SU;BYMONTH=11
TZNAME:EST
END:STANDARD
END:VTIMEZONE
BEGIN:VEVENT
DTSTAMP:20260202T035913Z
UID:0C4199F7-FAB0-44DE-B036-DFF0AA82E17E
DTSTART;TZID=America/New_York:20251029T163000
DTEND;TZID=America/New_York:20251029T173000
DESCRIPTION:CC MIXER\n\nBldg: Engineering West\, Richmond\, Virginia\, Unit
 ed States
LOCATION:Bldg: Engineering West\, Richmond\, Virginia\, United States
ORGANIZER:Randolphwt@vcu.edu
SEQUENCE:3
SUMMARY:Career Connections Mixer
URL;VALUE=URI:https://events.vtools.ieee.org/m/536468
X-ALT-DESC:Description: &lt;br /&gt;&lt;p&gt;CC MIXER&lt;/p&gt;
END:VEVENT
END:VCALENDAR

