BEGIN:VCALENDAR
VERSION:2.0
PRODID:IEEE vTools.Events//EN
CALSCALE:GREGORIAN
BEGIN:VTIMEZONE
TZID:America/Denver
BEGIN:DAYLIGHT
DTSTART:20260308T030000
TZOFFSETFROM:-0700
TZOFFSETTO:-0600
RRULE:FREQ=YEARLY;BYDAY=2SU;BYMONTH=3
TZNAME:MDT
END:DAYLIGHT
BEGIN:STANDARD
DTSTART:20251102T010000
TZOFFSETFROM:-0600
TZOFFSETTO:-0700
RRULE:FREQ=YEARLY;BYDAY=1SU;BYMONTH=11
TZNAME:MST
END:STANDARD
END:VTIMEZONE
BEGIN:VEVENT
DTSTAMP:20260403T140035Z
UID:B04E4F43-C1AE-4A45-A685-827E02F55D80
DTSTART;TZID=America/Denver:20260218T180000
DTEND;TZID=America/Denver:20260218T193000
DESCRIPTION:Agentic AI: Shaping the Future of Responsible and Generative In
 telligence\n\nAbstract: Artificial Intelligence is entering a new phase de
 fined by systems that can learn\, adapt\, and collaborate with minimal hum
 an input. Agentic AI combines autonomy\, generative models\, and ethical d
 esign to build intelligent systems that act responsibly while learning fro
 m their environment. This transformation introduces greater transparency\,
  reliability\, and trust into automation. Going beyond conventional AI\, A
 gentic systems reason across complex contexts and make explainable\, human
 -aligned decisions. They merge Large Language Models (LLMs)\, federated le
 arning\, and explainable AI to deliver secure\, privacy-preserving intelli
 gence across healthcare\, insurance\, and enterprise domains. This talk ex
 plores practical applications\, ethical challenges\, and IEEE’s role in 
 advancing trustworthy autonomy for the future. By fostering responsible an
 d generative intelligence\, Agentic AI paves the way for a more transparen
 t\, adaptive\, and human-centric technological ecosystem.\n\nSpeaker(s): S
 antosh Kumar\, \n\nVirtual: https://events.vtools.ieee.org/m/536474
LOCATION:Virtual: https://events.vtools.ieee.org/m/536474
ORGANIZER:gowansj@ieee.org
SEQUENCE:15
SUMMARY:CIR &amp; CIS: Agentic AI: Shaping the Future of Responsible and Genera
 tive Intelligence
URL;VALUE=URI:https://events.vtools.ieee.org/m/536474
X-ALT-DESC:Description: &lt;br /&gt;&lt;div class=&quot;presentation-title&quot;&gt;&lt;strong&gt;Agent
 ic AI: Shaping the Future of Responsible and Generative Intelligence&lt;/stro
 ng&gt;&lt;/div&gt;\n&lt;div class=&quot;abstract&quot;&gt;&amp;nbsp\;&lt;/div&gt;\n&lt;div class=&quot;abstract&quot;&gt;&lt;str
 ong&gt;Abstract:&lt;/strong&gt; Artificial Intelligence is entering a new phase def
 ined by systems that can learn\, adapt\, and collaborate with minimal huma
 n input. Agentic AI combines autonomy\, generative models\, and ethical de
 sign to build intelligent systems that act responsibly while learning from
  their environment. This transformation introduces greater transparency\, 
 reliability\, and trust into automation. Going beyond conventional AI\, Ag
 entic systems reason across complex contexts and make explainable\, human-
 aligned decisions. They merge Large Language Models (LLMs)\, federated lea
 rning\, and explainable AI to deliver secure\, privacy-preserving intellig
 ence across healthcare\, insurance\, and enterprise domains. This talk exp
 lores practical applications\, ethical challenges\, and IEEE&amp;rsquo\;s role
  in advancing trustworthy autonomy for the future. By fostering responsibl
 e and generative intelligence\, Agentic AI paves the way for a more transp
 arent\, adaptive\, and human-centric technological ecosystem.&lt;/div&gt;
END:VEVENT
END:VCALENDAR

