BEGIN:VCALENDAR
VERSION:2.0
PRODID:IEEE vTools.Events//EN
CALSCALE:GREGORIAN
BEGIN:VTIMEZONE
TZID:Asia/Tokyo
BEGIN:STANDARD
DTSTART:19510909T000000
TZOFFSETFROM:+1000
TZOFFSETTO:+0900
TZNAME:JST
END:STANDARD
END:VTIMEZONE
BEGIN:VEVENT
DTSTAMP:20260202T212413Z
UID:05C45CF7-F9CD-412B-A015-0ADEB78D02C9
DTSTART;TZID=Asia/Tokyo:20261108T083000
DTEND;TZID=Asia/Tokyo:20261111T170000
DESCRIPTION:APMC 2026 will provide a broad forum for participants from both
  academia and industries to exchange information\, share research results\
 , and discuss collaborations in the fields of microwave\, millimeter wave\
 , terahertz wave\, and even to the far infrared and optical waves.\n\nFuku
 oka City\, Fukuoka\, Japan
LOCATION:Fukuoka City\, Fukuoka\, Japan
ORGANIZER:narusue@mlab.t.u-tokyo.ac.jp
SEQUENCE:51
SUMMARY:2026 Asia-Pacific Microwave Conference (APMC 2026)
URL;VALUE=URI:https://events.vtools.ieee.org/m/536490
X-ALT-DESC:Description: &lt;br /&gt;&lt;p&gt;APMC 2026 will provide a broad forum for p
 articipants from both academia and industries to exchange information\, sh
 are research results\, and discuss collaborations in the fields of microwa
 ve\, millimeter wave\, terahertz wave\, and even to the far infrared and o
 ptical waves.&lt;/p&gt;
END:VEVENT
END:VCALENDAR

