BEGIN:VCALENDAR
VERSION:2.0
PRODID:IEEE vTools.Events//EN
CALSCALE:GREGORIAN
BEGIN:VTIMEZONE
TZID:America/Chicago
BEGIN:DAYLIGHT
DTSTART:20260308T030000
TZOFFSETFROM:-0600
TZOFFSETTO:-0500
RRULE:FREQ=YEARLY;BYDAY=2SU;BYMONTH=3
TZNAME:CDT
END:DAYLIGHT
BEGIN:STANDARD
DTSTART:20251102T010000
TZOFFSETFROM:-0500
TZOFFSETTO:-0600
RRULE:FREQ=YEARLY;BYDAY=1SU;BYMONTH=11
TZNAME:CST
END:STANDARD
END:VTIMEZONE
BEGIN:VEVENT
DTSTAMP:20260223T160747Z
UID:D3363515-573F-4EB0-9450-559D900BCDAC
DTSTART;TZID=America/Chicago:20260217T113000
DTEND;TZID=America/Chicago:20260217T130000
DESCRIPTION:Dallas IEEE Communication and or Vehicular Society member\,\n\n
 Please join us for our February 2026 CVT meeting.\n\nWe will meet at the E
 ricsson Headquarters Building for a tour of their Imagine Studio Americas.
 \nOur tour will begin at 12:00 noon.\n\nLunch will be available on your ow
 n\, or you can bring your own food. There is a cafeteria near the studio w
 here you can purchase food.\n\nPlease plan to arrive by 11:30 AM to get re
 gistered through security. The tour should start around 12:00 PM and be co
 mpleted before 1:00 PM.\n\nFebruary 17 meeting\, Ericsson HQ Building\, re
 gistration opens at 11:30 AM\, tour begins at 12:00 PM\n\nTitle: &quot;Lab Tour
  of the Ericsson Imagine Studio Americas&quot;\nSpeakers: Ericsson Lab Manager\
 nDate:  February 17\, 2026\nLocation: 6300 Legacy Drive\, Plano\, TX 75024
 \n\nThanks in advance\, and all the best.\n\nEric\n\nAnyone without a Pre-
 registration for lunch will be asked to wait until all pre-registered have
  had a chance to go through the buffet line.\n\nDallas IEEE CVT Board memb
 ers emails:\nlarryjhorner@gmail.com\nandrewsilver@ieee.org\njimgunn@ieee.o
 rg\nshmuel.hovav@gmail.com\neb0549@att.com\ned.hightower@iotandbeyond.com\
 ndinesh@utdallas.edu\n\nAgenda: \n\n\n6300 Legacy Dr\, Plano\, Texas\, Uni
 ted States\, 75024
LOCATION:6300 Legacy Dr\, Plano\, Texas\, United States\, 75024
ORGANIZER:eb0549@att.com
SEQUENCE:42
SUMMARY:Lab Tour of the Ericsson Imagine Studio Americas
URL;VALUE=URI:https://events.vtools.ieee.org/m/536907
X-ALT-DESC:Description: &lt;br /&gt;&lt;p class=&quot;MsoNormal&quot;&gt;Dallas IEEE Communicatio
 n and or Vehicular Society member\,&lt;/p&gt;\n&lt;p class=&quot;MsoNormal&quot;&gt;Please join 
 us for our February 2026 CVT meeting.&amp;nbsp\;&lt;/p&gt;\n&lt;p class=&quot;MsoNormal&quot;&gt;We 
 will meet at the Ericsson Headquarters Building for a tour of their Imagin
 e Studio Americas.&lt;br&gt;Our tour will begin at 12:00 noon.&lt;/p&gt;\n&lt;p class=&quot;Ms
 oNormal&quot; style=&quot;margin-bottom: 8.0pt\; line-height: 115%\;&quot;&gt;Lunch will be 
 available on your own\, or you can bring your own food. There is a &lt;strong
 &gt;&lt;em&gt;cafeteria near the studio where you can purchase food.&lt;/em&gt;&lt;/strong&gt;&lt;
 /p&gt;\n&lt;p class=&quot;MsoNormal&quot; style=&quot;margin-bottom: 8.0pt\; line-height: 115%\
 ;&quot;&gt;&lt;strong&gt;&lt;em&gt;Please plan to arrive by 11:30 AM to get registered through
  security.&amp;nbsp\; The tour should start around 12:00 PM and be completed b
 efore 1:00 PM.&lt;/em&gt;&lt;/strong&gt;&lt;/p&gt;\n&lt;p class=&quot;MsoNormal&quot;&gt;&lt;strong&gt;February 17
  meeting\, Ericsson HQ Building\, registration opens at 11:30 AM\, tour be
 gins at 12:00 PM&lt;/strong&gt;&lt;/p&gt;\n&lt;p class=&quot;MsoNormal&quot;&gt;&lt;strong&gt;&lt;span style=&quot;f
 ont-family: &#39;Arial&#39;\,sans-serif\; color: #222222\; background: white\;&quot;&gt;Ti
 tle:&amp;nbsp\;&amp;nbsp\;&amp;nbsp\;&amp;nbsp\;&amp;nbsp\;&amp;nbsp\; &quot;L&lt;span style=&quot;font-size: 1
 2.0pt\; font-family: &#39;Aptos&#39;\,sans-serif\; mso-fareast-font-family: Aptos\
 ; mso-fareast-theme-font: minor-latin\; mso-bidi-font-family: Aptos\; mso-
 font-kerning: 0pt\; mso-ligatures: none\; mso-ansi-language: EN-US\; mso-f
 areast-language: EN-US\; mso-bidi-language: AR-SA\;&quot;&gt;ab Tour of the Ericss
 on &lt;em&gt;Imagine Studio Americas&lt;/em&gt;&lt;/span&gt;&lt;/span&gt;&lt;/strong&gt;&lt;span style=&quot;fon
 t-family: &#39;Arial&#39;\,sans-serif\; color: #222222\; background: white\;&quot;&gt;&quot;&lt;/s
 pan&gt;&lt;span style=&quot;font-family: &#39;Arial&#39;\,sans-serif\; color: #222222\;&quot;&gt;&lt;br&gt;
 &lt;strong&gt;&lt;span style=&quot;font-family: &#39;Arial&#39;\,sans-serif\; background: white\
 ;&quot;&gt;Speakers:&amp;nbsp\; Ericsson Lab Manager&amp;nbsp\;&lt;br&gt;Date:&amp;nbsp\;&amp;nbsp\;&amp;nbs
 p\;&amp;nbsp\;&amp;nbsp\;&amp;nbsp\;&amp;nbsp\;&lt;/span&gt;&lt;/strong&gt; February 17\, 2026&lt;br&gt;&lt;str
 ong&gt;&lt;span style=&quot;font-family: &#39;Arial&#39;\,sans-serif\; background: white\;&quot;&gt;L
 ocation:&lt;/span&gt;&lt;/strong&gt;&lt;span style=&quot;background: white\;&quot;&gt; 6300 Legacy Dri
 ve\, Plano\, TX&amp;nbsp\; 75024&lt;/span&gt;&lt;br&gt;&lt;br&gt;&lt;/span&gt;&lt;/p&gt;\n&lt;p class=&quot;gmail-mb
 -4&quot; style=&quot;background: #F6F7F8\;&quot;&gt;&amp;nbsp\;&lt;/p&gt;\n&lt;p class=&quot;MsoNormal&quot;&gt;&amp;nbsp\
 ;&lt;/p&gt;\n&lt;p class=&quot;MsoNormal&quot;&gt;&amp;nbsp\;&lt;/p&gt;\n&lt;p class=&quot;MsoNormal&quot;&gt;Thanks in ad
 vance\, and all the best.&lt;/p&gt;\n&lt;p class=&quot;MsoNormal&quot;&gt;Eric&lt;/p&gt;\n&lt;p class=&quot;Ms
 oNormal&quot;&gt;Anyone without a Pre-registration for lunch will be asked to wait
  until all pre-registered have had a chance to go through the buffet line.
 &amp;nbsp\;&lt;/p&gt;\n&lt;p class=&quot;MsoNormal&quot;&gt;&lt;span style=&quot;font-size: 11.0pt\; line-he
 ight: 107%\; font-family: &#39;Aptos&#39;\,sans-serif\; mso-ascii-theme-font: mino
 r-latin\; mso-fareast-font-family: Aptos\; mso-fareast-theme-font: minor-l
 atin\; mso-hansi-theme-font: minor-latin\; mso-bidi-font-family: &#39;Times Ne
 w Roman&#39;\; mso-bidi-theme-font: minor-bidi\; mso-ansi-language: EN-US\; ms
 o-fareast-language: EN-US\; mso-bidi-language: AR-SA\;&quot;&gt;Dallas IEEE CVT Bo
 ard members emails:&lt;br&gt;larryjhorner@gmail.com&lt;br&gt;andrewsilver@ieee.org&lt;br&gt;
 jimgunn@ieee.org&lt;br&gt;shmuel.hovav@gmail.com&lt;br&gt;eb0549@att.com&lt;br&gt;ed.hightow
 er@iotandbeyond.com&lt;br&gt;dinesh@utdallas.edu&lt;br style=&quot;mso-special-character
 : line-break\;&quot;&gt;&lt;!--[endif]--&gt;&lt;/span&gt;&lt;/p&gt;\n&lt;p class=&quot;MsoNormal&quot;&gt;&amp;nbsp\;&lt;/p
 &gt;&lt;br /&gt;&lt;br /&gt;Agenda: &lt;br /&gt;&lt;p&gt;&amp;nbsp\;&lt;/p&gt;\n&lt;p&gt;&amp;nbsp\;&lt;/p&gt;\n&lt;p&gt;&amp;nbsp\;&lt;/p&gt;
END:VEVENT
END:VCALENDAR

