BEGIN:VCALENDAR
VERSION:2.0
PRODID:IEEE vTools.Events//EN
CALSCALE:GREGORIAN
BEGIN:VTIMEZONE
TZID:US/Central
BEGIN:DAYLIGHT
DTSTART:20260308T030000
TZOFFSETFROM:-0600
TZOFFSETTO:-0500
RRULE:FREQ=YEARLY;BYDAY=2SU;BYMONTH=3
TZNAME:CDT
END:DAYLIGHT
BEGIN:STANDARD
DTSTART:20261101T010000
TZOFFSETFROM:-0500
TZOFFSETTO:-0600
RRULE:FREQ=YEARLY;BYDAY=1SU;BYMONTH=11
TZNAME:CST
END:STANDARD
END:VTIMEZONE
BEGIN:VEVENT
DTSTAMP:20260313T123038Z
UID:F983C97F-F868-4061-AFFE-7C7FE08B2BFB
DTSTART;TZID=US/Central:20260309T170000
DTEND;TZID=US/Central:20260309T203000
DESCRIPTION:The course explains why ethics is important\, gives an overview
  of professional codes of ethics\, describes the rules of professional con
 duct in the Indiana Statutes and Rules\, provides guidelines for making va
 lue-laden decisions\, includes several case studies\, and shows the value 
 of professional and technical societies in maintaining ethical health fitn
 ess. This course fulfills the rule requiring one hour on ethics applicable
  to the practice of professional engineering. Included with this course ar
 e a summary sheet with links to references\, a quiz\, and a course evaluat
 ion form. Upon completion of each course and passing of the quiz\, a certi
 ficate acknowledging completion of the course will be sent to you.\n\nSpea
 ker(s): David Kish\, Vince Drnevich\n\nAgenda: \n5:00 Social\n\n5:45 Dinne
 r Buffet\n\n6:30 Presentation\n\nBldg: Beggar&#39;s Pizza\, 1640 E. Summit Str
 eet\, Crown Point\, Indiana\, United States\, 46307
LOCATION:Bldg: Beggar&#39;s Pizza\, 1640 E. Summit Street\, Crown Point\, India
 na\, United States\, 46307
ORGANIZER:rrfox@nisource.com
SEQUENCE:19
SUMMARY:Engineering Ethics for Professional Engineers
URL;VALUE=URI:https://events.vtools.ieee.org/m/536920
X-ALT-DESC:Description: &lt;br /&gt;&lt;p&gt;The course explains why ethics is importan
 t\, gives an overview of professional codes of ethics\, describes the rule
 s of professional conduct in the Indiana Statutes and Rules\, provides gui
 delines for making value-laden decisions\, includes several case studies\,
  and shows the value of professional and technical societies in maintainin
 g ethical health fitness. This course fulfills the rule requiring one hour
  on ethics applicable to the practice of professional engineering. Include
 d with this course are a summary sheet with links to references\, a quiz\,
  and a course evaluation form. Upon completion of each course and passing 
 of the quiz\, a certificate acknowledging completion of the course will be
  sent to you.&lt;/p&gt;&lt;br /&gt;&lt;br /&gt;Agenda: &lt;br /&gt;&lt;p&gt;5:00 Social&lt;/p&gt;\n&lt;p&gt;5:45 Din
 ner Buffet&lt;/p&gt;\n&lt;p&gt;6:30 Presentation&lt;/p&gt;
END:VEVENT
END:VCALENDAR

