BEGIN:VCALENDAR
VERSION:2.0
PRODID:IEEE vTools.Events//EN
CALSCALE:GREGORIAN
BEGIN:VTIMEZONE
TZID:America/New_York
BEGIN:DAYLIGHT
DTSTART:20260308T030000
TZOFFSETFROM:-0500
TZOFFSETTO:-0400
RRULE:FREQ=YEARLY;BYDAY=2SU;BYMONTH=3
TZNAME:EDT
END:DAYLIGHT
BEGIN:STANDARD
DTSTART:20261101T010000
TZOFFSETFROM:-0400
TZOFFSETTO:-0500
RRULE:FREQ=YEARLY;BYDAY=1SU;BYMONTH=11
TZNAME:EST
END:STANDARD
END:VTIMEZONE
BEGIN:VEVENT
DTSTAMP:20260310T130954Z
UID:8C6BE1EE-6D03-467E-849B-831DE6695C21
DTSTART;TZID=America/New_York:20260311T190000
DTEND;TZID=America/New_York:20260311T210000
DESCRIPTION:Greetings Leaders and Members\,\n\nThis month\, ExCom will meet
  virtually on March 11th\, the 2nd Wednesday. SoutheastCon will take place
  this week as well.\n\nWe will discuss 2026 ENCS\, Chapter and Affinity Gr
 oup planning and events.\n\nAs voting members\, IEEE EXCOM executive commi
 ttee\, all section officers\, and the chairs of the chapters\, affinities\
 , committees\, and subsections are expected to attend. Other interested me
 mbers and guests are welcome. Advance registration is preferred.\n\nThe We
 dnesday\, March 11\, 2026\, ExCom Meeting will be held remotely only throu
 gh the ENCS reusable Webex Room Link.\n\nhttps://ieeemeetings.webex.com/me
 et/WX3ENCieee.org\n\nMeeting Schedule: See agenda\n\n7:00 PM Agenda\n8:30 
 PM Adjourn\n\nWe look forward to seeing you.\n\nHere is a useful current l
 ink for the most recent MGA operations manual: [Most Recent IEEE MGA Opera
 tions Manual](https://mga.ieee.org/board-committees/operations-manual)\n\n
 Agenda: \nAgenda: Subject to updates prior to meeting\n\nSlide Deck: [Marc
 h 11\, 2026 ExCom Slide Deck pending](https://docs.google.com/presentation
 /d/1Tzw3IZDLv-0A2SI_qHNqJMrIs1x1rJyn/edit?usp=sharing&amp;ouid=115178429701450
 254380&amp;rtpof=true&amp;sd=true)\n\nIEEE Eastern North Carolina Section Executiv
 e Committee\nMeeting Agenda for Wednesday\, 3/11/2026\n\n7:00 - 7:15 Check
 -in and Introductions - All\n\n7:15 - 7:20 Confirm Quorum – Secretary\n\
 nReview/Adjust/Approve Agenda – Chair/Vice Chair\n\n7:20 - 7:25 Welcome 
 Remarks - Chair/Vice Chair\n\n7:25 – 7:35 New Volunteers Consideration a
 nd Approval - Chair/Vice Chair\n\n7:35 – 7:45 Treasurer Report and budge
 t approval- Treasurer\n\n7:45 – 7:55 Action Items from the Previous Meet
 ing – Secretary\n\n7:55 – 8:00 Confirmation and Approval of the [Previ
 ous Meeting Minutes](https://docs.google.com/document/d/1pfpNGo6VxYwtykmJF
 cqKtcR0zoeYjwvZcIba-3WmNh8/edit?usp=sharing) – Secretary\n\n8:00 – 8:2
 0 Chapters/Affinity Groups/Committee Chairs Reports – Chairs (Pending up
 dates)\n\nComputational Intelligence Society Chapter	Swetha Chinta\, Yugan
 dhar Suthari\nComputer Society Chapter Chair\, Vice Chair	Hamidreza Moradi
 \, L. Kittusamy\nConsultant&#39;s Network Affinity Group Chair	Guru Prasad Sel
 varajan\nENCS Section Student Activities Chair	Sneha Narasimhan\nENCS Sect
 ion Student Rep	Aniketh Shenoy Kota\nIndustrial Electronics Society Chapte
 r	Skieler Capezza\nLife Member Affinity Group Chair	Hayden Cranford\nLower
  Cape Fear Subsection Chair	Michael Cardinale\nMagnetics Society Chapter C
 hair	Wei Zhang\nNCSU Chapter Chair	Mario Rosas Nava\nNominations &amp; Appoint
 ments Chair	Abhinav Aggarwal\nPower &amp; Energy / Industry Applic Soc Chair\,
  Vice Chair	Muthu Madhu\, L. Cheng\nRobots &amp; Automation Chapter Chair	Aaro
 n Mathew\nSignal Processing Society Chapter	Bhupendra Singh\nTechnology &amp; 
 Engineering Management Society (TEMS)	Megha Ben\nWomen in Engineering Affi
 nity Group Chair	Eve Klopf\nYoung Professionals Affinity Group Chair	Prakh
 ar Lohiya\n8:20 – 8:30 Other Business - Chair/Vice Chair\n\n8:30 – 8:3
 5 Concluding Remarks and Closing - Chair/Vice Chair\n\nVirtual: https://ev
 ents.vtools.ieee.org/m/537126
LOCATION:Virtual: https://events.vtools.ieee.org/m/537126
ORGANIZER:magreth.mushi@ieee.org
SEQUENCE:21
SUMMARY:IEEE ENCS ExCom Virtual Meeting\, March 11\, 2026\, 7 PM
URL;VALUE=URI:https://events.vtools.ieee.org/m/537126
X-ALT-DESC:Description: &lt;br /&gt;&lt;p&gt;Greetings Leaders and Members\,&lt;/p&gt;\n&lt;p&gt;Th
 is month\, ExCom will meet virtually on &lt;strong&gt;March&amp;nbsp\;11th&lt;/strong&gt;\
 , the 2nd Wednesday.&amp;nbsp\; SoutheastCon will take place this week as well
 .&lt;/p&gt;\n&lt;p style=&quot;padding-left: 40px\;&quot;&gt;We will discuss 2026 ENCS\, Chapter
  and Affinity Group planning and events.&lt;/p&gt;\n&lt;p style=&quot;padding-left: 40px
 \;&quot;&gt;As voting members\, IEEE EXCOM executive committee\, all section offic
 ers\, and the chairs of the chapters\, affinities\, committees\, and subse
 ctions are expected to attend.&amp;nbsp\; Other interested members and guests 
 are welcome. &amp;nbsp\;Advance registration is preferred.&lt;/p&gt;\n&lt;p&gt;The Wednesd
 ay\, March 11\, 2026\, ExCom Meeting will be held remotely only through th
 e ENCS reusable Webex Room Link.&lt;/p&gt;\n&lt;p style=&quot;padding-left: 40px\;&quot;&gt;&lt;a h
 ref=&quot;https://ieeemeetings.webex.com/meet/WX3ENCieee.org&quot; target=&quot;_blank&quot; r
 el=&quot;nofollow noopener&quot;&gt;https://ieeemeetings.webex.com/meet/WX3ENCieee.org&lt;
 /a&gt;&lt;/p&gt;\n&lt;p style=&quot;padding-left: 40px\;&quot;&gt;Meeting Schedule:&amp;nbsp\; See agen
 da&lt;/p&gt;\n&lt;p style=&quot;padding-left: 40px\;&quot;&gt;7:00 PM &amp;nbsp\;Agenda&lt;br&gt;8:30 PM &amp;
 nbsp\;Adjourn&lt;/p&gt;\n&lt;p&gt;We look forward to seeing you.&lt;/p&gt;\n&lt;p style=&quot;paddin
 g-left: 40px\;&quot;&gt;&amp;nbsp\;&lt;/p&gt;\n&lt;p&gt;Here is a useful current link for the most
  recent MGA operations manual:&amp;nbsp\;&lt;a href=&quot;https://mga.ieee.org/board-c
 ommittees/operations-manual&quot;&gt;Most Recent IEEE MGA Operations Manual&lt;/a&gt;&lt;/p
 &gt;\n&lt;p style=&quot;padding-left: 40px\;&quot;&gt;&amp;nbsp\;&lt;/p&gt;&lt;br /&gt;&lt;br /&gt;Agenda: &lt;br /&gt;&lt;p
 &gt;Agenda:&amp;nbsp\; Subject to updates prior to meeting&lt;/p&gt;\n&lt;p&gt;Slide Deck: &amp;n
 bsp\;&lt;a href=&quot;https://docs.google.com/presentation/d/1Tzw3IZDLv-0A2SI_qHNq
 JMrIs1x1rJyn/edit?usp=sharing&amp;amp\;ouid=115178429701450254380&amp;amp\;rtpof=t
 rue&amp;amp\;sd=true&quot;&gt;March 11\, 2026 ExCom Slide Deck pending&lt;/a&gt;&lt;/p&gt;\n&lt;p&gt;IEE
 E Eastern North Carolina Section Executive Committee&amp;nbsp\;&lt;br&gt;Meeting Age
 nda for Wednesday\, 3/11/2026&lt;/p&gt;\n&lt;p dir=&quot;ltr&quot;&gt;7:00 - 7:15 Check-in and I
 ntroductions - All&lt;/p&gt;\n&lt;p dir=&quot;ltr&quot;&gt;7:15 - 7:20 Confirm Quorum &amp;ndash\; S
 ecretary&lt;/p&gt;\n&lt;p dir=&quot;ltr&quot;&gt;&amp;nbsp\;&amp;nbsp\;&amp;nbsp\;&amp;nbsp\;&amp;nbsp\;&amp;nbsp\;&amp;nbsp
 \;&amp;nbsp\;&amp;nbsp\;&amp;nbsp\;&amp;nbsp\;&amp;nbsp\;&amp;nbsp\;&amp;nbsp\;&amp;nbsp\;&amp;nbsp\;&amp;nbsp\;&amp;n
 bsp\;&amp;nbsp\;&amp;nbsp\;Review/Adjust/Approve Agenda &amp;ndash\; Chair/Vice Chair&lt;
 /p&gt;\n&lt;p dir=&quot;ltr&quot;&gt;7:20 - 7:25 Welcome Remarks - Chair/Vice Chair&lt;/p&gt;\n&lt;p d
 ir=&quot;ltr&quot;&gt;7:25 &amp;ndash\; 7:35&amp;nbsp\; New Volunteers Consideration and Approv
 al - Chair/Vice Chair&lt;/p&gt;\n&lt;p dir=&quot;ltr&quot;&gt;7:35 &amp;ndash\; 7:45 Treasurer Repor
 t and budget approval- Treasurer&amp;nbsp\;&lt;/p&gt;\n&lt;p dir=&quot;ltr&quot;&gt;7:45 &amp;ndash\; 7:
 55 Action Items from the Previous Meeting &amp;ndash\; Secretary&lt;/p&gt;\n&lt;p dir=&quot;
 ltr&quot;&gt;7:55 &amp;ndash\; 8:00 Confirmation and Approval of the &lt;a href=&quot;https://
 docs.google.com/document/d/1pfpNGo6VxYwtykmJFcqKtcR0zoeYjwvZcIba-3WmNh8/ed
 it?usp=sharing&quot;&gt;Previous Meeting Minutes&lt;/a&gt; &amp;ndash\; Secretary&lt;/p&gt;\n&lt;p di
 r=&quot;ltr&quot;&gt;8:00 &amp;ndash\; 8:20&amp;nbsp\; Chapters/Affinity Groups/Committee Chair
 s Reports &amp;ndash\; Chairs (Pending updates)&lt;/p&gt;\n&lt;table dir=&quot;ltr&quot; style=&quot;w
 idth: 67.3659%\; height: 380.508px\;&quot; border=&quot;1&quot; cellspacing=&quot;0&quot; cellpaddi
 ng=&quot;0&quot; data-sheets-root=&quot;1&quot; data-sheets-baot=&quot;1&quot;&gt;&lt;colgroup&gt;&lt;col style=&quot;wid
 th: 23.2009%\;&quot;&gt;&lt;col style=&quot;width: 47.06%\;&quot; width=&quot;375&quot;&gt;&lt;col style=&quot;width
 : 29.7827%\;&quot; width=&quot;151&quot;&gt;&lt;/colgroup&gt;\n&lt;tbody&gt;\n&lt;tr style=&quot;height: 22.3828
 px\;&quot;&gt;\n&lt;td style=&quot;height: 22.3828px\;&quot;&gt;&lt;span style=&quot;font-size: 8pt\;&quot;&gt;&amp;nb
 sp\;&lt;/span&gt;&lt;/td&gt;\n&lt;td style=&quot;height: 22.3828px\;&quot;&gt;&lt;span style=&quot;font-size: 
 8pt\;&quot;&gt;Computational Intelligence Society Chapter&lt;/span&gt;&lt;/td&gt;\n&lt;td style=&quot;
 height: 22.3828px\;&quot;&gt;&lt;span style=&quot;font-size: 8pt\;&quot;&gt;Swetha Chinta\, Yugand
 har Suthari&lt;/span&gt;&lt;/td&gt;\n&lt;/tr&gt;\n&lt;tr style=&quot;height: 22.3828px\;&quot;&gt;\n&lt;td styl
 e=&quot;height: 22.3828px\;&quot;&gt;&lt;span style=&quot;font-size: 8pt\;&quot;&gt;&amp;nbsp\;&lt;/span&gt;&lt;/td&gt;
 \n&lt;td style=&quot;height: 22.3828px\;&quot;&gt;&lt;span style=&quot;font-size: 8pt\;&quot;&gt;Computer 
 Society Chapter Chair\, Vice Chair&lt;/span&gt;&lt;/td&gt;\n&lt;td style=&quot;height: 22.3828
 px\;&quot;&gt;&lt;span style=&quot;font-size: 8pt\;&quot;&gt;Hamidreza Moradi\, L. Kittusamy&lt;/span
 &gt;&lt;/td&gt;\n&lt;/tr&gt;\n&lt;tr style=&quot;height: 22.3828px\;&quot;&gt;\n&lt;td style=&quot;height: 22.382
 8px\;&quot;&gt;&lt;span style=&quot;font-size: 8pt\;&quot;&gt;&amp;nbsp\;&lt;/span&gt;&lt;/td&gt;\n&lt;td style=&quot;heig
 ht: 22.3828px\;&quot;&gt;&lt;span style=&quot;font-size: 8pt\;&quot;&gt;Consultant&#39;s Network Affin
 ity Group Chair&lt;/span&gt;&lt;/td&gt;\n&lt;td style=&quot;height: 22.3828px\;&quot;&gt;&lt;span style=&quot;
 font-size: 8pt\;&quot;&gt;Guru Prasad Selvarajan&lt;/span&gt;&lt;/td&gt;\n&lt;/tr&gt;\n&lt;tr style=&quot;he
 ight: 22.3828px\;&quot;&gt;\n&lt;td style=&quot;height: 22.3828px\;&quot;&gt;&lt;span style=&quot;font-siz
 e: 8pt\;&quot;&gt;&amp;nbsp\;&lt;/span&gt;&lt;/td&gt;\n&lt;td style=&quot;height: 22.3828px\;&quot;&gt;&lt;span style
 =&quot;font-size: 8pt\;&quot;&gt;ENCS Section Student Activities Chair&lt;/span&gt;&lt;/td&gt;\n&lt;td
  style=&quot;height: 22.3828px\;&quot;&gt;&lt;span style=&quot;font-size: 8pt\;&quot;&gt;Sneha Narasimh
 an&lt;/span&gt;&lt;/td&gt;\n&lt;/tr&gt;\n&lt;tr style=&quot;height: 22.3828px\;&quot;&gt;\n&lt;td style=&quot;height
 : 22.3828px\;&quot;&gt;&lt;span style=&quot;font-size: 8pt\;&quot;&gt;&amp;nbsp\;&lt;/span&gt;&lt;/td&gt;\n&lt;td sty
 le=&quot;height: 22.3828px\;&quot;&gt;&lt;span style=&quot;font-size: 8pt\;&quot;&gt;ENCS Section Stude
 nt Rep&lt;/span&gt;&lt;/td&gt;\n&lt;td style=&quot;height: 22.3828px\;&quot;&gt;&lt;span style=&quot;font-size
 : 8pt\;&quot;&gt;Aniketh Shenoy Kota&lt;/span&gt;&lt;/td&gt;\n&lt;/tr&gt;\n&lt;tr style=&quot;height: 22.382
 8px\;&quot;&gt;\n&lt;td style=&quot;height: 22.3828px\;&quot;&gt;&lt;span style=&quot;font-size: 8pt\;&quot;&gt;&amp;n
 bsp\;&lt;/span&gt;&lt;/td&gt;\n&lt;td style=&quot;height: 22.3828px\;&quot;&gt;&lt;span style=&quot;font-size:
  8pt\;&quot;&gt;Industrial Electronics Society Chapter&lt;/span&gt;&lt;/td&gt;\n&lt;td style=&quot;hei
 ght: 22.3828px\;&quot;&gt;&lt;span style=&quot;font-size: 8pt\;&quot;&gt;Skieler Capezza&lt;/span&gt;&lt;/t
 d&gt;\n&lt;/tr&gt;\n&lt;tr style=&quot;height: 22.3828px\;&quot;&gt;\n&lt;td style=&quot;height: 22.3828px\
 ;&quot;&gt;&lt;span style=&quot;font-size: 8pt\;&quot;&gt;&amp;nbsp\;&lt;/span&gt;&lt;/td&gt;\n&lt;td style=&quot;height: 
 22.3828px\;&quot;&gt;&lt;span style=&quot;font-size: 8pt\;&quot;&gt;Life Member Affinity Group Cha
 ir&lt;/span&gt;&lt;/td&gt;\n&lt;td style=&quot;height: 22.3828px\;&quot;&gt;&lt;span style=&quot;font-size: 8p
 t\;&quot;&gt;Hayden Cranford&lt;/span&gt;&lt;/td&gt;\n&lt;/tr&gt;\n&lt;tr style=&quot;height: 22.3828px\;&quot;&gt;\
 n&lt;td style=&quot;height: 22.3828px\;&quot;&gt;&lt;span style=&quot;font-size: 8pt\;&quot;&gt;&amp;nbsp\;&lt;/s
 pan&gt;&lt;/td&gt;\n&lt;td style=&quot;height: 22.3828px\;&quot;&gt;&lt;span style=&quot;font-size: 8pt\;&quot;&gt;
 Lower Cape Fear Subsection Chair&lt;/span&gt;&lt;/td&gt;\n&lt;td style=&quot;height: 22.3828px
 \;&quot;&gt;&lt;span style=&quot;font-size: 8pt\;&quot;&gt;Michael Cardinale&lt;/span&gt;&lt;/td&gt;\n&lt;/tr&gt;\n&lt;
 tr style=&quot;height: 22.3828px\;&quot;&gt;\n&lt;td style=&quot;height: 22.3828px\;&quot;&gt;&lt;span sty
 le=&quot;font-size: 8pt\;&quot;&gt;&amp;nbsp\;&lt;/span&gt;&lt;/td&gt;\n&lt;td style=&quot;height: 22.3828px\;&quot;
 &gt;&lt;span style=&quot;font-size: 8pt\;&quot;&gt;Magnetics Society Chapter Chair&lt;/span&gt;&lt;/td
 &gt;\n&lt;td style=&quot;height: 22.3828px\;&quot;&gt;&lt;span style=&quot;font-size: 8pt\;&quot;&gt;Wei Zhan
 g&lt;/span&gt;&lt;/td&gt;\n&lt;/tr&gt;\n&lt;tr style=&quot;height: 22.3828px\;&quot;&gt;\n&lt;td style=&quot;height:
  22.3828px\;&quot;&gt;&lt;span style=&quot;font-size: 8pt\;&quot;&gt;&amp;nbsp\;&lt;/span&gt;&lt;/td&gt;\n&lt;td styl
 e=&quot;height: 22.3828px\;&quot;&gt;&lt;span style=&quot;font-size: 8pt\;&quot;&gt;NCSU Chapter Chair&lt;
 /span&gt;&lt;/td&gt;\n&lt;td style=&quot;height: 22.3828px\;&quot;&gt;&lt;span style=&quot;font-size: 8pt\;
 &quot;&gt;Mario Rosas Nava&lt;/span&gt;&lt;/td&gt;\n&lt;/tr&gt;\n&lt;tr style=&quot;height: 22.3828px\;&quot;&gt;\n&lt;
 td style=&quot;height: 22.3828px\;&quot;&gt;&lt;span style=&quot;font-size: 8pt\;&quot;&gt;&amp;nbsp\;&lt;/spa
 n&gt;&lt;/td&gt;\n&lt;td style=&quot;height: 22.3828px\;&quot;&gt;&lt;span style=&quot;font-size: 8pt\;&quot;&gt;No
 minations &amp;amp\; Appointments Chair&lt;/span&gt;&lt;/td&gt;\n&lt;td style=&quot;height: 22.382
 8px\;&quot;&gt;&lt;span style=&quot;font-size: 8pt\;&quot;&gt;Abhinav Aggarwal&lt;/span&gt;&lt;/td&gt;\n&lt;/tr&gt;\
 n&lt;tr style=&quot;height: 22.3828px\;&quot;&gt;\n&lt;td style=&quot;height: 22.3828px\;&quot;&gt;&lt;span s
 tyle=&quot;font-size: 8pt\;&quot;&gt;&amp;nbsp\;&lt;/span&gt;&lt;/td&gt;\n&lt;td style=&quot;height: 22.3828px\
 ;&quot;&gt;&lt;span style=&quot;font-size: 8pt\;&quot;&gt;Power &amp;amp\; Energy / Industry Applic So
 c Chair\, Vice Chair&lt;/span&gt;&lt;/td&gt;\n&lt;td style=&quot;height: 22.3828px\;&quot;&gt;&lt;span st
 yle=&quot;font-size: 8pt\;&quot;&gt;Muthu Madhu\, L. Cheng&lt;/span&gt;&lt;/td&gt;\n&lt;/tr&gt;\n&lt;tr styl
 e=&quot;height: 22.3828px\;&quot;&gt;\n&lt;td style=&quot;height: 22.3828px\;&quot;&gt;&lt;span style=&quot;fon
 t-size: 8pt\;&quot;&gt;&amp;nbsp\;&lt;/span&gt;&lt;/td&gt;\n&lt;td style=&quot;height: 22.3828px\;&quot;&gt;&lt;span 
 style=&quot;font-size: 8pt\;&quot;&gt;Robots &amp;amp\; Automation Chapter Chair&lt;/span&gt;&lt;/td
 &gt;\n&lt;td style=&quot;height: 22.3828px\;&quot;&gt;&lt;span style=&quot;font-size: 8pt\;&quot;&gt;Aaron Ma
 thew&lt;/span&gt;&lt;/td&gt;\n&lt;/tr&gt;\n&lt;tr style=&quot;height: 22.3828px\;&quot;&gt;\n&lt;td style=&quot;heig
 ht: 22.3828px\;&quot;&gt;&lt;span style=&quot;font-size: 8pt\;&quot;&gt;&amp;nbsp\;&lt;/span&gt;&lt;/td&gt;\n&lt;td s
 tyle=&quot;height: 22.3828px\;&quot;&gt;&lt;span style=&quot;font-size: 8pt\;&quot;&gt;Signal Processin
 g Society Chapter&lt;/span&gt;&lt;/td&gt;\n&lt;td style=&quot;height: 22.3828px\;&quot;&gt;&lt;span style
 =&quot;font-size: 8pt\;&quot;&gt;Bhupendra Singh&lt;/span&gt;&lt;/td&gt;\n&lt;/tr&gt;\n&lt;tr style=&quot;height:
  22.3828px\;&quot;&gt;\n&lt;td style=&quot;height: 22.3828px\;&quot;&gt;&lt;span style=&quot;font-size: 8p
 t\;&quot;&gt;&amp;nbsp\;&lt;/span&gt;&lt;/td&gt;\n&lt;td style=&quot;height: 22.3828px\;&quot;&gt;&lt;span style=&quot;fon
 t-size: 8pt\;&quot;&gt;Technology &amp;amp\; Engineering Management Society (TEMS)&lt;/sp
 an&gt;&lt;/td&gt;\n&lt;td style=&quot;height: 22.3828px\;&quot;&gt;&lt;span style=&quot;font-size: 8pt\;&quot;&gt;M
 egha Ben&lt;/span&gt;&lt;/td&gt;\n&lt;/tr&gt;\n&lt;tr style=&quot;height: 22.3828px\;&quot;&gt;\n&lt;td style=&quot;
 height: 22.3828px\;&quot;&gt;&lt;span style=&quot;font-size: 8pt\;&quot;&gt;&amp;nbsp\;&lt;/span&gt;&lt;/td&gt;\n&lt;
 td style=&quot;height: 22.3828px\;&quot;&gt;&lt;span style=&quot;font-size: 8pt\;&quot;&gt;Women in Eng
 ineering Affinity Group Chair&lt;/span&gt;&lt;/td&gt;\n&lt;td style=&quot;height: 22.3828px\;&quot;
 &gt;&lt;span style=&quot;font-size: 8pt\;&quot;&gt;Eve Klopf&lt;/span&gt;&lt;/td&gt;\n&lt;/tr&gt;\n&lt;tr style=&quot;h
 eight: 22.3828px\;&quot;&gt;\n&lt;td style=&quot;height: 22.3828px\;&quot;&gt;&lt;span style=&quot;font-si
 ze: 8pt\;&quot;&gt;&amp;nbsp\;&lt;/span&gt;&lt;/td&gt;\n&lt;td style=&quot;height: 22.3828px\;&quot;&gt;&lt;span styl
 e=&quot;font-size: 8pt\;&quot;&gt;Young Professionals Affinity Group Chair&lt;/span&gt;&lt;/td&gt;\
 n&lt;td style=&quot;height: 22.3828px\;&quot;&gt;&lt;span style=&quot;font-size: 8pt\;&quot;&gt;Prakhar Lo
 hiya&lt;/span&gt;&lt;/td&gt;\n&lt;/tr&gt;\n&lt;/tbody&gt;\n&lt;/table&gt;\n&lt;p dir=&quot;ltr&quot;&gt;8:20 &amp;ndash\; 8:
 30&amp;nbsp\; Other Business - Chair/Vice Chair&lt;/p&gt;\n&lt;p&gt;8:30 &amp;ndash\; 8:35&amp;nbs
 p\; Concluding Remarks and Closing - Chair/Vice Chair&lt;/p&gt;\n&lt;p&gt;&amp;nbsp\;&lt;/p&gt;\
 n&lt;p&gt;&amp;nbsp\;&lt;/p&gt;
END:VEVENT
END:VCALENDAR

