BEGIN:VCALENDAR
VERSION:2.0
PRODID:IEEE vTools.Events//EN
CALSCALE:GREGORIAN
BEGIN:VTIMEZONE
TZID:America/Denver
BEGIN:DAYLIGHT
DTSTART:20260308T030000
TZOFFSETFROM:-0700
TZOFFSETTO:-0600
RRULE:FREQ=YEARLY;BYDAY=2SU;BYMONTH=3
TZNAME:MDT
END:DAYLIGHT
BEGIN:STANDARD
DTSTART:20251102T010000
TZOFFSETFROM:-0600
TZOFFSETTO:-0700
RRULE:FREQ=YEARLY;BYDAY=1SU;BYMONTH=11
TZNAME:MST
END:STANDARD
END:VTIMEZONE
BEGIN:VEVENT
DTSTAMP:20260206T195213Z
UID:E28FF588-BEE9-4C5F-A314-9BB1783C45DA
DTSTART;TZID=America/Denver:20260128T170000
DTEND;TZID=America/Denver:20260206T193000
DESCRIPTION:Join the IEEE Student Branch at ASU to learn more about the exc
 iting opportunities that GDMS has to offer! GDMS is a leading defense cont
 ractor developing advanced solutions in everything from Aerospace to cyber
 security\, and with locations across the country and here in Scottsdale\, 
 Arizona.\nSwing by to learn about the company\, meet their recruiters\, an
 d hopefully secure your next big opportunity!\n\nCo-sponsored by: General 
 Dynamics Mission Systems\n\nRoom: PSH 150\, Bldg: Physical Sciences H-Wing
 \, 550 E Tyler Mall\, Tempe\, Arizona\, United States
LOCATION:Room: PSH 150\, Bldg: Physical Sciences H-Wing\, 550 E Tyler Mall\
 , Tempe\, Arizona\, United States
ORGANIZER:jrcondon@asu.edu
SEQUENCE:5
SUMMARY:General Dynamics Mission Systems Information Session
URL;VALUE=URI:https://events.vtools.ieee.org/m/537620
X-ALT-DESC:Description: &lt;br /&gt;&lt;div id=&quot;event_details&quot; class=&quot;card&quot;&gt;\n&lt;div c
 lass=&quot;card-block&quot;&gt;Join the IEEE Student Branch at ASU to learn more about 
 the exciting opportunities that GDMS has to offer! GDMS is a leading defen
 se contractor developing advanced solutions in everything from Aerospace t
 o cybersecurity\, and with locations across the country and here in Scotts
 dale\, Arizona.&lt;br&gt;&lt;br&gt;Swing by to learn about the company\, meet their re
 cruiters\, and hopefully secure your next big opportunity!\n&lt;div&gt;&amp;nbsp\;&lt;/
 div&gt;\n&lt;/div&gt;\n&lt;/div&gt;\n&lt;div id=&quot;event_where&quot; class=&quot;card&quot;&gt;\n&lt;div class=&quot;car
 d-block&quot; role=&quot;group&quot; aria-label=&quot;Where. Google maps.&quot;&gt;\n&lt;div class=&quot;card-
 block__title&quot;&gt;&amp;nbsp\;&lt;/div&gt;\n&lt;/div&gt;\n&lt;/div&gt;
END:VEVENT
END:VCALENDAR

