BEGIN:VCALENDAR
VERSION:2.0
PRODID:IEEE vTools.Events//EN
CALSCALE:GREGORIAN
BEGIN:VTIMEZONE
TZID:America/Los_Angeles
BEGIN:DAYLIGHT
DTSTART:20260308T030000
TZOFFSETFROM:-0800
TZOFFSETTO:-0700
RRULE:FREQ=YEARLY;BYDAY=2SU;BYMONTH=3
TZNAME:PDT
END:DAYLIGHT
BEGIN:STANDARD
DTSTART:20261101T010000
TZOFFSETFROM:-0700
TZOFFSETTO:-0800
RRULE:FREQ=YEARLY;BYDAY=1SU;BYMONTH=11
TZNAME:PST
END:STANDARD
END:VTIMEZONE
BEGIN:VEVENT
DTSTAMP:20260328T094502Z
UID:6776F7D2-843F-4073-A770-D16897A874D4
DTSTART;TZID=America/Los_Angeles:20260328T173000
DTEND;TZID=America/Los_Angeles:20260328T223000
DESCRIPTION:IEEE Vancouver Section Annual General Meeting 2026 Saturday \, 
 March 28\, 2026 | 5:00 PM – 10:00 PM The Permanent\, 330 W Pender Street
 \, Vancouver\, BC\n\nJoin us for the IEEE Vancouver Section Annual General
  Meeting — an evening of networking\, recognition\, and celebration of o
 ur community&#39;s achievements. The event features a student poster competiti
 on\, live guitar entertainment\, a dinner buffet\, section awards\, and a 
 keynote address.\n\nKeynote: The Architecture of Digital Memory\n\nKeynote
  Speaker: Ms. Andrea Mills\n\nDress Code: Business attire\n\nGetting There
 \n\nBy Transit (Recommended): The Permanent is a short walk from Waterfron
 t and Stadium–Chinatown SkyTrain stations. TransLink trip planning at tr
 anslink.ca.\n\nBy Car – Nearby Parking:\n\n- Impark – 250 W Pender St\
 n- Advanced Parking – 515 W Pender St\n\nStreet parking is also availabl
 e on surrounding blocks\; check posted signs for time restrictions. Guests
  are encouraged to use transit where possible.\n\nAgenda: \nPreliminary ag
 enda for the evening of the AGM &amp; Gala:\n• 5:00 PM – Doors open\; bar 
 service begins\n• 5:30 PM – Networking\, passed canapés\, student pos
 ter competition\, and live guitar (Set 1)\n• 6:30 PM – Music concludes
 \; guests take their seats\n• 6:45 PM – IEEE AGM business meeting and 
 awards presentation\n• 7:30 PM – IEEE Canada President Address - Dr. W
 ahab Almuhtadi\n• 7:45 PM – Dinner buffet opens\; live guitar resumes 
 (Set 2)\n• 8:45 PM – Keynote address\n• 9:30 PM – Networking\n• 
 10:00 PM – Event concludes\n\nTentative Agenda of the IEEE AGM business 
 meeting and awards presentation:\n\n• Call to Order\n• Approval of the
  Agenda\n• Approval of the 2025 AGM Minutes\n• Introduction of the 202
 6 Vancouver Section Executive Committee\n• Chair’s Report: Year-End Hi
 ghlights and Results\n• Treasurer’s Report and Auditor’s Report\n•
  Approval of the Chair’s and Treasurer’s Reports\n• Section Plans fo
 r the Coming Year\n• Upcoming IEEE Conferences and Events in Vancouver\n
 • Scholarship Announcements\n• Awards and Recognition\n• Any Other B
 usiness\n• Adjournment\n\nSponsors: The Vancouver Section gratefully ack
 nowledges our generous AGM sponsors who are making this event possible:\n\
 n- Diamond Sponsor: Destination Vancouver\n- Gold Sponsor: Master of Scien
 ce in Applied Computing\, BCIT\n- Gold Sponsor:  TELUS\n- Silver Sponsor: 
 School of Computing\, University of the Fraser Valley\n\nThe Permanent\, 3
 30 West Pender Street\, Vancouver\, British Columbia\, Canada\, V6B 1T1
LOCATION:The Permanent\, 330 West Pender Street\, Vancouver\, British Colum
 bia\, Canada\, V6B 1T1
ORGANIZER:mandeep.pannu@ieee.org
SEQUENCE:38
SUMMARY:2026 IEEE Vancouver Section AGM &amp; Gala 
URL;VALUE=URI:https://events.vtools.ieee.org/m/537633
X-ALT-DESC:Description: &lt;br /&gt;&lt;p style=&quot;text-align: center\;&quot;&gt;&lt;img src=&quot;htt
 ps://events.vtools.ieee.org/vtools_ui/media/display/82fdbebe-58a9-4f23-b62
 1-6dcb028469e3&quot; width=&quot;994&quot; height=&quot;329&quot;&gt;&lt;/p&gt;\n&lt;p&gt;&lt;strong data-olk-copy-so
 urce=&quot;MessageBody&quot;&gt;IEEE Vancouver Section Annual General Meeting 2026&lt;/str
 ong&gt;&lt;strong&gt; Saturday \, March 28\, 2026 | 5:00 PM &amp;ndash\; 10:00 PM&lt;/stro
 ng&gt;&amp;nbsp\;&lt;strong&gt;The Permanent\, 330 W Pender Street\, Vancouver\, BC&lt;/st
 rong&gt;&lt;/p&gt;\n&lt;p&gt;Join us for the IEEE Vancouver Section Annual General Meetin
 g &amp;mdash\; an evening of networking\, recognition\, and celebration of our
  community&#39;s achievements. The event features a student poster competition
 \, live guitar entertainment\, a dinner buffet\, section awards\, and a ke
 ynote address.&lt;/p&gt;\n&lt;h2&gt;Keynote: The Architecture of Digital Memory&lt;/h2&gt;\n
 &lt;h2&gt;Keynote Speaker: Ms. Andrea Mills&amp;nbsp\;&lt;/h2&gt;\n&lt;p&gt;&amp;nbsp\;&lt;/p&gt;\n&lt;p&gt;&lt;str
 ong&gt;Dress Code: Business attire&lt;/strong&gt;&lt;/p&gt;\n&lt;p&gt;&lt;strong data-olk-copy-sou
 rce=&quot;MessageBody&quot;&gt;Getting There&lt;/strong&gt;&lt;/p&gt;\n&lt;p&gt;&lt;em&gt;By Transit (Recommend
 ed):&lt;/em&gt;&amp;nbsp\;The Permanent is a short walk from Waterfront and Stadium&amp;
 ndash\;Chinatown SkyTrain stations. TransLink trip planning at translink.c
 a.&lt;/p&gt;\n&lt;p&gt;&lt;em&gt;By Car &amp;ndash\; Nearby Parking:&lt;/em&gt;&lt;/p&gt;\n&lt;ul&gt;\n&lt;li&gt;Impark 
 &amp;ndash\; 250 W Pender St&lt;/li&gt;\n&lt;li&gt;Advanced Parking &amp;ndash\; 515 W Pender 
 St&lt;/li&gt;\n&lt;/ul&gt;\n&lt;p&gt;Street parking is also available on surrounding blocks\
 ; check posted signs for time restrictions. Guests are encouraged to use t
 ransit where possible.&lt;/p&gt;&lt;br /&gt;&lt;br /&gt;Agenda: &lt;br /&gt;&lt;p&gt;&lt;strong&gt;Preliminary
  agenda for the evening of the AGM &amp;amp\; Gala:&lt;/strong&gt;&lt;/p&gt;\n&lt;div&gt;&amp;bull\;
  5:00 PM &amp;ndash\; Doors open\; bar service begins&lt;/div&gt;\n&lt;div&gt;&amp;bull\; 5:30
  PM &amp;ndash\; Networking\, passed canap&amp;eacute\;s\, student poster competit
 ion\, and live guitar (Set 1)&lt;/div&gt;\n&lt;div&gt;&amp;bull\; 6:30 PM &amp;ndash\; Music c
 oncludes\; guests take their seats&lt;/div&gt;\n&lt;div&gt;&amp;bull\; 6:45 PM &amp;ndash\; IE
 EE AGM business meeting and awards presentation&lt;/div&gt;\n&lt;div&gt;&amp;bull\; 7:30 P
 M &amp;ndash\; IEEE Canada President Address - Dr. Wahab Almuhtadi&lt;/div&gt;\n&lt;div
 &gt;&amp;bull\; 7:45 PM &amp;ndash\; Dinner buffet opens\; live guitar resumes (Set 2
 )&lt;/div&gt;\n&lt;div&gt;&amp;bull\; 8:45 PM &amp;ndash\; Keynote address&lt;/div&gt;\n&lt;div&gt;&amp;bull\;
  9:30 PM &amp;ndash\; Networking&lt;/div&gt;\n&lt;div&gt;&amp;bull\; 10:00 PM &amp;ndash\; Event c
 oncludes&lt;/div&gt;\n&lt;div&gt;&amp;nbsp\;&lt;/div&gt;\n&lt;p&gt;&lt;strong&gt;Tentative Agenda of the IEE
 E AGM business meeting and awards presentation:&lt;/strong&gt;&lt;/p&gt;\n&lt;p&gt;&amp;bull\; C
 all to Order&lt;br data-start=&quot;253&quot; data-end=&quot;256&quot;&gt;&amp;bull\; Approval of the Ag
 enda&lt;br data-start=&quot;280&quot; data-end=&quot;283&quot;&gt;&amp;bull\; Approval of the 2025 AGM M
 inutes&lt;br data-start=&quot;317&quot; data-end=&quot;320&quot;&gt;&amp;bull\; Introduction of the 2026
  Vancouver Section Executive Committee&lt;br data-start=&quot;384&quot; data-end=&quot;387&quot;&gt;
 &amp;bull\; Chair&amp;rsquo\;s Report: Year-End Highlights and Results&lt;br data-sta
 rt=&quot;436&quot; data-end=&quot;439&quot;&gt;&amp;bull\; Treasurer&amp;rsquo\;s Report and Auditor&amp;rsqu
 o\;s Report&lt;br data-start=&quot;480&quot; data-end=&quot;483&quot;&gt;&amp;bull\; Approval of the Cha
 ir&amp;rsquo\;s and Treasurer&amp;rsquo\;s Reports&lt;br data-start=&quot;532&quot; data-end=&quot;5
 35&quot;&gt;&amp;bull\; Section Plans for the Coming Year&lt;br data-start=&quot;570&quot; data-end
 =&quot;573&quot;&gt;&amp;bull\; Upcoming IEEE Conferences and Events in Vancouver&lt;br data-s
 tart=&quot;624&quot; data-end=&quot;627&quot;&gt;&amp;bull\; Scholarship Announcements&lt;br data-start=
 &quot;654&quot; data-end=&quot;657&quot;&gt;&amp;bull\; Awards and Recognition&lt;br data-start=&quot;681&quot; da
 ta-end=&quot;684&quot;&gt;&amp;bull\; Any Other Business&lt;br data-start=&quot;704&quot; data-end=&quot;707&quot;
 &gt;&amp;bull\; Adjournment&lt;br&gt;&lt;br&gt;&lt;/p&gt;\n&lt;p&gt;&lt;strong&gt;Sponsors:&amp;nbsp\;&amp;nbsp\;&lt;/stro
 ng&gt;The Vancouver Section gratefully acknowledges our generous AGM sponsors
  who are making this event possible:&lt;/p&gt;\n&lt;ul&gt;\n&lt;li style=&quot;font-size: 18pt
 \;&quot;&gt;&lt;span style=&quot;font-size: 18pt\;&quot;&gt;&lt;strong&gt;&lt;span data-olk-copy-source=&quot;Me
 ssageBody&quot;&gt;Diamond &lt;/span&gt;Sponsor: &lt;/strong&gt;&lt;span data-olk-copy-source=&quot;Me
 ssageBody&quot;&gt;Destination Vancouver&amp;nbsp\;&lt;/span&gt;&lt;/span&gt;&lt;/li&gt;\n&lt;li style=&quot;fon
 t-size: 18pt\;&quot;&gt;&lt;span style=&quot;font-size: 18pt\;&quot;&gt;&lt;strong&gt;Gold Sponsor:&lt;/str
 ong&gt; &lt;span data-olk-copy-source=&quot;MessageBody&quot;&gt;Master of Science in Applied
  Computing\, &amp;nbsp\;BCIT&amp;nbsp\;&lt;/span&gt;&lt;/span&gt;&lt;/li&gt;\n&lt;li style=&quot;font-size: 
 18pt\;&quot;&gt;&lt;span style=&quot;font-size: 18pt\;&quot;&gt;&lt;strong&gt;Gold Sponsor:&lt;/strong&gt; &lt;sp
 an data-olk-copy-source=&quot;MessageBody&quot;&gt;&amp;nbsp\;TELUS&amp;nbsp\;&lt;/span&gt;&lt;/span&gt;&lt;/l
 i&gt;\n&lt;li style=&quot;font-size: 18pt\;&quot;&gt;&lt;span style=&quot;font-size: 18pt\;&quot;&gt;&lt;strong&gt;
 Silver Sponsor: &lt;/strong&gt;School of Computing\, University of the Fraser Va
 lley&lt;/span&gt;&lt;/li&gt;\n&lt;/ul&gt;
END:VEVENT
END:VCALENDAR

