BEGIN:VCALENDAR
VERSION:2.0
PRODID:IEEE vTools.Events//EN
CALSCALE:GREGORIAN
BEGIN:VTIMEZONE
TZID:America/New_York
BEGIN:DAYLIGHT
DTSTART:20260308T030000
TZOFFSETFROM:-0500
TZOFFSETTO:-0400
RRULE:FREQ=YEARLY;BYDAY=2SU;BYMONTH=3
TZNAME:EDT
END:DAYLIGHT
BEGIN:STANDARD
DTSTART:20261101T010000
TZOFFSETFROM:-0400
TZOFFSETTO:-0500
RRULE:FREQ=YEARLY;BYDAY=1SU;BYMONTH=11
TZNAME:EST
END:STANDARD
END:VTIMEZONE
BEGIN:VEVENT
DTSTAMP:20260401T174134Z
UID:C05A27F8-5FEB-4FBF-A28C-EA198A57934F
DTSTART;TZID=America/New_York:20260331T170000
DTEND;TZID=America/New_York:20260331T200000
DESCRIPTION:Secrets to Career Success\n\nAre you fully prepared to “hit t
 he ground running” as you start your career? What skills are truly value
 d by employers? What differentiates engineers who quickly rise through the
  ranks from the ones whose progression stagnates? How will the advent of A
 I change the game? IEEE Providence Section is pleased to offer an engaging
 \, practical talk full of tips aspiring engineers of all specialties can a
 pply immediately to accelerate their career growth. This talk is a “must
 -see” for up-and-coming professionals!\n\nAbout the Speaker\n\nAndy Will
 ner is Managing Director at CAEDENCE Consulting LLC. His team resolves the
  most pressing issues related to product development\, launch readiness\, 
 quality &amp; manufacturing\, customer satisfaction\, and business processes f
 or companies and their supply chains while strengthening clients&#39; teams an
 d systems for long-term success. Prior to CAEDENCE\, Andy honed his expert
 ise over a career leading numerous successful new product development proj
 ects at Sensata Technologies and Texas Instruments. He has degrees from Co
 rnell\, Binghamton\, and NTU. Andy is a registered professional engineer a
 nd holds 8 patents on electromechanical devices and systems. [Follow Andy 
 on LinkedIn](http://www.linkedin.com/in/andy-willner-p-e-508792/) | [CAEDE
 NCE&#39;s Website](http://www.caedenceconsulting.com/) | [Follow CAEDENCE on L
 inkedIn](https://www.linkedin.com/company/caedenceconsulting/)\n\nVirtual:
  https://events.vtools.ieee.org/m/537637
LOCATION:Virtual: https://events.vtools.ieee.org/m/537637
ORGANIZER:aruocco@rwu.edu
SEQUENCE:9
SUMMARY:Secrets to Career Success
URL;VALUE=URI:https://events.vtools.ieee.org/m/537637
X-ALT-DESC:Description: &lt;br /&gt;&lt;p class=&quot;MsoNormal&quot;&gt;&lt;strong&gt;Secrets to Caree
 r Success&lt;/strong&gt;&lt;/p&gt;\n&lt;p class=&quot;MsoNormal&quot;&gt;Are you fully prepared to &amp;ld
 quo\;hit the ground running&amp;rdquo\; as you start your career? What skills 
 are truly valued by employers? What differentiates engineers who quickly r
 ise through the ranks from the ones whose progression stagnates? How will 
 the advent of AI change the game? IEEE Providence Section is pleased to of
 fer an engaging\, practical talk full of tips aspiring engineers of all sp
 ecialties can apply immediately to accelerate their career growth. This ta
 lk is a &amp;ldquo\;must-see&amp;rdquo\; for up-and-coming professionals!&lt;/p&gt;\n&lt;p 
 class=&quot;MsoNormal&quot;&gt;&amp;nbsp\;&lt;/p&gt;\n&lt;p class=&quot;MsoNormal&quot;&gt;&lt;strong&gt;About the Spea
 ker&lt;/strong&gt;&amp;nbsp\;&lt;/p&gt;\n&lt;p class=&quot;MsoNormal&quot;&gt;Andy Willner is Managing Dir
 ector&amp;nbsp\;at&amp;nbsp\;CAEDENCE Consulting LLC. His team resolves&amp;nbsp\;the 
 most pressing issues related to&amp;nbsp\;product development\, launch readine
 ss\, quality&amp;nbsp\;&amp;amp\;&amp;nbsp\;manufacturing\,&amp;nbsp\;customer satisfactio
 n\,&amp;nbsp\;and&amp;nbsp\;business processes for companies and their supply chai
 ns while strengthening&amp;nbsp\;clients&#39; teams and systems for long-term succ
 ess.&amp;nbsp\;Prior to CAEDENCE\,&amp;nbsp\;Andy honed his&amp;nbsp\;expertise&amp;nbsp\;
 over a career&amp;nbsp\;leading&amp;nbsp\;numerous&amp;nbsp\;successful new product de
 velopment projects&amp;nbsp\;at&amp;nbsp\;Sensata&amp;nbsp\;Technologies and Texas Ins
 truments. He has degrees from Cornell\, Binghamton\, and NTU. Andy is a re
 gistered professional engineer and holds 8 patents on electromechanical de
 vices and systems.&amp;nbsp\;&amp;nbsp\;&lt;a href=&quot;http://www.linkedin.com/in/andy-w
 illner-p-e-508792/&quot;&gt;Follow Andy on LinkedIn&lt;/a&gt;&amp;nbsp\;|&amp;nbsp\;&lt;a href=&quot;htt
 p://www.caedenceconsulting.com/&quot;&gt;CAEDENCE&#39;s Website&lt;/a&gt;&amp;nbsp\;|&amp;nbsp\;&lt;a h
 ref=&quot;https://www.linkedin.com/company/caedenceconsulting/&quot;&gt;Follow CAEDENCE
  on LinkedIn&lt;/a&gt;&amp;nbsp\;&lt;/p&gt;
END:VEVENT
END:VCALENDAR

