BEGIN:VCALENDAR
VERSION:2.0
PRODID:IEEE vTools.Events//EN
CALSCALE:GREGORIAN
BEGIN:VTIMEZONE
TZID:America/Denver
BEGIN:DAYLIGHT
DTSTART:20260308T030000
TZOFFSETFROM:-0700
TZOFFSETTO:-0600
RRULE:FREQ=YEARLY;BYDAY=2SU;BYMONTH=3
TZNAME:MDT
END:DAYLIGHT
BEGIN:STANDARD
DTSTART:20251102T010000
TZOFFSETFROM:-0600
TZOFFSETTO:-0700
RRULE:FREQ=YEARLY;BYDAY=1SU;BYMONTH=11
TZNAME:MST
END:STANDARD
END:VTIMEZONE
BEGIN:VEVENT
DTSTAMP:20260225T005108Z
UID:242DFE1F-05CA-418C-9A51-21AA21CF59F2
DTSTART;TZID=America/Denver:20260217T180000
DTEND;TZID=America/Denver:20260217T203000
DESCRIPTION:In Person attendance at Original Brooklyn&#39;s\, 2644 W Colfax Ave
 \, Denver\, CO 80204.\n\nNOTE on Parking: All parking for Original Brookly
 n is now behind the restaurant. Please do not park in the Empower field pa
 rking lot or other restaurants. Parking for Original Brooklyn will have si
 gns.\n\nRemote attendance via WebEx call-in:\n\nDenver Excom Meeting\nHost
 ed by IEEE Denver Section\n\nhttps://ieeemeetings.webex.com/ieeemeetings/j
 .php?MTID=m4fa1461a887d1a94fd52de51e94aa369\n3rd Tuesday 6:00 PM | 2 hours
  30 minutes | (UTC-06:00) Mountain Time (US &amp; Canada)\nOccurs the third Tu
 esday of every month effective 6/15/2021 from 6:00 PM to 8:30 PM\, (UTC-06
 :00) Mountain Time (US &amp; Canada)\nMeeting number: 596 761 562\nPassword: h
 uVJgx2N7b7\n\nJoin by video system\nDial 596761562@ieeemeetings.webex.com\
 nYou can also dial 173.243.2.68 and enter your meeting number.\n\nJoin by 
 phone\n+1-415-655-0002 United States Toll\n1-855-282-6330 United States To
 ll Free\n\nAccess code: 596 761 562\n\nAgenda: \n- Meals and Socializing 6
 -6:30pm\n- Roll Call\, Introductions\, and Verification of a Quorum\n- Add
 itions to the Agenda\n- Officer Reports\n- Student/ Affinity Group / Chapt
 er Updates\n- Committee Reports\n- Old Business\n- Other Items &amp; New Busin
 ess\n- Adjourn\n\nOriginal Brooklyn&#39;s\, 2644 W Colfax Ave\, Denver\, Color
 ado\, United States\, 80204\, Virtual: https://events.vtools.ieee.org/m/53
 7756
LOCATION:Original Brooklyn&#39;s\, 2644 W Colfax Ave\, Denver\, Colorado\, Unit
 ed States\, 80204\, Virtual: https://events.vtools.ieee.org/m/537756
ORGANIZER:lucytalley@ieee.org
SEQUENCE:18
SUMMARY:IEEE Denver ExCom February 2026 Meeting (In Person and Webex)
URL;VALUE=URI:https://events.vtools.ieee.org/m/537756
X-ALT-DESC:Description: &lt;br /&gt;&lt;p&gt;&lt;strong&gt;In Person attendance&lt;/strong&gt; at O
 riginal Brooklyn&#39;s\, 2644 W Colfax Ave\, Denver\, CO 80204.&lt;/p&gt;\n&lt;p&gt;NOTE o
 n Parking: All parking for Original Brooklyn is now behind the restaurant.
  Please do not park in the Empower field parking lot or other restaurants.
  Parking for Original Brooklyn will have signs.&lt;/p&gt;\n&lt;p&gt;&lt;strong&gt;Remote att
 endance&lt;/strong&gt; via WebEx call-in:&lt;/p&gt;\n&lt;p&gt;Denver Excom Meeting&lt;br&gt;Hosted
  by IEEE Denver Section&lt;/p&gt;\n&lt;p&gt;https://ieeemeetings.webex.com/ieeemeeting
 s/j.php?MTID=m4fa1461a887d1a94fd52de51e94aa369&lt;br&gt;3rd Tuesday 6:00 PM | 2 
 hours 30 minutes | (UTC-06:00) Mountain Time (US &amp;amp\; Canada)&lt;br&gt;Occurs 
 the third Tuesday of every month effective 6/15/2021 from 6:00 PM to 8:30 
 PM\, (UTC-06:00) Mountain Time (US &amp;amp\; Canada)&lt;br&gt;Meeting number: 596 7
 61 562&lt;br&gt;Password: huVJgx2N7b7&lt;/p&gt;\n&lt;p&gt;Join by video system&lt;br&gt;Dial 59676
 1562@ieeemeetings.webex.com&lt;br&gt;You can also dial 173.243.2.68 and enter yo
 ur meeting number.&lt;/p&gt;\n&lt;p&gt;Join by phone&lt;br&gt;+1-415-655-0002 United States 
 Toll&lt;br&gt;1-855-282-6330 United States Toll Free&lt;/p&gt;\n&lt;p&gt;Access code: 596 76
 1 562&lt;/p&gt;\n&lt;div class=&quot;meeting_detail_wrapper&quot; role=&quot;region&quot; aria-label=&quot;M
 ore ways to join&quot;&gt;&amp;nbsp\;&lt;/div&gt;&lt;br /&gt;&lt;br /&gt;Agenda: &lt;br /&gt;&lt;ul&gt;\n&lt;li&gt;Meals a
 nd Socializing 6-6:30pm&lt;/li&gt;\n&lt;li&gt;Roll Call\, Introductions\, and Verifica
 tion of a Quorum&lt;/li&gt;\n&lt;li&gt;Additions to the Agenda&amp;nbsp\;&lt;/li&gt;\n&lt;li&gt;Office
 r Reports&lt;/li&gt;\n&lt;li&gt;Student/ Affinity Group / Chapter Updates&lt;/li&gt;\n&lt;li&gt;Co
 mmittee Reports&lt;/li&gt;\n&lt;li&gt;Old Business&lt;/li&gt;\n&lt;li&gt;Other Items &amp;amp\; New Bu
 siness&lt;/li&gt;\n&lt;li&gt;Adjourn&lt;/li&gt;\n&lt;/ul&gt;
END:VEVENT
END:VCALENDAR

