BEGIN:VCALENDAR
VERSION:2.0
PRODID:IEEE vTools.Events//EN
CALSCALE:GREGORIAN
BEGIN:VTIMEZONE
TZID:Europe/Madrid
BEGIN:DAYLIGHT
DTSTART:20260329T030000
TZOFFSETFROM:+0100
TZOFFSETTO:+0200
RRULE:FREQ=YEARLY;BYDAY=-1SU;BYMONTH=3
TZNAME:CEST
END:DAYLIGHT
BEGIN:STANDARD
DTSTART:20251026T020000
TZOFFSETFROM:+0200
TZOFFSETTO:+0100
RRULE:FREQ=YEARLY;BYDAY=-1SU;BYMONTH=10
TZNAME:CET
END:STANDARD
END:VTIMEZONE
BEGIN:VEVENT
DTSTAMP:20260320T132235Z
UID:280AFAB4-0B34-4BDB-B8C3-F836A8B7E2F6
DTSTART;TZID=Europe/Madrid:20260318T190000
DTEND;TZID=Europe/Madrid:20260318T203000
DESCRIPTION:Presentación del Grupo Español de IEEE Life Members - Impacto
  de las TIC y la IA en el consumo energético global\n\n19:00 Reunión del
  Grupo Español de IEEE Life Members\n\n19:25 Introducción - Francisco Ar
 cega\, chair del Grupo de Life Members en IEEE España.\n\n19:30 &quot;Impacto 
 de las TIC y la IA en el consumo energético global&quot;\, Alberto Prieto\, Ca
 tedrático Emérito del Departamento de ingeniería de Computadores\, Auto
 mática y Robótica de la Universidad de Granada.\n\n20:10 Preguntas.\n\n2
 0:30 Cierre de la sesión.\n\nRegistro obligatorio para recibir el enlace 
 de videoconferencia (webex).\n\nSpeaker(s): Alberto Prieto\, \n\nAgenda: \
 nPresentación del Grupo Español de IEEE Life Members - Impacto de las TI
 C y la IA en el consumo energético global\n\n19:00 Reunión del Grupo Esp
 añol de IEEE Life Members\n\n19:25 Introducción - Francisco Arcega\, cha
 ir del Grupo de Life Members en IEEE España.\n\n19:30 &quot;Impacto de las TIC
  y la IA en el consumo energético global&quot;\, Alberto Prieto\, Catedrático
  Emérito del Departamento de ingeniería de Computadores\, Automática y 
 Robótica de la Universidad de Granada.\n\n20:10 Preguntas.\n\n20:30 Cierr
 e de la sesión.\n\nVirtual: https://events.vtools.ieee.org/m/538121
LOCATION:Virtual: https://events.vtools.ieee.org/m/538121
ORGANIZER:arcegafj@unizar.es
SEQUENCE:83
SUMMARY:Grupo Español de IEEE Life Members - Impacto de las TIC y la IA en
  el consumo energético global
URL;VALUE=URI:https://events.vtools.ieee.org/m/538121
X-ALT-DESC:Description: &lt;br /&gt;&lt;p class=&quot;MsoNormal&quot;&gt;&lt;span style=&quot;font-size: 
 12.0pt\; line-height: 107%\;&quot;&gt;Presentaci&amp;oacute\;n del Grupo Espa&amp;ntilde\;
 ol de IEEE Life Members - Impacto de las TIC y la IA en el consumo energ&amp;e
 acute\;tico global&lt;/span&gt;&lt;/p&gt;\n&lt;p class=&quot;MsoNormal&quot;&gt;&lt;span style=&quot;font-size
 : 12.0pt\; line-height: 107%\;&quot;&gt;19:00 Reuni&amp;oacute\;n del Grupo Espa&amp;ntild
 e\;ol de IEEE Life Members&lt;/span&gt;&lt;/p&gt;\n&lt;p class=&quot;MsoNormal&quot;&gt;&lt;span style=&quot;f
 ont-size: 12.0pt\; line-height: 107%\;&quot;&gt;19:25 Introducci&amp;oacute\;n - Franc
 isco Arcega\, chair del Grupo de Life Members en IEEE Espa&amp;ntilde\;a.&lt;/spa
 n&gt;&lt;/p&gt;\n&lt;p class=&quot;MsoNormal&quot;&gt;&lt;span style=&quot;font-size: 12.0pt\; line-height:
  107%\;&quot;&gt;19:30 &quot;Impacto de las TIC y la IA en el consumo energ&amp;eacute\;tic
 o global&quot;\, Alberto Prieto\, Catedr&amp;aacute\;tico Em&amp;eacute\;rito del&amp;nbsp\
 ;Departamento de ingenier&amp;iacute\;a de Computadores\, Autom&amp;aacute\;tica y
  Rob&amp;oacute\;tica de la Universidad de Granada.&lt;/span&gt;&lt;/p&gt;\n&lt;p class=&quot;MsoN
 ormal&quot;&gt;&lt;span style=&quot;font-size: 12.0pt\; line-height: 107%\;&quot;&gt;20:10 Pregunt
 as.&lt;/span&gt;&lt;/p&gt;\n&lt;p class=&quot;MsoNormal&quot;&gt;&lt;span style=&quot;font-size: 12.0pt\; line
 -height: 107%\;&quot;&gt;20:30 Cierre de la sesi&amp;oacute\;n.&lt;/span&gt;&lt;/p&gt;\n&lt;p class=&quot;
 MsoNormal&quot;&gt;&amp;nbsp\;&lt;/p&gt;\n&lt;p class=&quot;MsoNormal&quot;&gt;&lt;span style=&quot;font-size: 12.0p
 t\; line-height: 107%\;&quot;&gt;Registro obligatorio para recibir el enlace de vi
 deoconferencia (webex).&lt;/span&gt;&lt;/p&gt;&lt;br /&gt;&lt;br /&gt;Agenda: &lt;br /&gt;&lt;p class=&quot;MsoN
 ormal&quot;&gt;&lt;span style=&quot;font-size: 12.0pt\; line-height: 107%\;&quot;&gt;Presentaci&amp;oa
 cute\;n del Grupo Espa&amp;ntilde\;ol de IEEE Life Members - Impacto de las TI
 C y la IA en el consumo energ&amp;eacute\;tico global&lt;/span&gt;&lt;/p&gt;\n&lt;p class=&quot;Ms
 oNormal&quot;&gt;&lt;span style=&quot;font-size: 12.0pt\; line-height: 107%\;&quot;&gt;19:00 Reuni
 &amp;oacute\;n del Grupo Espa&amp;ntilde\;ol de IEEE Life Members&lt;/span&gt;&lt;/p&gt;\n&lt;p c
 lass=&quot;MsoNormal&quot;&gt;&lt;span style=&quot;font-size: 12.0pt\; line-height: 107%\;&quot;&gt;19:
 25 Introducci&amp;oacute\;n - Francisco Arcega\, chair del Grupo de Life Membe
 rs en IEEE Espa&amp;ntilde\;a.&lt;/span&gt;&lt;/p&gt;\n&lt;p class=&quot;MsoNormal&quot;&gt;&lt;span style=&quot;f
 ont-size: 12.0pt\; line-height: 107%\;&quot;&gt;19:30 &quot;Impacto de las TIC y la IA 
 en el consumo energ&amp;eacute\;tico global&quot;\, Alberto Prieto\, Catedr&amp;aacute\
 ;tico Em&amp;eacute\;rito del&amp;nbsp\;Departamento de ingenier&amp;iacute\;a de Comp
 utadores\, Autom&amp;aacute\;tica y Rob&amp;oacute\;tica de la Universidad de Gran
 ada.&lt;/span&gt;&lt;/p&gt;\n&lt;p class=&quot;MsoNormal&quot;&gt;&lt;span style=&quot;font-size: 12.0pt\; lin
 e-height: 107%\;&quot;&gt;20:10 Preguntas.&lt;/span&gt;&lt;/p&gt;\n&lt;p class=&quot;MsoNormal&quot;&gt;&lt;span 
 style=&quot;font-size: 12.0pt\; line-height: 107%\;&quot;&gt;20:30 Cierre de la sesi&amp;oa
 cute\;n.&lt;/span&gt;&lt;/p&gt;\n&lt;p&gt;&amp;nbsp\;&lt;/p&gt;
END:VEVENT
END:VCALENDAR

