BEGIN:VCALENDAR
VERSION:2.0
PRODID:IEEE vTools.Events//EN
CALSCALE:GREGORIAN
BEGIN:VTIMEZONE
TZID:Asia/Kolkata
BEGIN:STANDARD
DTSTART:19451014T230000
TZOFFSETFROM:+0630
TZOFFSETTO:+0530
TZNAME:IST
END:STANDARD
END:VTIMEZONE
BEGIN:VEVENT
DTSTAMP:20260209T154027Z
UID:E756DB0F-CEE8-4497-9F45-D53DEA9F6767
DTSTART;TZID=Asia/Kolkata:20261118T090000
DTEND;TZID=Asia/Kolkata:20261118T160000
DESCRIPTION:Tech Talk: Signal Processing &amp; Image Processing is a technical 
 session aimed at introducing the fundamentals and applications of signal a
 nd image processing. The talk covers concepts such as signal analysis\, di
 gital signal processing techniques\, image enhancement\, filtering\, and r
 eal-world applications in areas like communication systems\, medical imagi
 ng\, and computer vision. Participants will gain conceptual clarity and aw
 areness of emerging trends in signal and image processing technologies.\n\
 nKrishnaraja pet\, Karnataka\, India\, 571426
LOCATION:Krishnaraja pet\, Karnataka\, India\, 571426
ORGANIZER:shivashankar.s@ieee.org
SEQUENCE:7
SUMMARY:Tech talk: Signal Processing &amp; Image Processing
URL;VALUE=URI:https://events.vtools.ieee.org/m/538151
X-ALT-DESC:Description: &lt;br /&gt;&lt;p data-start=&quot;140&quot; data-end=&quot;659&quot;&gt;&lt;em data-s
 tart=&quot;159&quot; data-end=&quot;208&quot;&gt;Tech Talk: Signal Processing &amp;amp\; Image Proces
 sing&lt;/em&gt; is a technical session aimed at introducing the fundamentals and
  applications of signal and image processing. The talk covers concepts suc
 h as signal analysis\, digital signal processing techniques\, image enhanc
 ement\, filtering\, and real-world applications in areas like communicatio
 n systems\, medical imaging\, and computer vision. Participants will gain 
 conceptual clarity and awareness of emerging trends in signal and image pr
 ocessing technologies.&lt;/p&gt;
END:VEVENT
END:VCALENDAR

