BEGIN:VCALENDAR
VERSION:2.0
PRODID:IEEE vTools.Events//EN
CALSCALE:GREGORIAN
BEGIN:VTIMEZONE
TZID:Australia/Sydney
BEGIN:DAYLIGHT
DTSTART:20251005T030000
TZOFFSETFROM:+1000
TZOFFSETTO:+1100
RRULE:FREQ=YEARLY;BYDAY=1SU;BYMONTH=10
TZNAME:AEDT
END:DAYLIGHT
BEGIN:STANDARD
DTSTART:20260405T020000
TZOFFSETFROM:+1100
TZOFFSETTO:+1000
RRULE:FREQ=YEARLY;BYDAY=1SU;BYMONTH=4
TZNAME:AEST
END:STANDARD
END:VTIMEZONE
BEGIN:VEVENT
DTSTAMP:20260310T225347Z
UID:F02AAA6B-1EB8-4998-A2F9-10B4A4229148
DTSTART;TZID=Australia/Sydney:20260303T123000
DTEND;TZID=Australia/Sydney:20260303T143000
DESCRIPTION:[Commercial Hotel - Parramatta]\n\nYou and other people interes
 ted in the IEEE are invited to join other members for lunch at the Commerc
 ial Hotel\, Parramatta at 1230hrs on Tuesday 3 March.\n\nFor those interes
 ted\, the menu can be found at [Menu.](https://www.thecommercialhotel.net.
 au/bistro/)\n\nThese are casual and informal events. An opportunity to dis
 cuss engineering and unrelated topics.\n\nTake it as an opportunity to get
  out\, enjoy the company and the food. As usual\, it is pay for yourself.\
 n\nThe Section is making these lunches a regular event. There are a number
  of people who take this opportunity to see the sights of Sydney using pub
 lic transport.\n\nThe lunches are every two weeks subject to suitable venu
 es being found. Please let me know if you have a suitable venue in your ar
 ea.\nThere are some being arranged outside the Sydney metro area.\nThe day
  of the week and time is flexible\, even weekends or evenings are possible
 .\nYour thoughts and assistance in planning would be appreciated.\n\nThe n
 ext lunch will be on Tuesday 17 March at at the Rose Hotel\, Chippendale..
 \n\nThere will be a dinner on Thursday 26 March in the Newcastle area at a
  venue TBA\, after the IICA Technology Expo which is at the Newcastle Ente
 rtainment Centre\, Brown Rd\, Broadmeadow\, NSW 2292. [Click for details o
 f the EXPO and registration.](https://iica.org.au/Web/Web/Events/Event_Dis
 play.aspx?EventKey=NSWNC26)\n\nHope to see you at the Commercial Hotel\, P
 arramatta or one of our future events.\nPlease register with your mobile n
 umber so the appropriate tables can be booked.\n\nAgenda: \n\n\n2 Hassal S
 treet \, Parramatta\, New South Wales\, Australia\, 2150
LOCATION:2 Hassal Street \, Parramatta\, New South Wales\, Australia\, 2150
ORGANIZER:Talbingo@optusnet.com.au
SEQUENCE:18
SUMMARY:Luncheon - Commercial Hotel\, Parramatta - Tuesday 3 March
URL;VALUE=URI:https://events.vtools.ieee.org/m/538260
X-ALT-DESC:Description: &lt;br /&gt;&lt;p&gt;&lt;img style=&quot;display: block\; margin-left: 
 auto\; margin-right: auto\;&quot; src=&quot;https://events.vtools.ieee.org/vtools_ui
 /media/display/e2467674-9725-4fb9-9cb2-84df625f516f&quot; alt=&quot;Commercial Hotel
  - Parramatta&quot; width=&quot;562&quot; height=&quot;281&quot;&gt;&lt;/p&gt;\n&lt;p&gt;You and other people inte
 rested in the IEEE are invited to join other members for lunch at the Comm
 ercial Hotel\, Parramatta at 1230hrs on Tuesday 3 March.&lt;/p&gt;\n&lt;p&gt;For those
  interested\, the menu can be found at &lt;a href=&quot;https://www.thecommercialh
 otel.net.au/bistro/&quot; target=&quot;_blank&quot; rel=&quot;noopener&quot;&gt;Menu.&lt;/a&gt;&lt;/p&gt;\n&lt;p&gt;Thes
 e are casual and informal events. An opportunity to discuss engineering an
 d unrelated topics.&lt;/p&gt;\n&lt;p&gt;Take it as an opportunity to get out\, enjoy t
 he company and the food. As usual\, it is pay for yourself.&lt;/p&gt;\n&lt;p&gt;The Se
 ction is making these lunches a regular event. There are a number of peopl
 e who take this opportunity to see the sights of Sydney using public trans
 port.&lt;/p&gt;\n&lt;p&gt;The lunches are every two weeks subject to suitable venues b
 eing found. Please let me know if you have a suitable venue in your area. 
 &lt;br&gt;There are some being arranged outside the Sydney metro area. &lt;br&gt;The d
 ay of the week and time is flexible\, even weekends or evenings are possib
 le. &lt;br&gt;Your thoughts and assistance in planning would be appreciated.&lt;/p&gt;
 \n&lt;p&gt;The next lunch will be on Tuesday 17 March at at the Rose Hotel\, Chi
 ppendale..&lt;/p&gt;\n&lt;p&gt;There will be a dinner on Thursday 26 March in the Newc
 astle area at a venue TBA\, after the IICA Technology Expo which is at the
  Newcastle Entertainment Centre\, Brown Rd\, Broadmeadow\, NSW 2292. &lt;a hr
 ef=&quot;https://iica.org.au/Web/Web/Events/Event_Display.aspx?EventKey=NSWNC26
 &quot;&gt;Click for details of the EXPO and registration.&lt;/a&gt;&lt;/p&gt;\n&lt;p&gt;Hope to see 
 you at the Commercial Hotel\, Parramatta or one of our future events.&lt;br&gt;P
 lease register with your mobile number so the appropriate tables can be bo
 oked.&lt;/p&gt;\n&lt;p&gt;&amp;nbsp\;&lt;/p&gt;\n&lt;p&gt;&amp;nbsp\;&lt;/p&gt;&lt;br /&gt;&lt;br /&gt;Agenda: &lt;br /&gt;&lt;p&gt;&lt;spa
 n style=&quot;font-size: 18pt\;&quot;&gt;&amp;nbsp\;&lt;/span&gt;&lt;/p&gt;\n&lt;p&gt;&amp;nbsp\;&lt;/p&gt;\n&lt;p&gt;&lt;span s
 tyle=&quot;font-size: 18pt\;&quot;&gt;&lt;span dir=&quot;ltr&quot; style=&quot;left: 65.24%\; top: 48.84%
 \; font-size: calc(var(--scale-factor)*14.40px)\; font-family: monospace\;
  transform: scaleX(0.998596)\;&quot; role=&quot;presentation&quot;&gt;&amp;nbsp\;&lt;/span&gt;&lt;/span&gt;&lt;
 /p&gt;
END:VEVENT
END:VCALENDAR

