BEGIN:VCALENDAR
VERSION:2.0
PRODID:IEEE vTools.Events//EN
CALSCALE:GREGORIAN
BEGIN:VTIMEZONE
TZID:America/New_York
BEGIN:DAYLIGHT
DTSTART:20260308T030000
TZOFFSETFROM:-0500
TZOFFSETTO:-0400
RRULE:FREQ=YEARLY;BYDAY=2SU;BYMONTH=3
TZNAME:EDT
END:DAYLIGHT
BEGIN:STANDARD
DTSTART:20251102T010000
TZOFFSETFROM:-0400
TZOFFSETTO:-0500
RRULE:FREQ=YEARLY;BYDAY=1SU;BYMONTH=11
TZNAME:EST
END:STANDARD
END:VTIMEZONE
BEGIN:VEVENT
DTSTAMP:20260215T055824Z
UID:4FD6443C-9CC9-4C93-BC18-27D7F34C2C4F
DTSTART;TZID=America/New_York:20260211T130000
DTEND;TZID=America/New_York:20260211T140000
DESCRIPTION:Dear All\,\n\nReminder: there will be an Inbox/Detox working gr
 oup meeting tomorrow\, Wednesday Feb 11th\, at 1pm Eastern (Noon Central\,
  11am Mountain\, 10am Pacific\, 11:30pm IST).\n\nWebex Meeting Link: [http
 s://ieee.webex.com/meet/awalter](https://enotice.mmsend.com/link.cfm?r=1Kt
 4TlnvR85EMmjqEzS2pw~~&amp;pe=epEaOZEY_rdwi-oblt7OBGfi_jaaX1OzmCh7Ac1G2rX2Ktpis
 DNXsfP8cl-s9Bme78ullsAEr_2VzjqAKGMo5Q~~&amp;t=0zKSlxCsorbLOxhBMwJe1Q~~)\n\nSee
  you in the meeting.\n\nBest regards\,\nChris Gunning and Mousmi\n\nVirtua
 l: https://events.vtools.ieee.org/m/538287
LOCATION:Virtual: https://events.vtools.ieee.org/m/538287
ORGANIZER:mousmi.ksu@gmail.com
SEQUENCE:12
SUMMARY: Inbox Detox Committee Meeting
URL;VALUE=URI:https://events.vtools.ieee.org/m/538287
X-ALT-DESC:Description: &lt;br /&gt;&lt;p&gt;Dear All\,&amp;nbsp\;&lt;/p&gt;\n&lt;p&gt;Reminder: there 
 will be an&amp;nbsp\;&lt;span class=&quot;il&quot;&gt;Inbox&lt;/span&gt;/Detox working group meeting
  tomorrow\, Wednesday Feb 11th\, at 1pm Eastern (Noon Central\, 11am Mount
 ain\, 10am Pacific\, 11:30pm IST).&lt;/p&gt;\n&lt;p&gt;Webex Meeting Link: &lt;a href=&quot;ht
 tps://enotice.mmsend.com/link.cfm?r=1Kt4TlnvR85EMmjqEzS2pw~~&amp;amp\;pe=epEaO
 ZEY_rdwi-oblt7OBGfi_jaaX1OzmCh7Ac1G2rX2KtpisDNXsfP8cl-s9Bme78ullsAEr_2Vzjq
 AKGMo5Q~~&amp;amp\;t=0zKSlxCsorbLOxhBMwJe1Q~~&quot; target=&quot;_blank&quot; rel=&quot;noopener&quot; 
 data-saferedirecturl=&quot;https://www.google.com/url?q=https://enotice.mmsend.
 com/link.cfm?r%3D1Kt4TlnvR85EMmjqEzS2pw~~%26pe%3DepEaOZEY_rdwi-oblt7OBGfi_
 jaaX1OzmCh7Ac1G2rX2KtpisDNXsfP8cl-s9Bme78ullsAEr_2VzjqAKGMo5Q~~%26t%3D0zKS
 lxCsorbLOxhBMwJe1Q~~&amp;amp\;source=gmail&amp;amp\;ust=1770139882960000&amp;amp\;usg=
 AOvVaw3wehqaVPrr15jvslreNnE6&quot;&gt;https://ieee.webex.com/meet/&lt;wbr&gt;awalter&lt;/a&gt;
 &lt;/p&gt;\n&lt;p&gt;See you in the meeting.&lt;/p&gt;\n&lt;p&gt;Best regards\,&lt;br&gt;Chris Gunning a
 nd Mousmi&lt;/p&gt;
END:VEVENT
END:VCALENDAR

