BEGIN:VCALENDAR
VERSION:2.0
PRODID:IEEE vTools.Events//EN
CALSCALE:GREGORIAN
BEGIN:VTIMEZONE
TZID:America/Los_Angeles
BEGIN:DAYLIGHT
DTSTART:20260308T030000
TZOFFSETFROM:-0800
TZOFFSETTO:-0700
RRULE:FREQ=YEARLY;BYDAY=2SU;BYMONTH=3
TZNAME:PDT
END:DAYLIGHT
BEGIN:STANDARD
DTSTART:20251102T010000
TZOFFSETFROM:-0700
TZOFFSETTO:-0800
RRULE:FREQ=YEARLY;BYDAY=1SU;BYMONTH=11
TZNAME:PST
END:STANDARD
END:VTIMEZONE
BEGIN:VEVENT
DTSTAMP:20260210T190752Z
UID:B450FFDD-65F6-4F5A-9398-AAE2534030BA
DTSTART;TZID=America/Los_Angeles:20260204T160000
DTEND;TZID=America/Los_Angeles:20260204T180000
DESCRIPTION:An introductory session to soldering with Jim Luby\, teaching t
 he technique of soldering wire to PCBs.\n\nRoom: Rocketry Room\, Bldg: Col
 lege Center\, 9600 College Way N.\, Seattle\, WA 98103\, Seattle\, Washing
 ton\, United States\, 9600
LOCATION:Room: Rocketry Room\, Bldg: College Center\, 9600 College Way N.\,
  Seattle\, WA 98103\, Seattle\, Washington\, United States\, 9600
ORGANIZER:engineeringclub@seattlecolleges.edu
SEQUENCE:0
SUMMARY:Soldering Tutorial
URL;VALUE=URI:https://events.vtools.ieee.org/m/538414
X-ALT-DESC:Description: &lt;br /&gt;&lt;p&gt;An introductory session to soldering with 
 Jim Luby\, teaching the technique of soldering wire to PCBs.&lt;/p&gt;
END:VEVENT
END:VCALENDAR

