BEGIN:VCALENDAR
VERSION:2.0
PRODID:IEEE vTools.Events//EN
CALSCALE:GREGORIAN
BEGIN:VTIMEZONE
TZID:America/New_York
BEGIN:DAYLIGHT
DTSTART:20260308T030000
TZOFFSETFROM:-0500
TZOFFSETTO:-0400
RRULE:FREQ=YEARLY;BYDAY=2SU;BYMONTH=3
TZNAME:EDT
END:DAYLIGHT
BEGIN:STANDARD
DTSTART:20251102T010000
TZOFFSETFROM:-0400
TZOFFSETTO:-0500
RRULE:FREQ=YEARLY;BYDAY=1SU;BYMONTH=11
TZNAME:EST
END:STANDARD
END:VTIMEZONE
BEGIN:VEVENT
DTSTAMP:20260214T005422Z
UID:0A64AB0B-AB08-4FBA-98C8-2318680C2756
DTSTART;TZID=America/New_York:20260212T143000
DTEND;TZID=America/New_York:20260212T170000
DESCRIPTION:The rapid proliferation of connected devices\, autonomous syste
 ms\, and data-driven services is transforming modern infrastructures into 
 highly networked\, intelligent ecosystems. From smart transportation and d
 igital healthcare to disaster response and edge AI applications\, these sy
 stems must not only deliver intelligence but also ensure resilience\, priv
 acy\, and adaptability in dynamic and uncertain environments.\n\nThis work
 shop brings together recent advances in intelligent networked systems that
  integrate distributed learning\, privacy-preserving mechanisms\, cooperat
 ive control\, and edge intelligence. A central theme is the design of syst
 ems that remain reliable\, secure\, and efficient while operating under re
 source constraints\, partial observability\, and evolving network conditio
 ns.\n\nSpeaker(s): Xiaohui\, Rongxing\, Nan\, Kuan\, Jianbing\n\nRoom: EIT
 -4152\, Bldg: Centre for Environmental &amp;. Information Technology\, Univers
 ity of Waterloo\, Waterloo\, Ontario\, Canada
LOCATION:Room: EIT-4152\, Bldg: Centre for Environmental &amp;. Information Tec
 hnology\, University of Waterloo\, Waterloo\, Ontario\, Canada
ORGANIZER:leil@uoguelph.ca
SEQUENCE:43
SUMMARY:Intelligent and Resilient Networked Systems
URL;VALUE=URI:https://events.vtools.ieee.org/m/538509
X-ALT-DESC:Description: &lt;br /&gt;&lt;p data-start=&quot;208&quot; data-end=&quot;622&quot;&gt;The rapid 
 proliferation of connected devices\, autonomous systems\, and data-driven 
 services is transforming modern infrastructures into highly networked\, in
 telligent ecosystems. From smart transportation and digital healthcare to 
 disaster response and edge AI applications\, these systems must not only d
 eliver intelligence but also ensure resilience\, privacy\, and adaptabilit
 y in dynamic and uncertain environments.&lt;/p&gt;\n&lt;p data-start=&quot;624&quot; data-end
 =&quot;999&quot;&gt;This workshop brings together recent advances in intelligent networ
 ked systems that integrate distributed learning\, privacy-preserving mecha
 nisms\, cooperative control\, and edge intelligence. A central theme is th
 e design of systems that remain reliable\, secure\, and efficient while op
 erating under resource constraints\, partial observability\, and evolving 
 network conditions.&lt;/p&gt;
END:VEVENT
END:VCALENDAR

