BEGIN:VCALENDAR
VERSION:2.0
PRODID:IEEE vTools.Events//EN
CALSCALE:GREGORIAN
BEGIN:VTIMEZONE
TZID:America/Los_Angeles
BEGIN:DAYLIGHT
DTSTART:20260308T030000
TZOFFSETFROM:-0800
TZOFFSETTO:-0700
RRULE:FREQ=YEARLY;BYDAY=2SU;BYMONTH=3
TZNAME:PDT
END:DAYLIGHT
BEGIN:STANDARD
DTSTART:20251102T010000
TZOFFSETFROM:-0700
TZOFFSETTO:-0800
RRULE:FREQ=YEARLY;BYDAY=1SU;BYMONTH=11
TZNAME:PST
END:STANDARD
END:VTIMEZONE
BEGIN:VEVENT
DTSTAMP:20260227T161710Z
UID:CA3A8845-E048-40F9-B63E-F331B3D2EF51
DTSTART;TZID=America/Los_Angeles:20260226T170000
DTEND;TZID=America/Los_Angeles:20260226T183000
DESCRIPTION:Join us as students present their Rising Stars Conference exper
 ience! Students from Eastern Washington University and Gonzaga University 
 attended Rising Stars\, a conference dedicated to students and young profe
 ssionals. For many of them\, this was their first conference experience. C
 ome listen as students give perspective on what they learned\, and what th
 ey look forward to as they enter industry.\n\nAgenda: \n5:00pm - 5:30pm - 
 Networking\n\n5:30pm - 6:30pm - Presentations\n\nBldg: Avista Building\, 1
 411 E Mission Ave\, Spokane\, Washington\, United States\, 99252
LOCATION:Bldg: Avista Building\, 1411 E Mission Ave\, Spokane\, Washington\
 , United States\, 99252
ORGANIZER:kathryn.warner@IEEE.org
SEQUENCE:14
SUMMARY:Rising Stars 2026 Conference Report at Avista
URL;VALUE=URI:https://events.vtools.ieee.org/m/538530
X-ALT-DESC:Description: &lt;br /&gt;&lt;p data-start=&quot;241&quot; data-end=&quot;417&quot;&gt;Join us as
  students present their Rising Stars Conference experience! Students from 
 Eastern Washington University and Gonzaga University attended Rising Stars
 \, a conference dedicated to students and young professionals. For many of
  them\, this was their first conference experience. Come listen as student
 s give perspective on what they learned\, and what they look forward to as
  they enter industry.&lt;/p&gt;&lt;br /&gt;&lt;br /&gt;Agenda: &lt;br /&gt;&lt;p style=&quot;padding-left:
  40px\;&quot;&gt;&lt;strong&gt;5:00pm - 5:30pm&amp;nbsp\; - Networking&lt;/strong&gt;&lt;/p&gt;\n&lt;p styl
 e=&quot;padding-left: 40px\;&quot;&gt;&lt;strong&gt;5:30pm - 6:30pm - Presentations&lt;/strong&gt;&lt;
 /p&gt;\n&lt;p style=&quot;padding-left: 40px\;&quot;&gt;&amp;nbsp\;&lt;/p&gt;
END:VEVENT
END:VCALENDAR

