BEGIN:VCALENDAR
VERSION:2.0
PRODID:IEEE vTools.Events//EN
CALSCALE:GREGORIAN
BEGIN:VTIMEZONE
TZID:America/New_York
BEGIN:DAYLIGHT
DTSTART:20260308T030000
TZOFFSETFROM:-0500
TZOFFSETTO:-0400
RRULE:FREQ=YEARLY;BYDAY=2SU;BYMONTH=3
TZNAME:EDT
END:DAYLIGHT
BEGIN:STANDARD
DTSTART:20251102T010000
TZOFFSETFROM:-0400
TZOFFSETTO:-0500
RRULE:FREQ=YEARLY;BYDAY=1SU;BYMONTH=11
TZNAME:EST
END:STANDARD
END:VTIMEZONE
BEGIN:VEVENT
DTSTAMP:20260220T202348Z
UID:9764778B-9A17-44B6-8905-531ED6AED47E
DTSTART;TZID=America/New_York:20260220T143000
DTEND;TZID=America/New_York:20260220T150000
DESCRIPTION:Agenda:\n\n-\nVote on IEEE WIE officers for 2026 (looking to fi
 ll secretary and treasurer roles\; Kayla is running again for Chair\, and 
 Dr. Kandel is running again for Vice Chair). Officer voting MUST occur at 
 this meeting\, or Kayla will lose access to vTools.\n\n-\nPlan MOAS Space 
 Day Event for Saturday\, March 14 from 11:00-4:00. Discuss table activity 
 and preparation.\n\n-\nDiscuss ways to recruit new members! Since we are n
 ot a student club\, we are looking for anyone\, even individuals from the 
 community\, to join! They should\, however\, be IEEE members.\n\nAgenda: \
 nAgenda:\n\n-\nVote on IEEE WIE officers for 2026 (looking to fill secreta
 ry and treasurer roles\; Kayla is running again for Chair\, and Dr. Kandel
  is running again for Vice Chair). Officer voting MUST occur at this meeti
 ng\, or Kayla will lose access to vTools.\n\n-\nPlan MOAS Space Day Event 
 for Saturday\, March 14 from 11:00-4:00. Discuss table activity and prepar
 ation.\n\n-\nDiscuss ways to recruit new members! Since we are not a stude
 nt club\, we are looking for anyone\, even individuals from the community\
 , to join! They should\, however\, be IEEE members.\n\nVirtual: https://ev
 ents.vtools.ieee.org/m/538678
LOCATION:Virtual: https://events.vtools.ieee.org/m/538678
ORGANIZER:taylok33@my.erau.edu
SEQUENCE:8
SUMMARY:IEEE WIE Daytona Section 2026 Officer Election
URL;VALUE=URI:https://events.vtools.ieee.org/m/538678
X-ALT-DESC:Description: &lt;br /&gt;&lt;div&gt;Agenda:&lt;/div&gt;\n&lt;div&gt;&amp;nbsp\;&lt;/div&gt;\n&lt;ol s
 tart=&quot;1&quot; data-editing-info=&quot;{&amp;quot\;applyListStyleFromLevel&amp;quot\;:false\,
 &amp;quot\;orderedStyleType&amp;quot\;:1}&quot;&gt;\n&lt;li&gt;\n&lt;div role=&quot;presentation&quot;&gt;Vote o
 n IEEE WIE officers for 2026 (looking to fill secretary and treasurer role
 s\; Kayla is running again for Chair\, and Dr. Kandel is running again for
  Vice Chair). Officer voting MUST occur at this meeting\, or Kayla will lo
 se access to vTools.&lt;/div&gt;\n&lt;div role=&quot;presentation&quot;&gt;&amp;nbsp\;&lt;/div&gt;\n&lt;/li&gt;\
 n&lt;li&gt;\n&lt;div role=&quot;presentation&quot;&gt;Plan MOAS Space Day Event for Saturday\, M
 arch 14 from 11:00-4:00. Discuss table activity and preparation.&lt;/div&gt;\n&lt;d
 iv role=&quot;presentation&quot;&gt;&amp;nbsp\;&lt;/div&gt;\n&lt;/li&gt;\n&lt;li&gt;\n&lt;div role=&quot;presentation
 &quot;&gt;Discuss ways to recruit new members! Since we are not a student club\, w
 e are looking for anyone\, even individuals from the community\, to join! 
 They should\, however\, be IEEE members.&lt;/div&gt;\n&lt;/li&gt;\n&lt;/ol&gt;&lt;br /&gt;&lt;br /&gt;Ag
 enda: &lt;br /&gt;&lt;div&gt;Agenda:&lt;/div&gt;\n&lt;div&gt;&amp;nbsp\;&lt;/div&gt;\n&lt;ol start=&quot;1&quot; data-edi
 ting-info=&quot;{&amp;quot\;applyListStyleFromLevel&amp;quot\;:false\,&amp;quot\;orderedSty
 leType&amp;quot\;:1}&quot;&gt;\n&lt;li&gt;\n&lt;div role=&quot;presentation&quot;&gt;Vote on IEEE WIE office
 rs for 2026 (looking to fill secretary and treasurer roles\; Kayla is runn
 ing again for Chair\, and Dr. Kandel is running again for Vice Chair). Off
 icer voting MUST occur at this meeting\, or Kayla will lose access to vToo
 ls.&lt;/div&gt;\n&lt;div role=&quot;presentation&quot;&gt;&amp;nbsp\;&lt;/div&gt;\n&lt;/li&gt;\n&lt;li&gt;\n&lt;div role=
 &quot;presentation&quot;&gt;Plan MOAS Space Day Event for Saturday\, March 14 from 11:0
 0-4:00. Discuss table activity and preparation.&lt;/div&gt;\n&lt;div role=&quot;presenta
 tion&quot;&gt;&amp;nbsp\;&lt;/div&gt;\n&lt;/li&gt;\n&lt;li&gt;\n&lt;div role=&quot;presentation&quot;&gt;Discuss ways to
  recruit new members! Since we are not a student club\, we are looking for
  anyone\, even individuals from the community\, to join! They should\, how
 ever\, be IEEE members.&lt;/div&gt;\n&lt;/li&gt;\n&lt;/ol&gt;
END:VEVENT
END:VCALENDAR

