BEGIN:VCALENDAR
VERSION:2.0
PRODID:IEEE vTools.Events//EN
CALSCALE:GREGORIAN
BEGIN:VTIMEZONE
TZID:America/Halifax
BEGIN:DAYLIGHT
DTSTART:20260308T030000
TZOFFSETFROM:-0400
TZOFFSETTO:-0300
RRULE:FREQ=YEARLY;BYDAY=2SU;BYMONTH=3
TZNAME:ADT
END:DAYLIGHT
BEGIN:STANDARD
DTSTART:20251102T010000
TZOFFSETFROM:-0300
TZOFFSETTO:-0400
RRULE:FREQ=YEARLY;BYDAY=1SU;BYMONTH=11
TZNAME:AST
END:STANDARD
END:VTIMEZONE
BEGIN:VEVENT
DTSTAMP:20260219T174630Z
UID:6064DA66-2821-4E06-90A2-B23D5DBD2AD1
DTSTART;TZID=America/Halifax:20260217T150000
DTEND;TZID=America/Halifax:20260217T163000
DESCRIPTION:This hands-on PCB design workshop introduces students to the co
 mplete printed circuit board (PCB) design process by guiding them to creat
 e a personalized LED name board. Participants will learn how to design a s
 imple LED and resistor circuit\, lay out components\, route traces\, and a
 dd custom text or graphics using KiCad\, a free and open-source PCB design
  tool.\n\nBy the end of the session\, students will export fabrication-rea
 dy Gerber files and gain practical insight into how real PCBs are designed
  and manufactured. No prior PCB experience is required\; this workshop is 
 beginner-friendly and focused on learning by doing.\n\nAgenda: \nWorkshop 
 Agenda\n\n-\nIntroduction to Printed Circuit Boards (PCBs)\n\n-\nLED Circu
 it Design Using KiCad\n\n-\nPCB Layout and Trace Routing\n\n-\nPersonalizi
 ng the Board (Name &amp; Silkscreen Design)\n\n-\nExporting Gerber Files for F
 abrication\n\n-\nQ&amp;A and Next Steps\n\nRoom:  H114 \, Bldg: UNB Head Hall 
 \, 15 Dineen Drive\, \, Fredericton\, New Brunswick\, Canada\,  E3B 5A3
LOCATION:Room:  H114 \, Bldg: UNB Head Hall \, 15 Dineen Drive\, \, Frederi
 cton\, New Brunswick\, Canada\,  E3B 5A3
ORGANIZER:faezeh.bashiri@unb.ca
SEQUENCE:17
SUMMARY:PCB Workshop
URL;VALUE=URI:https://events.vtools.ieee.org/m/538731
X-ALT-DESC:Description: &lt;br /&gt;&lt;p data-start=&quot;159&quot; data-end=&quot;530&quot;&gt;This hands
 -on PCB design workshop introduces students to the complete printed circui
 t board (PCB) design process by guiding them to create a personalized &lt;str
 ong data-start=&quot;313&quot; data-end=&quot;331&quot;&gt;LED name board&lt;/strong&gt;. Participants 
 will learn how to design a simple LED and resistor circuit\, lay out compo
 nents\, route traces\, and add custom text or graphics using &lt;strong data-
 start=&quot;478&quot; data-end=&quot;487&quot;&gt;KiCad&lt;/strong&gt;\, a free and open-source PCB des
 ign tool.&lt;/p&gt;\n&lt;p data-start=&quot;532&quot; data-end=&quot;796&quot;&gt;By the end of the sessio
 n\, students will export fabrication-ready &lt;strong data-start=&quot;598&quot; data-e
 nd=&quot;614&quot;&gt;Gerber files&lt;/strong&gt; and gain practical insight into how real PC
 Bs are designed and manufactured. No prior PCB experience is required\; th
 is workshop is beginner-friendly and focused on learning by doing.&lt;/p&gt;&lt;br 
 /&gt;&lt;br /&gt;Agenda: &lt;br /&gt;&lt;p data-start=&quot;79&quot; data-end=&quot;98&quot;&gt;&lt;strong data-start=
 &quot;79&quot; data-end=&quot;98&quot;&gt;Workshop Agenda&lt;/strong&gt;&lt;/p&gt;\n&lt;ol data-start=&quot;100&quot; data
 -end=&quot;344&quot;&gt;\n&lt;li data-start=&quot;100&quot; data-end=&quot;150&quot;&gt;\n&lt;p data-start=&quot;103&quot; dat
 a-end=&quot;150&quot;&gt;Introduction to Printed Circuit Boards (PCBs)&lt;/p&gt;\n&lt;/li&gt;\n&lt;li 
 data-start=&quot;151&quot; data-end=&quot;186&quot;&gt;\n&lt;p data-start=&quot;154&quot; data-end=&quot;186&quot;&gt;LED C
 ircuit Design Using KiCad&lt;/p&gt;\n&lt;/li&gt;\n&lt;li data-start=&quot;187&quot; data-end=&quot;220&quot;&gt;
 \n&lt;p data-start=&quot;190&quot; data-end=&quot;220&quot;&gt;PCB Layout and Trace Routing&lt;/p&gt;\n&lt;/l
 i&gt;\n&lt;li data-start=&quot;221&quot; data-end=&quot;276&quot;&gt;\n&lt;p data-start=&quot;224&quot; data-end=&quot;27
 6&quot;&gt;Personalizing the Board (Name &amp;amp\; Silkscreen Design)&lt;/p&gt;\n&lt;/li&gt;\n&lt;li
  data-start=&quot;277&quot; data-end=&quot;320&quot;&gt;\n&lt;p data-start=&quot;280&quot; data-end=&quot;320&quot;&gt;Expo
 rting Gerber Files for Fabrication&lt;/p&gt;\n&lt;/li&gt;\n&lt;li data-start=&quot;321&quot; data-e
 nd=&quot;344&quot;&gt;\n&lt;p data-start=&quot;324&quot; data-end=&quot;344&quot;&gt;Q&amp;amp\;A and Next Steps&lt;/p&gt;\
 n&lt;/li&gt;\n&lt;/ol&gt;
END:VEVENT
END:VCALENDAR

